BEGIN:VCALENDAR
VERSION:2.0
PRODID:-//Construction Public Information - ECPv6.5.2//NONSGML v1.0//EN
CALSCALE:GREGORIAN
METHOD:PUBLISH
X-WR-CALNAME:Construction Public Information
X-ORIGINAL-URL:https://constructionpublicinfo.ua.edu
X-WR-CALDESC:Events for Construction Public Information
REFRESH-INTERVAL;VALUE=DURATION:PT1H
X-Robots-Tag:noindex
X-PUBLISHED-TTL:PT1H
BEGIN:VTIMEZONE
TZID:America/Chicago
BEGIN:DAYLIGHT
TZOFFSETFROM:-0600
TZOFFSETTO:-0500
TZNAME:CDT
DTSTART:20210314T080000
END:DAYLIGHT
BEGIN:STANDARD
TZOFFSETFROM:-0500
TZOFFSETTO:-0600
TZNAME:CST
DTSTART:20211107T070000
END:STANDARD
END:VTIMEZONE
BEGIN:VEVENT
DTSTART;VALUE=DATE:20210302
DTEND;VALUE=DATE:20210303
DTSTAMP:20260419T165034
CREATED:20210222T172438Z
LAST-MODIFIED:20210222T172438Z
UID:6700-1614643200-1614729599@constructionpublicinfo.ua.edu
SUMMARY:Pre-Qualifications:  Bryce Campus U & I #UTL-21-2491
DESCRIPTION:Loading...\n						\n					\n					\n						\n							\n							Taking too long?\n						\n						\n							\n								 Reload document							\n							|\n							\n								 Open in new tab							\n					 \n				\n			\n		Download [72.50 KB]  \n			\n				\n					\n						\n							\n							Loading...\n						\n					\n					\n						\n							\n							Taking too long?\n						\n						\n							\n								 Reload document							\n							|\n							\n								 Open in new tab							\n					 \n				\n			\n		Download [117.48 KB]  \n			\n				\n					\n						\n							\n							Loading...\n						\n					\n					\n						\n							\n							Taking too long?\n						\n						\n							\n								 Reload document							\n							|\n							\n								 Open in new tab							\n					 \n				\n			\n		Download [234.11 KB]
URL:https://constructionpublicinfo.ua.edu/bid/pre-qualifications-bryce-campus-u-i-utl-21-2491/
LOCATION:AL
CATEGORIES:Prequalifications
END:VEVENT
BEGIN:VEVENT
DTSTART;TZID=America/Chicago:20210302T140000
DTEND;TZID=America/Chicago:20210302T150000
DTSTAMP:20260419T165034
CREATED:20210119T182005Z
LAST-MODIFIED:20210119T184031Z
UID:6559-1614693600-1614697200@constructionpublicinfo.ua.edu
SUMMARY:Bid Opening:  Woods Hall Balcony Repairs #214-19-2065A
DESCRIPTION:Join from PC\, Mac\, Linux\, iOS or Android: https://uasystem.zoom.us/j/96651350740 \nOr iPhone one-tap : \nUS: +16465588656\,\,96651350740#  or +13017158592\,\,96651350740# \nOr Telephone: \nDial(for higher quality\, dial a number based on your current location): \nUS: +1 646 558 8656  or +1 301 715 8592  or +1 312 626 6799  or +1 669 900 6833  or +1 253 215 8782  or +1 346 248 7799 \nMeeting ID: 966 5135 0740 \nOr an H.323/SIP room system: \nH.323: \n162.255.37.11 (US West) \n162.255.36.11 (US East) \nMeeting ID: 966 5135 0740 \nSIP: 96651350740@zoomcrc.com \n——————————————————– \n			\n				\n					\n						\n							\n							Loading...\n						\n					\n					\n						\n							\n							Taking too long?\n						\n						\n							\n								 Reload document							\n							|\n							\n								 Open in new tab							\n					 \n				\n			\n		Download [74.52 KB]  \n			\n				\n					\n						\n							\n							Loading...\n						\n					\n					\n						\n							\n							Taking too long?\n						\n						\n							\n								 Reload document							\n							|\n							\n								 Open in new tab							\n					 \n				\n			\n		Download [121.42 KB]  \n			\n				\n					\n						\n							\n							Loading...\n						\n					\n					\n						\n							\n							Taking too long?\n						\n						\n							\n								 Reload document							\n							|\n							\n								 Open in new tab							\n					 \n				\n			\n		Download [216.57 KB]
URL:https://constructionpublicinfo.ua.edu/bid/bid-opening-woods-hall-balcony-repairs-214-19-2065a/
LOCATION:Procurement Services Annex – 405 Cahaba Circle\, Tuscaloosa\, AL 35404\, 405 Cahaba Circle\, Alabama\, AL\, 35404\, United States
CATEGORIES:Bid Openings
ORGANIZER;CN="Leila Ahmady":MAILTO:lahmady@ua.edu
END:VEVENT
END:VCALENDAR