BEGIN:VCALENDAR
VERSION:2.0
PRODID:-//Construction Public Information - ECPv6.5.2//NONSGML v1.0//EN
CALSCALE:GREGORIAN
METHOD:PUBLISH
X-WR-CALNAME:Construction Public Information
X-ORIGINAL-URL:https://constructionpublicinfo.ua.edu
X-WR-CALDESC:Events for Construction Public Information
REFRESH-INTERVAL;VALUE=DURATION:PT1H
X-Robots-Tag:noindex
X-PUBLISHED-TTL:PT1H
BEGIN:VTIMEZONE
TZID:America/Chicago
BEGIN:DAYLIGHT
TZOFFSETFROM:-0600
TZOFFSETTO:-0500
TZNAME:CDT
DTSTART:20210314T080000
END:DAYLIGHT
BEGIN:STANDARD
TZOFFSETFROM:-0500
TZOFFSETTO:-0600
TZNAME:CST
DTSTART:20211107T070000
END:STANDARD
END:VTIMEZONE
BEGIN:VEVENT
DTSTART;TZID=America/Chicago:20210311T100000
DTEND;TZID=America/Chicago:20210311T110000
DTSTAMP:20260419T134858
CREATED:20210222T172208Z
LAST-MODIFIED:20210309T144954Z
UID:6698-1615456800-1615460400@constructionpublicinfo.ua.edu
SUMMARY:Pre-Bid:  Bryce Campus U & I #UTL-21-2491
DESCRIPTION:Join from PC\, Mac\, Linux\, iOS or Android: https://uasystem.zoom.us/j/98550623887 \nOr iPhone one-tap : \nUS: +16465588656\,\,98550623887#  or +13017158592\,\,98550623887# \nOr Telephone: \nDial(for higher quality\, dial a number based on your current location): \nUS: +1 646 558 8656  or +1 301 715 8592  or +1 312 626 6799  or +1 669 900 6833  or +1 253 215 8782  or +1 346 248 7799 \nMeeting ID: 985 5062 3887 \nOr an H.323/SIP room system: \nH.323: \n162.255.37.11 (US West) \n162.255.36.11 (US East) \nMeeting ID: 985 5062 3887 \nSIP: 98550623887@zoomcrc.com \n—————————————- \n			\n				\n					\n						\n							\n							Loading...\n						\n					\n					\n						\n							\n							Taking too long?\n						\n						\n							\n								 Reload document							\n							|\n							\n								 Open in new tab							\n					 \n				\n			\n		Download [72.50 KB]  \n			\n				\n					\n						\n							\n							Loading...\n						\n					\n					\n						\n							\n							Taking too long?\n						\n						\n							\n								 Reload document							\n							|\n							\n								 Open in new tab							\n					 \n				\n			\n		Download [117.48 KB]  \n			\n				\n					\n						\n							\n							Loading...\n						\n					\n					\n						\n							\n							Taking too long?\n						\n						\n							\n								 Reload document							\n							|\n							\n								 Open in new tab							\n					 \n				\n			\n		Download [234.11 KB]
URL:https://constructionpublicinfo.ua.edu/bid/pre-bid-bryce-campus-u-i-utl-21-2491/
LOCATION:Procurement Services Annex – 405 Cahaba Circle\, Tuscaloosa\, AL 35404\, 405 Cahaba Circle\, Alabama\, AL\, 35404\, United States
CATEGORIES:Pre-Bid Conference
END:VEVENT
BEGIN:VEVENT
DTSTART;TZID=America/Chicago:20210311T110000
DTEND;TZID=America/Chicago:20210311T120000
DTSTAMP:20260419T134858
CREATED:20210301T181241Z
LAST-MODIFIED:20210309T145050Z
UID:6752-1615460400-1615464000@constructionpublicinfo.ua.edu
SUMMARY:Pre-Bid:  Campus Wide Security Camera Improvements #000-19-2176
DESCRIPTION:Join from PC\, Mac\, Linux\, iOS or Android: https://uasystem.zoom.us/j/93972069959 \nOr iPhone one-tap : \nUS: +13126266799\,\,93972069959#  or +16465588656\,\,93972069959# \nOr Telephone: \nDial(for higher quality\, dial a number based on your current location): \nUS: +1 312 626 6799  or +1 646 558 8656  or +1 301 715 8592  or +1 346 248 7799  or +1 669 900 6833  or +1 253 215 8782 \nMeeting ID: 939 7206 9959 \nOr an H.323/SIP room system: \nH.323: \n162.255.37.11 (US West) \n162.255.36.11 (US East) \nMeeting ID: 939 7206 9959 \nSIP: 93972069959@zoomcrc.com \n—————————————— \n			\n				\n					\n						\n							\n							Loading...\n						\n					\n					\n						\n							\n							Taking too long?\n						\n						\n							\n								 Reload document							\n							|\n							\n								 Open in new tab							\n					 \n				\n			\n		Download [72.70 KB]  \n			\n				\n					\n						\n							\n							Loading...\n						\n					\n					\n						\n							\n							Taking too long?\n						\n						\n							\n								 Reload document							\n							|\n							\n								 Open in new tab							\n					 \n				\n			\n		Download [103.10 KB]  \n			\n				\n					\n						\n							\n							Loading...\n						\n					\n					\n						\n							\n							Taking too long?\n						\n						\n							\n								 Reload document							\n							|\n							\n								 Open in new tab							\n					 \n				\n			\n		Download [277.13 KB]
URL:https://constructionpublicinfo.ua.edu/bid/pre-bid-campus-wide-security-camera-improvements-000-19-2176-2/
LOCATION:Procurement Services Annex – 405 Cahaba Circle\, Tuscaloosa\, AL 35404\, 405 Cahaba Circle\, Alabama\, AL\, 35404\, United States
CATEGORIES:Pre-Bid Conference
ORGANIZER;CN="Terrence Craven":MAILTO:tmcraven@ua.edu
END:VEVENT
END:VCALENDAR