BEGIN:VCALENDAR
VERSION:2.0
PRODID:-//Construction Public Information - ECPv6.5.2//NONSGML v1.0//EN
CALSCALE:GREGORIAN
METHOD:PUBLISH
X-WR-CALNAME:Construction Public Information
X-ORIGINAL-URL:https://constructionpublicinfo.ua.edu
X-WR-CALDESC:Events for Construction Public Information
REFRESH-INTERVAL;VALUE=DURATION:PT1H
X-Robots-Tag:noindex
X-PUBLISHED-TTL:PT1H
BEGIN:VTIMEZONE
TZID:America/Chicago
BEGIN:DAYLIGHT
TZOFFSETFROM:-0600
TZOFFSETTO:-0500
TZNAME:CDT
DTSTART:20210314T080000
END:DAYLIGHT
BEGIN:STANDARD
TZOFFSETFROM:-0500
TZOFFSETTO:-0600
TZNAME:CST
DTSTART:20211107T070000
END:STANDARD
END:VTIMEZONE
BEGIN:VEVENT
DTSTART;TZID=America/Chicago:20210318T100000
DTEND;TZID=America/Chicago:20210318T110000
DTSTAMP:20260419T085543
CREATED:20210222T173643Z
LAST-MODIFIED:20210225T161714Z
UID:6707-1616061600-1616065200@constructionpublicinfo.ua.edu
SUMMARY:Pre-Bid:  Capital Hall AMSTI #419-21-2545
DESCRIPTION:Join from PC\, Mac\, Linux\, iOS or Android: https://uasystem.zoom.us/j/93059864259 \nOr iPhone one-tap : \nUS: +13017158592\,\,93059864259#  or +13126266799\,\,93059864259# \nOr Telephone: \nDial(for higher quality\, dial a number based on your current location): \nUS: +1 301 715 8592  or +1 312 626 6799  or +1 646 558 8656  or +1 253 215 8782  or +1 346 248 7799  or +1 669 900 6833 \nMeeting ID: 930 5986 4259 \nOr an H.323/SIP room system: \nH.323: \n162.255.37.11 (US West) \n162.255.36.11 (US East) \nMeeting ID: 930 5986 4259 \nSIP: 93059864259@zoomcrc.com \n————————————- \n			\n				\n					\n						\n							\n							Loading...\n						\n					\n					\n						\n							\n							Taking too long?\n						\n						\n							\n								 Reload document							\n							|\n							\n								 Open in new tab							\n					 \n				\n			\n		Download [74.18 KB]  \n			\n				\n					\n						\n							\n							Loading...\n						\n					\n					\n						\n							\n							Taking too long?\n						\n						\n							\n								 Reload document							\n							|\n							\n								 Open in new tab							\n					 \n				\n			\n		Download [117.70 KB]  \n			\n				\n					\n						\n							\n							Loading...\n						\n					\n					\n						\n							\n							Taking too long?\n						\n						\n							\n								 Reload document							\n							|\n							\n								 Open in new tab							\n					 \n				\n			\n		Download [234.31 KB]
URL:https://constructionpublicinfo.ua.edu/bid/pre-bid-capital-hall-amsti-419-21-2545/
LOCATION:Procurement Services Annex – 405 Cahaba Circle\, Tuscaloosa\, AL 35404\, 405 Cahaba Circle\, Alabama\, AL\, 35404\, United States
CATEGORIES:Pre-Bid Conference
END:VEVENT
BEGIN:VEVENT
DTSTART;TZID=America/Chicago:20210318T110000
DTEND;TZID=America/Chicago:20210318T120000
DTSTAMP:20260419T085543
CREATED:20210301T175733Z
LAST-MODIFIED:20210309T145346Z
UID:6734-1616065200-1616068800@constructionpublicinfo.ua.edu
SUMMARY:Pre-Bid:  Superintendents House Restoration - Elevator Package #417-21-2494B
DESCRIPTION:Join from PC\, Mac\, Linux\, iOS or Android: https://uasystem.zoom.us/j/94091662554 \nOr iPhone one-tap : \nUS: +13017158592\,\,94091662554#  or +13126266799\,\,94091662554# \nOr Telephone: \nDial(for higher quality\, dial a number based on your current location): \nUS: +1 301 715 8592  or +1 312 626 6799  or +1 646 558 8656  or +1 253 215 8782  or +1 346 248 7799  or +1 669 900 6833 \nMeeting ID: 940 9166 2554 \nOr an H.323/SIP room system: \nH.323: \n162.255.37.11 (US West) \n162.255.36.11 (US East) \nMeeting ID: 940 9166 2554 \nSIP: 94091662554@zoomcrc.com \n————————————- \n			\n				\n					\n						\n							\n							Loading...\n						\n					\n					\n						\n							\n							Taking too long?\n						\n						\n							\n								 Reload document							\n							|\n							\n								 Open in new tab							\n					 \n				\n			\n		Download [74.48 KB]  \n			\n				\n					\n						\n							\n							Loading...\n						\n					\n					\n						\n							\n							Taking too long?\n						\n						\n							\n								 Reload document							\n							|\n							\n								 Open in new tab							\n					 \n				\n			\n		Download [118.54 KB]  \n			\n				\n					\n						\n							\n							Loading...\n						\n					\n					\n						\n							\n							Taking too long?\n						\n						\n							\n								 Reload document							\n							|\n							\n								 Open in new tab							\n					 \n				\n			\n		Download [282.52 KB]
URL:https://constructionpublicinfo.ua.edu/bid/pre-bid-superintendents-house-restoration-elevator-package-417-21-2494b/
LOCATION:Procurement Services Annex – 405 Cahaba Circle\, Tuscaloosa\, AL 35404\, 405 Cahaba Circle\, Alabama\, AL\, 35404\, United States
CATEGORIES:Pre-Bid Conference
END:VEVENT
BEGIN:VEVENT
DTSTART;TZID=America/Chicago:20210318T140000
DTEND;TZID=America/Chicago:20210318T150000
DTSTAMP:20260419T085543
CREATED:20210301T181109Z
LAST-MODIFIED:20210309T145432Z
UID:6747-1616076000-1616079600@constructionpublicinfo.ua.edu
SUMMARY:Bid Opening:  Campus Wide Security Camera Improvements #000-19-2176
DESCRIPTION:Join from PC\, Mac\, Linux\, iOS or Android: https://uasystem.zoom.us/j/99511558011 \nOr iPhone one-tap : \nUS: +13017158592\,\,99511558011#  or +13126266799\,\,99511558011# \nOr Telephone: \nDial(for higher quality\, dial a number based on your current location): \nUS: +1 301 715 8592  or +1 312 626 6799  or +1 646 558 8656  or +1 253 215 8782  or +1 346 248 7799  or +1 669 900 6833 \nMeeting ID: 995 1155 8011 \nOr an H.323/SIP room system: \nH.323: \n162.255.37.11 (US West) \n162.255.36.11 (US East) \nMeeting ID: 995 1155 8011 \nSIP: 99511558011@zoomcrc.com \n———————————– \n			\n				\n					\n						\n							\n							Loading...\n						\n					\n					\n						\n							\n							Taking too long?\n						\n						\n							\n								 Reload document							\n							|\n							\n								 Open in new tab							\n					 \n				\n			\n		Download [72.70 KB]  \n			\n				\n					\n						\n							\n							Loading...\n						\n					\n					\n						\n							\n							Taking too long?\n						\n						\n							\n								 Reload document							\n							|\n							\n								 Open in new tab							\n					 \n				\n			\n		Download [103.10 KB]  \n			\n				\n					\n						\n							\n							Loading...\n						\n					\n					\n						\n							\n							Taking too long?\n						\n						\n							\n								 Reload document							\n							|\n							\n								 Open in new tab							\n					 \n				\n			\n		Download [277.13 KB]
URL:https://constructionpublicinfo.ua.edu/bid/bid-opening-campus-wide-security-camera-improvements-000-19-2176-2/
LOCATION:Procurement Services Annex – 405 Cahaba Circle\, Tuscaloosa\, AL 35404\, 405 Cahaba Circle\, Alabama\, AL\, 35404\, United States
CATEGORIES:Bid Openings
ORGANIZER;CN="Terrence Craven":MAILTO:tmcraven@ua.edu
END:VEVENT
END:VCALENDAR