BEGIN:VCALENDAR
VERSION:2.0
PRODID:-//Construction Public Information - ECPv6.5.2//NONSGML v1.0//EN
CALSCALE:GREGORIAN
METHOD:PUBLISH
X-WR-CALNAME:Construction Public Information
X-ORIGINAL-URL:https://constructionpublicinfo.ua.edu
X-WR-CALDESC:Events for Construction Public Information
REFRESH-INTERVAL;VALUE=DURATION:PT1H
X-Robots-Tag:noindex
X-PUBLISHED-TTL:PT1H
BEGIN:VTIMEZONE
TZID:America/Chicago
BEGIN:DAYLIGHT
TZOFFSETFROM:-0600
TZOFFSETTO:-0500
TZNAME:CDT
DTSTART:20210314T080000
END:DAYLIGHT
BEGIN:STANDARD
TZOFFSETFROM:-0500
TZOFFSETTO:-0600
TZNAME:CST
DTSTART:20211107T070000
END:STANDARD
END:VTIMEZONE
BEGIN:VEVENT
DTSTART;VALUE=DATE:20210323
DTEND;VALUE=DATE:20210324
DTSTAMP:20260419T151839
CREATED:20210309T151616Z
LAST-MODIFIED:20210309T151616Z
UID:6805-1616457600-1616543999@constructionpublicinfo.ua.edu
SUMMARY:Pre-Qualifications:  Clinical Services & Research MRI Add. - Early Foundation Pkg. #018-20-2305
DESCRIPTION:Loading...\n						\n					\n					\n						\n							\n							Taking too long?\n						\n						\n							\n								 Reload document							\n							|\n							\n								 Open in new tab							\n					 \n				\n			\n		Download [96.32 KB]  \n			\n				\n					\n						\n							\n							Loading...\n						\n					\n					\n						\n							\n							Taking too long?\n						\n						\n							\n								 Reload document							\n							|\n							\n								 Open in new tab							\n					 \n				\n			\n		Download [119.45 KB]  \n			\n				\n					\n						\n							\n							Loading...\n						\n					\n					\n						\n							\n							Taking too long?\n						\n						\n							\n								 Reload document							\n							|\n							\n								 Open in new tab							\n					 \n				\n			\n		Download [283.00 KB]
URL:https://constructionpublicinfo.ua.edu/bid/pre-qualifications-clinical-services-research-mri-add-early-foundation-pkg-018-20-2305/
LOCATION:AL
CATEGORIES:Prequalifications
ORGANIZER;CN="David Jones":MAILTO:dajones11@ua.edu
END:VEVENT
BEGIN:VEVENT
DTSTART;TZID=America/Chicago:20210323T100000
DTEND;TZID=America/Chicago:20210323T110000
DTSTAMP:20260419T151839
CREATED:20210301T174610Z
LAST-MODIFIED:20210309T145527Z
UID:6723-1616493600-1616497200@constructionpublicinfo.ua.edu
SUMMARY:Pre-Bid:  Superintendents House Restoration #417-21-2494C
DESCRIPTION:Join from PC\, Mac\, Linux\, iOS or Android: https://uasystem.zoom.us/j/93802507306 \nOr iPhone one-tap : \nUS: +16465588656\,\,93802507306#  or +13017158592\,\,93802507306# \nOr Telephone: \nDial(for higher quality\, dial a number based on your current location): \nUS: +1 646 558 8656  or +1 301 715 8592  or +1 312 626 6799  or +1 669 900 6833  or +1 253 215 8782  or +1 346 248 7799 \nMeeting ID: 938 0250 7306 \nOr an H.323/SIP room system: \nH.323: \n162.255.37.11 (US West) \n162.255.36.11 (US East) \nMeeting ID: 938 0250 7306 \nSIP: 93802507306@zoomcrc.com \n———————————– \n			\n				\n					\n						\n							\n							Loading...\n						\n					\n					\n						\n							\n							Taking too long?\n						\n						\n							\n								 Reload document							\n							|\n							\n								 Open in new tab							\n					 \n				\n			\n		Download [73.47 KB]  \n			\n				\n					\n						\n							\n							Loading...\n						\n					\n					\n						\n							\n							Taking too long?\n						\n						\n							\n								 Reload document							\n							|\n							\n								 Open in new tab							\n					 \n				\n			\n		Download [116.41 KB]  \n			\n				\n					\n						\n							\n							Loading...\n						\n					\n					\n						\n							\n							Taking too long?\n						\n						\n							\n								 Reload document							\n							|\n							\n								 Open in new tab							\n					 \n				\n			\n		Download [282.80 KB]
URL:https://constructionpublicinfo.ua.edu/bid/pre-bid-superintendents-house-restoration-417-21-2494c/
LOCATION:Procurement Services Annex – 405 Cahaba Circle\, Tuscaloosa\, AL 35404\, 405 Cahaba Circle\, Alabama\, AL\, 35404\, United States
CATEGORIES:Pre-Bid Conference
END:VEVENT
BEGIN:VEVENT
DTSTART;TZID=America/Chicago:20210323T140000
DTEND;TZID=America/Chicago:20210323T150000
DTSTAMP:20260419T151839
CREATED:20210208T150122Z
LAST-MODIFIED:20210216T181413Z
UID:6620-1616508000-1616511600@constructionpublicinfo.ua.edu
SUMMARY:Pre-Bid:  Pinehurst #11 Exterior Renovations #243-20-2184
DESCRIPTION:Join from PC\, Mac\, Linux\, iOS or Android: https://uasystem.zoom.us/j/96330559889 \nOr iPhone one-tap : \nUS: +13126266799\,\,96330559889#  or +16465588656\,\,96330559889# \nOr Telephone: \nDial(for higher quality\, dial a number based on your current location): \nUS: +1 312 626 6799  or +1 646 558 8656  or +1 301 715 8592  or +1 346 248 7799  or +1 669 900 6833  or +1 253 215 8782 \nMeetin \nOr an H.323/SIP room system: \nH.323: \n162.255.37.11 (US West) \n162.255.36.11 (US East) \nMeeting ID: 963 3055 9889 \nSIP: 96330559889@zoomcrc.com \n————————————– \n			\n				\n					\n						\n							\n							Loading...\n						\n					\n					\n						\n							\n							Taking too long?\n						\n						\n							\n								 Reload document							\n							|\n							\n								 Open in new tab							\n					 \n				\n			\n		Download [75.46 KB]  \n			\n				\n					\n						\n							\n							Loading...\n						\n					\n					\n						\n							\n							Taking too long?\n						\n						\n							\n								 Reload document							\n							|\n							\n								 Open in new tab							\n					 \n				\n			\n		Download [118.88 KB]  \n			\n				\n					\n						\n							\n							Loading...\n						\n					\n					\n						\n							\n							Taking too long?\n						\n						\n							\n								 Reload document							\n							|\n							\n								 Open in new tab							\n					 \n				\n			\n		Download [285.13 KB]
URL:https://constructionpublicinfo.ua.edu/bid/pre-bid-pinehurst-11-exterior-renovations-243-20-2184-2/
LOCATION:Procurement Services Annex – 405 Cahaba Circle\, Tuscaloosa\, AL 35404\, 405 Cahaba Circle\, Alabama\, AL\, 35404\, United States
CATEGORIES:Pre-Bid Conference
ORGANIZER;CN="Steven Mercado":MAILTO:smmercado@ua.edu
END:VEVENT
END:VCALENDAR