BEGIN:VCALENDAR
VERSION:2.0
PRODID:-//Construction Public Information - ECPv6.5.2//NONSGML v1.0//EN
CALSCALE:GREGORIAN
METHOD:PUBLISH
X-WR-CALNAME:Construction Public Information
X-ORIGINAL-URL:https://constructionpublicinfo.ua.edu
X-WR-CALDESC:Events for Construction Public Information
REFRESH-INTERVAL;VALUE=DURATION:PT1H
X-Robots-Tag:noindex
X-PUBLISHED-TTL:PT1H
BEGIN:VTIMEZONE
TZID:America/Chicago
BEGIN:DAYLIGHT
TZOFFSETFROM:-0600
TZOFFSETTO:-0500
TZNAME:CDT
DTSTART:20210314T080000
END:DAYLIGHT
BEGIN:STANDARD
TZOFFSETFROM:-0500
TZOFFSETTO:-0600
TZNAME:CST
DTSTART:20211107T070000
END:STANDARD
END:VTIMEZONE
BEGIN:VEVENT
DTSTART;VALUE=DATE:20210330
DTEND;VALUE=DATE:20210331
DTSTAMP:20260419T150638
CREATED:20210315T154812Z
LAST-MODIFIED:20210315T154812Z
UID:6824-1617062400-1617148799@constructionpublicinfo.ua.edu
SUMMARY:Pre-Qualifications:  Ferguson Center - Chick-Fil-A #022-20-2322
DESCRIPTION:Loading...\n						\n					\n					\n						\n							\n							Taking too long?\n						\n						\n							\n								 Reload document							\n							|\n							\n								 Open in new tab							\n					 \n				\n			\n		Download [74.28 KB]  \n			\n				\n					\n						\n							\n							Loading...\n						\n					\n					\n						\n							\n							Taking too long?\n						\n						\n							\n								 Reload document							\n							|\n							\n								 Open in new tab							\n					 \n				\n			\n		Download [117.39 KB]  \n			\n				\n					\n						\n							\n							Loading...\n						\n					\n					\n						\n							\n							Taking too long?\n						\n						\n							\n								 Reload document							\n							|\n							\n								 Open in new tab							\n					 \n				\n			\n		Download [245.84 KB]
URL:https://constructionpublicinfo.ua.edu/bid/pre-qualifications-ferguson-center-chick-fil-a-022-20-2322/
LOCATION:AL
CATEGORIES:Prequalifications
ORGANIZER;CN="Suzanne Webster":MAILTO:scirbywebster@ua.edu
END:VEVENT
BEGIN:VEVENT
DTSTART;VALUE=DATE:20210330
DTEND;VALUE=DATE:20210331
DTSTAMP:20260419T150638
CREATED:20210315T155706Z
LAST-MODIFIED:20210315T155706Z
UID:6833-1617062400-1617148799@constructionpublicinfo.ua.edu
SUMMARY:Pre-Qualifications:  Ferguson Center - Starbucks #022-20-2484
DESCRIPTION:Loading...\n						\n					\n					\n						\n							\n							Taking too long?\n						\n						\n							\n								 Reload document							\n							|\n							\n								 Open in new tab							\n					 \n				\n			\n		Download [76.13 KB]  \n			\n				\n					\n						\n							\n							Loading...\n						\n					\n					\n						\n							\n							Taking too long?\n						\n						\n							\n								 Reload document							\n							|\n							\n								 Open in new tab							\n					 \n				\n			\n		Download [117.38 KB]  \n			\n				\n					\n						\n							\n							Loading...\n						\n					\n					\n						\n							\n							Taking too long?\n						\n						\n							\n								 Reload document							\n							|\n							\n								 Open in new tab							\n					 \n				\n			\n		Download [245.82 KB]
URL:https://constructionpublicinfo.ua.edu/bid/pre-qualifications-ferguson-center-starbucks-022-20-2484/
LOCATION:AL
CATEGORIES:Prequalifications
ORGANIZER;CN="Suzanne Webster":MAILTO:scirbywebster@ua.edu
END:VEVENT
BEGIN:VEVENT
DTSTART;VALUE=DATE:20210330
DTEND;VALUE=DATE:20210331
DTSTAMP:20260419T150638
CREATED:20210315T160552Z
LAST-MODIFIED:20210315T160552Z
UID:6842-1617062400-1617148799@constructionpublicinfo.ua.edu
SUMMARY:Pre-Qualifications:  Highlands HVAC Replacement #664-20-2289
DESCRIPTION:Loading...\n						\n					\n					\n						\n							\n							Taking too long?\n						\n						\n							\n								 Reload document							\n							|\n							\n								 Open in new tab							\n					 \n				\n			\n		Download [74.06 KB]  \n			\n				\n					\n						\n							\n							Loading...\n						\n					\n					\n						\n							\n							Taking too long?\n						\n						\n							\n								 Reload document							\n							|\n							\n								 Open in new tab							\n					 \n				\n			\n		Download [117.59 KB]  \n			\n				\n					\n						\n							\n							Loading...\n						\n					\n					\n						\n							\n							Taking too long?\n						\n						\n							\n								 Reload document							\n							|\n							\n								 Open in new tab							\n					 \n				\n			\n		Download [234.11 KB]
URL:https://constructionpublicinfo.ua.edu/bid/pre-qualifications-highlands-hvac-replacement-664-20-2289/
LOCATION:AL
CATEGORIES:Prequalifications
END:VEVENT
BEGIN:VEVENT
DTSTART;VALUE=DATE:20210330
DTEND;VALUE=DATE:20210331
DTSTAMP:20260419T150638
CREATED:20210322T021232Z
LAST-MODIFIED:20210322T021242Z
UID:6860-1617062400-1617148799@constructionpublicinfo.ua.edu
SUMMARY:Pre-Qualifications:  Integrated Security System Management #SC-21-001
DESCRIPTION:Loading...\n						\n					\n					\n						\n							\n							Taking too long?\n						\n						\n							\n								 Reload document							\n							|\n							\n								 Open in new tab							\n					 \n				\n			\n		Download [69.17 KB]  \n			\n				\n					\n						\n							\n							Loading...\n						\n					\n					\n						\n							\n							Taking too long?\n						\n						\n							\n								 Reload document							\n							|\n							\n								 Open in new tab							\n					 \n				\n			\n		Download [100.00 KB]
URL:https://constructionpublicinfo.ua.edu/bid/pre-qualifications-integrated-security-system-management-sc-21-001/
LOCATION:AL
CATEGORIES:Prequalifications
END:VEVENT
END:VCALENDAR