BEGIN:VCALENDAR
VERSION:2.0
PRODID:-//Construction Public Information - ECPv6.5.2//NONSGML v1.0//EN
CALSCALE:GREGORIAN
METHOD:PUBLISH
X-WR-CALNAME:Construction Public Information
X-ORIGINAL-URL:https://constructionpublicinfo.ua.edu
X-WR-CALDESC:Events for Construction Public Information
REFRESH-INTERVAL;VALUE=DURATION:PT1H
X-Robots-Tag:noindex
X-PUBLISHED-TTL:PT1H
BEGIN:VTIMEZONE
TZID:America/Chicago
BEGIN:DAYLIGHT
TZOFFSETFROM:-0600
TZOFFSETTO:-0500
TZNAME:CDT
DTSTART:20210314T080000
END:DAYLIGHT
BEGIN:STANDARD
TZOFFSETFROM:-0500
TZOFFSETTO:-0600
TZNAME:CST
DTSTART:20211107T070000
END:STANDARD
END:VTIMEZONE
BEGIN:VEVENT
DTSTART;VALUE=DATE:20210427
DTEND;VALUE=DATE:20210428
DTSTAMP:20260421T144614
CREATED:20210412T152420Z
LAST-MODIFIED:20210412T152420Z
UID:6963-1619481600-1619567999@constructionpublicinfo.ua.edu
SUMMARY:Pre-Qualifications:  Al. Transportation Center - Elevator Package #430-20-2412(PSCA #2012\, DCM #2020680)
DESCRIPTION:Loading...\n						\n					\n					\n						\n							\n							Taking too long?\n						\n						\n							\n								 Reload document							\n							|\n							\n								 Open in new tab							\n					 \n				\n			\n		Download [78.22 KB]  \n			\n				\n					\n						\n							\n							Loading...\n						\n					\n					\n						\n							\n							Taking too long?\n						\n						\n							\n								 Reload document							\n							|\n							\n								 Open in new tab							\n					 \n				\n			\n		Download [125.71 KB]  \n			\n				\n					\n						\n							\n							Loading...\n						\n					\n					\n						\n							\n							Taking too long?\n						\n						\n							\n								 Reload document							\n							|\n							\n								 Open in new tab							\n					 \n				\n			\n		Download [283.56 KB]
URL:https://constructionpublicinfo.ua.edu/bid/pre-qualifications-al-transportation-center-elevator-package-430-20-2412psca-2012-dcm-2020680/
LOCATION:AL
CATEGORIES:Prequalifications
ORGANIZER;CN="Tommy Alfano":MAILTO:talfano1@ua.edu
END:VEVENT
BEGIN:VEVENT
DTSTART;TZID=America/Chicago:20210427T090000
DTEND;TZID=America/Chicago:20210427T100000
DTSTAMP:20260421T144614
CREATED:20210419T143004Z
LAST-MODIFIED:20210426T165436Z
UID:7010-1619514000-1619517600@constructionpublicinfo.ua.edu
SUMMARY:Pre-Bid:  Campus Event Fencing #000-20-2427
DESCRIPTION:Join from PC\, Mac\, Linux\, iOS or Android: https://uasystem.zoom.us/j/95224701030 \nOr iPhone one-tap : \nUS: +13017158592\,\,95224701030#  or +13126266799\,\,95224701030# \nOr Telephone: \nDial(for higher quality\, dial a number based on your current location): \nUS: +1 301 715 8592  or +1 312 626 6799  or +1 646 558 8656  or +1 253 215 8782  or +1 346 248 7799  or +1 669 900 6833 \nMeeting ID: 952 2470 1030 \nOr an H.323/SIP room system: \nH.323: \n162.255.37.11 (US West) \n162.255.36.11 (US East) \nMeeting ID: 952 2470 1030 \nSIP: 95224701030@zoomcrc.com \n————————————— \n			\n				\n					\n						\n							\n							Loading...\n						\n					\n					\n						\n							\n							Taking too long?\n						\n						\n							\n								 Reload document							\n							|\n							\n								 Open in new tab							\n					 \n				\n			\n		Download [72.39 KB]  \n			\n				\n					\n						\n							\n							Loading...\n						\n					\n					\n						\n							\n							Taking too long?\n						\n						\n							\n								 Reload document							\n							|\n							\n								 Open in new tab							\n					 \n				\n			\n		Download [105.42 KB]  \n			\n				\n					\n						\n							\n							Loading...\n						\n					\n					\n						\n							\n							Taking too long?\n						\n						\n							\n								 Reload document							\n							|\n							\n								 Open in new tab							\n					 \n				\n			\n		Download
URL:https://constructionpublicinfo.ua.edu/bid/pre-bid-campus-event-fencing-000-20-2427-3/
LOCATION:Procurement Services Annex – 405 Cahaba Circle\, Tuscaloosa\, AL 35404\, 405 Cahaba Circle\, Alabama\, AL\, 35404\, United States
CATEGORIES:Pre-Bid Conference
END:VEVENT
BEGIN:VEVENT
DTSTART;TZID=America/Chicago:20210427T100000
DTEND;TZID=America/Chicago:20210427T110000
DTSTAMP:20260421T144619
CREATED:20210329T021847Z
LAST-MODIFIED:20210405T154108Z
UID:6896-1619517600-1619521200@constructionpublicinfo.ua.edu
SUMMARY:Pre-Bid:  Ferguson Center Sanitary #022-21-2539
DESCRIPTION:Join from PC\, Mac\, Linux\, iOS or Android: https://uasystem.zoom.us/j/98731497820 \nOr iPhone one-tap : \nUS: +16465588656\,\,98731497820#  or +13017158592\,\,98731497820# \nOr Telephone: \nDial(for higher quality\, dial a number based on your current location): \nUS: +1 646 558 8656  or +1 301 715 8592  or +1 312 626 6799  or +1 669 900 6833  or +1 253 215 8782  or +1 346 248 7799 \nMeeting ID: 987 3149 7820 \nOr an H.323/SIP room system: \nH.323: \n162.255.37.11 (US West) \n162.255.36.11 (US East) \nMeeting ID: 987 3149 7820 \nSIP: 98731497820@zoomcrc.com \n————————– \n			\n				\n					\n						\n							\n							Loading...\n						\n					\n					\n						\n							\n							Taking too long?\n						\n						\n							\n								 Reload document							\n							|\n							\n								 Open in new tab							\n					 \n				\n			\n		Download [117.90 KB]  \n			\n				\n					\n						\n							\n							Loading...\n						\n					\n					\n						\n							\n							Taking too long?\n						\n						\n							\n								 Reload document							\n							|\n							\n								 Open in new tab							\n					 \n				\n			\n		Download [117.90 KB]  \n			\n				\n					\n						\n							\n							Loading...\n						\n					\n					\n						\n							\n							Taking too long?\n						\n						\n							\n								 Reload document							\n							|\n							\n								 Open in new tab							\n					 \n				\n			\n		Download [245.97 KB]
URL:https://constructionpublicinfo.ua.edu/bid/pre-bid-ferguson-center-sanitary-022-21-2539/
LOCATION:Procurement Services Annex – 405 Cahaba Circle\, Tuscaloosa\, AL 35404\, 405 Cahaba Circle\, Alabama\, AL\, 35404\, United States
CATEGORIES:Pre-Bid Conference
ORGANIZER;CN="Suzanne Webster":MAILTO:scirbywebster@ua.edu
END:VEVENT
BEGIN:VEVENT
DTSTART;TZID=America/Chicago:20210427T110000
DTEND;TZID=America/Chicago:20210427T120000
DTSTAMP:20260421T144619
CREATED:20210412T152830Z
LAST-MODIFIED:20210412T155838Z
UID:6970-1619521200-1619524800@constructionpublicinfo.ua.edu
SUMMARY:Pre-Bid:  Bryant-Denny Stadium West HVAC Equipment Replacement #046-21-2522
DESCRIPTION:Join from PC\, Mac\, Linux\, iOS or Android: https://uasystem.zoom.us/j/92433628098 \nOr iPhone one-tap : \nUS: +13017158592\,\,92433628098#  or +13126266799\,\,92433628098# \nOr Telephone: \nDial(for higher quality\, dial a number based on your current location): \nUS: +1 301 715 8592  or +1 312 626 6799  or +1 646 558 8656  or +1 253 215 8782  or +1 346 248 7799  or +1 669 900 6833 \nMeeting ID: 924 3362 8098 \nOr an H.323/SIP room system: \nH.323: \n162.255.37.11 (US West) \n162.255.36.11 (US East) \nMeeting ID: 924 3362 8098 \nSIP: 92433628098@zoomcrc.com \n\n			\n				\n					\n						\n							\n							Loading...\n						\n					\n					\n						\n							\n							Taking too long?\n						\n						\n							\n								 Reload document							\n							|\n							\n								 Open in new tab							\n					 \n				\n			\n		Download [74.32 KB]  \n			\n				\n					\n						\n							\n							Loading...\n						\n					\n					\n						\n							\n							Taking too long?\n						\n						\n							\n								 Reload document							\n							|\n							\n								 Open in new tab							\n					 \n				\n			\n		Download [116.94 KB]  \n			\n				\n					\n						\n							\n							Loading...\n						\n					\n					\n						\n							\n							Taking too long?\n						\n						\n							\n								 Reload document							\n							|\n							\n								 Open in new tab							\n					 \n				\n			\n		Download [234.19 KB]
URL:https://constructionpublicinfo.ua.edu/bid/pre-bid-bryant-denny-stadium-west-hvac-equipment-replacement-046-21-2522/
LOCATION:Procurement Services Annex – 405 Cahaba Circle\, Tuscaloosa\, AL 35404\, 405 Cahaba Circle\, Alabama\, AL\, 35404\, United States
CATEGORIES:Pre-Bid Conference
ORGANIZER;CN="Sommer Coleman":MAILTO:shcoleman1@ua.edu
END:VEVENT
BEGIN:VEVENT
DTSTART;TZID=America/Chicago:20210427T140000
DTEND;TZID=America/Chicago:20210427T150000
DTSTAMP:20260421T144619
CREATED:20210315T160106Z
LAST-MODIFIED:20210316T152744Z
UID:6835-1619532000-1619535600@constructionpublicinfo.ua.edu
SUMMARY:Bid Opening:  Highlands HVAC Replacement #664-20-2289
DESCRIPTION:Join from PC\, Mac\, Linux\, iOS or Android: https://uasystem.zoom.us/j/94527954257 \nOr iPhone one-tap : \nUS: +13126266799\,\,94527954257#  or +16465588656\,\,94527954257# \nOr Telephone: \nDial(for higher quality\, dial a number based on your current location): \nUS: +1 312 626 6799  or +1 646 558 8656  or +1 301 715 8592  or +1 346 248 7799  or +1 669 900 6833  or +1 253 215 8782 \nMeeting ID: 945 2795 4257 \nOr an H.323/SIP room system: \nH.323: \n162.255.37.11 (US West) \n162.255.36.11 (US East) \nMeeting ID: 945 2795 4257 \nSIP: 94527954257@zoomcrc.com \n—————————————— \n			\n				\n					\n						\n							\n							Loading...\n						\n					\n					\n						\n							\n							Taking too long?\n						\n						\n							\n								 Reload document							\n							|\n							\n								 Open in new tab							\n					 \n				\n			\n		Download [74.06 KB]  \n			\n				\n					\n						\n							\n							Loading...\n						\n					\n					\n						\n							\n							Taking too long?\n						\n						\n							\n								 Reload document							\n							|\n							\n								 Open in new tab							\n					 \n				\n			\n		Download [117.59 KB]  \n			\n				\n					\n						\n							\n							Loading...\n						\n					\n					\n						\n							\n							Taking too long?\n						\n						\n							\n								 Reload document							\n							|\n							\n								 Open in new tab							\n					 \n				\n			\n		Download [234.11 KB]
URL:https://constructionpublicinfo.ua.edu/bid/bid-opening-highlands-hvac-replacement-664-20-2289/
LOCATION:Procurement Services Annex – 405 Cahaba Circle\, Tuscaloosa\, AL 35404\, 405 Cahaba Circle\, Alabama\, AL\, 35404\, United States
CATEGORIES:Bid Openings
END:VEVENT
BEGIN:VEVENT
DTSTART;TZID=America/Chicago:20210427T150000
DTEND;TZID=America/Chicago:20210427T160000
DTSTAMP:20260421T144619
CREATED:20210412T153858Z
LAST-MODIFIED:20210421T132612Z
UID:6988-1619535600-1619539200@constructionpublicinfo.ua.edu
SUMMARY:Pre-Bid:  ten Hoor Stair Improvements #LAN-20-2238
DESCRIPTION:Join from PC\, Mac\, Linux\, iOS or Android: https://uasystem.zoom.us/j/92228567995 \nOr iPhone one-tap : \nUS: +16465588656\,\,92228567995#  or +13017158592\,\,92228567995# \nOr Telephone: \nDial(for higher quality\, dial a number based on your current location): \nUS: +1 646 558 8656  or +1 301 715 8592  or +1 312 626 6799  or +1 669 900 6833  or +1 253 215 8782  or +1 346 248 7799 \nMeeting ID: 922 2856 7995 \nOr an H.323/SIP room system: \nH.323: \n162.255.37.11 (US West) \n162.255.36.11 (US East) \nMeeting ID: 922 2856 7995 \nSIP: 92228567995@zoomcrc.com \n————————————– \n			\n				\n					\n						\n							\n							Loading...\n						\n					\n					\n						\n							\n							Taking too long?\n						\n						\n							\n								 Reload document							\n							|\n							\n								 Open in new tab							\n					 \n				\n			\n		Download [71.51 KB]  \n			\n				\n					\n						\n							\n							Loading...\n						\n					\n					\n						\n							\n							Taking too long?\n						\n						\n							\n								 Reload document							\n							|\n							\n								 Open in new tab							\n					 \n				\n			\n		Download [104.25 KB]  \n			\n				\n					\n						\n							\n							Loading...\n						\n					\n					\n						\n							\n							Taking too long?\n						\n						\n							\n								 Reload document							\n							|\n							\n								 Open in new tab							\n					 \n				\n			\n		Download [253.52 KB]
URL:https://constructionpublicinfo.ua.edu/bid/pre-bid-ten-hoor-stair-improvements-lan-20-2238/
LOCATION:Procurement Services Annex – 405 Cahaba Circle\, Tuscaloosa\, AL 35404\, 405 Cahaba Circle\, Alabama\, AL\, 35404\, United States
CATEGORIES:Pre-Bid Conference
ORGANIZER;CN="Terrence Craven":MAILTO:tmcraven@ua.edu
END:VEVENT
BEGIN:VEVENT
DTSTART;TZID=America/Chicago:20210427T160000
DTEND;TZID=America/Chicago:20210427T170000
DTSTAMP:20260421T144619
CREATED:20210214T173512Z
LAST-MODIFIED:20210412T181945Z
UID:6638-1619539200-1619542800@constructionpublicinfo.ua.edu
SUMMARY:Bid Opening:  Bryant Denny Stadium - West Sunshade Canopy Recoating #046-21-2521
DESCRIPTION:Join from PC\, Mac\, Linux\, iOS or Android: https://uasystem.zoom.us/j/91502310170 \nOr iPhone one-tap : \nUS: +13126266799\,\,91502310170#  or +16465588656\,\,91502310170# \nOr Telephone: \nDial(for higher quality\, dial a number based on your current location): \nUS: +1 312 626 6799  or +1 646 558 8656  or +1 301 715 8592  or +1 346 248 7799  or +1 669 900 6833  or +1 253 215 8782 \nMeeting ID: 915 0231 0170 \nOr an H.323/SIP room system: \nH.323: \n162.255.37.11 (US West) \n162.255.36.11 (US East) \nMeeting ID: 915 0231 0170 \nSIP: 91502310170@zoomcrc.com \n————————————————– \n			\n				\n					\n						\n							\n							Loading...\n						\n					\n					\n						\n							\n							Taking too long?\n						\n						\n							\n								 Reload document							\n							|\n							\n								 Open in new tab							\n					 \n				\n			\n		Download [74.00 KB]  \n			\n				\n					\n						\n							\n							Loading...\n						\n					\n					\n						\n							\n							Taking too long?\n						\n						\n							\n								 Reload document							\n							|\n							\n								 Open in new tab							\n					 \n				\n			\n		Download [116.89 KB]  \n			\n				\n					\n						\n							\n							Loading...\n						\n					\n					\n						\n							\n							Taking too long?\n						\n						\n							\n								 Reload document							\n							|\n							\n								 Open in new tab							\n					 \n				\n			\n		Download [234.10 KB]
URL:https://constructionpublicinfo.ua.edu/bid/bid-opening-bryant-denny-stadium-west-sunshade-canopy-recoating-046-21-2521/
LOCATION:Procurement Services Annex – 405 Cahaba Circle\, Tuscaloosa\, AL 35404\, 405 Cahaba Circle\, Alabama\, AL\, 35404\, United States
CATEGORIES:Bid Openings
ORGANIZER;CN="Sommer Coleman":MAILTO:shcoleman1@ua.edu
END:VEVENT
END:VCALENDAR