BEGIN:VCALENDAR
VERSION:2.0
PRODID:-//Construction Public Information - ECPv6.5.2//NONSGML v1.0//EN
CALSCALE:GREGORIAN
METHOD:PUBLISH
X-WR-CALNAME:Construction Public Information
X-ORIGINAL-URL:https://constructionpublicinfo.ua.edu
X-WR-CALDESC:Events for Construction Public Information
REFRESH-INTERVAL;VALUE=DURATION:PT1H
X-Robots-Tag:noindex
X-PUBLISHED-TTL:PT1H
BEGIN:VTIMEZONE
TZID:America/Chicago
BEGIN:DAYLIGHT
TZOFFSETFROM:-0600
TZOFFSETTO:-0500
TZNAME:CDT
DTSTART:20210314T080000
END:DAYLIGHT
BEGIN:STANDARD
TZOFFSETFROM:-0500
TZOFFSETTO:-0600
TZNAME:CST
DTSTART:20211107T070000
END:STANDARD
END:VTIMEZONE
BEGIN:VEVENT
DTSTART;TZID=America/Chicago:20210524T080000
DTEND;TZID=America/Chicago:20210601T170000
DTSTAMP:20260422T013039
CREATED:20210525T060046Z
LAST-MODIFIED:20210525T220118Z
UID:7197-1621843200-1622566800@constructionpublicinfo.ua.edu
SUMMARY:RFQ Taylor Hardin 96 Bed Addition and Renovation (1099-20-2356)
DESCRIPTION:Loading...\n						\n					\n					\n						\n							\n							Taking too long?\n						\n						\n							\n								 Reload document							\n							|\n							\n								 Open in new tab							\n					 \n				\n			\n		Download [228.60 KB]   viewer=”google”]tps://constructionpublicinfo.ua.edu/wp-content/uploads/RFPs-and-RFQs/RFQ-Construction-Materials-Testing-1099-20-2356.pdf” width=”75%” height=”75%” download=”all” viewer=”google”]			\n				\n					\n						\n							\n							Loading...\n						\n					\n					\n						\n							\n							Taking too long?\n						\n						\n							\n								 Reload document							\n							|\n							\n								 Open in new tab							\n					 \n				\n			\n		Download [212.33 KB]   \nDownload [72.21 KB]
URL:https://constructionpublicinfo.ua.edu/bid/rfq-taylor-hardin-96-bed-addition-and-renovation-1099-20-2356/
LOCATION:AL
ORGANIZER;CN="Vince Dooley":MAILTO:vddooley@ua.edu
END:VEVENT
BEGIN:VEVENT
DTSTART;TZID=America/Chicago:20210527T100000
DTEND;TZID=America/Chicago:20210527T110000
DTSTAMP:20260422T013039
CREATED:20210510T173227Z
LAST-MODIFIED:20210517T135607Z
UID:7113-1622109600-1622113200@constructionpublicinfo.ua.edu
SUMMARY:Pre-Bid:  Medium Voltage Improvements #UTL-18-1704
DESCRIPTION:Join from PC\, Mac\, Linux\, iOS or Android: https://uasystem.zoom.us/j/91404944994 \nOr iPhone one-tap : \nUS: +13017158592\,\,91404944994#  or +13126266799\,\,91404944994# \nOr Telephone: \nDial(for higher quality\, dial a number based on your current location): \nUS: +1 301 715 8592  or +1 312 626 6799  or +1 646 558 8656  or +1 253 215 8782  or +1 346 248 7799  or +1 669 900 6833 \nMeeting ID: 914 0494 4994 \nOr an H.323/SIP room system: \nH.323: \n162.255.37.11 (US West) \n162.255.36.11 (US East) \nMeeting ID: 914 0494 4994 \nSIP: 91404944994@zoomcrc.com \n—————— \n			\n				\n					\n						\n							\n							Loading...\n						\n					\n					\n						\n							\n							Taking too long?\n						\n						\n							\n								 Reload document							\n							|\n							\n								 Open in new tab							\n					 \n				\n			\n		Download [73.22 KB]  \n			\n				\n					\n						\n							\n							Loading...\n						\n					\n					\n						\n							\n							Taking too long?\n						\n						\n							\n								 Reload document							\n							|\n							\n								 Open in new tab							\n					 \n				\n			\n		Download [120.11 KB]  \n			\n				\n					\n						\n							\n							Loading...\n						\n					\n					\n						\n							\n							Taking too long?\n						\n						\n							\n								 Reload document							\n							|\n							\n								 Open in new tab							\n					 \n				\n			\n		Download [245.70 KB]
URL:https://constructionpublicinfo.ua.edu/bid/pre-bid-medium-voltage-improvements-utl-18-1704/
LOCATION:Procurement Services Annex – 405 Cahaba Circle\, Tuscaloosa\, AL 35404\, 405 Cahaba Circle\, Alabama\, AL\, 35404\, United States
CATEGORIES:Pre-Bid Conference
END:VEVENT
BEGIN:VEVENT
DTSTART;TZID=America/Chicago:20210527T110000
DTEND;TZID=America/Chicago:20210527T120000
DTSTAMP:20260422T013039
CREATED:20210517T133835Z
LAST-MODIFIED:20210525T163629Z
UID:7137-1622113200-1622116800@constructionpublicinfo.ua.edu
SUMMARY:Pre-Bid:  AIME 2nd Floor Lab Improvements #252-21-2530
DESCRIPTION:Join from PC\, Mac\, Linux\, iOS or Android: https://uasystem.zoom.us/j/93848055779 \nOr iPhone one-tap : \nUS: +13126266799\,\,93848055779#  or +16465588656\,\,93848055779# Or Telephone: \nDial(for higher quality\, dial a number based on your current location): \nUS: +1 312 626 6799  or +1 646 558 8656  or +1 301 715 8592  or +1 346 248 7799  or +1 669 900 6833  or +1 253 215 8782 \nMeeting ID: 938 4805 5779 \nOr an H.323/SIP room system: \nH.323: \n162.255.37.11 (US West) \n162.255.36.11 (US East) \nMeeting ID: 938 4805 5779 \nSIP: 93848055779@zoomcrc.com \n————————————- \n			\n				\n					\n						\n							\n							Loading...\n						\n					\n					\n						\n							\n							Taking too long?\n						\n						\n							\n								 Reload document							\n							|\n							\n								 Open in new tab							\n					 \n				\n			\n		Download [72.46 KB]  \n			\n				\n					\n						\n							\n							Loading...\n						\n					\n					\n						\n							\n							Taking too long?\n						\n						\n							\n								 Reload document							\n							|\n							\n								 Open in new tab							\n					 \n				\n			\n		Download [105.18 KB]  \n			\n				\n					\n						\n							\n							Loading...\n						\n					\n					\n						\n							\n							Taking too long?\n						\n						\n							\n								 Reload document							\n							|\n							\n								 Open in new tab							\n					 \n				\n			\n		Download [227.73 KB]
URL:https://constructionpublicinfo.ua.edu/bid/pre-bid-aime-2nd-floor-lab-improvements-252-21-2530/
LOCATION:Procurement Services Annex – 405 Cahaba Circle\, Tuscaloosa\, AL 35404\, 405 Cahaba Circle\, Alabama\, AL\, 35404\, United States
CATEGORIES:Pre-Bid Conference
ORGANIZER;CN="David Jones":MAILTO:dajones11@ua.edu
END:VEVENT
BEGIN:VEVENT
DTSTART;TZID=America/Chicago:20210527T140000
DTEND;TZID=America/Chicago:20210527T150000
DTSTAMP:20260422T013039
CREATED:20210503T201158Z
LAST-MODIFIED:20210503T201158Z
UID:7061-1622124000-1622127600@constructionpublicinfo.ua.edu
SUMMARY:Bid Opening:  Bryant Denny Stadium Level 1 Concourse Floor Polishing #046-21-2517A
DESCRIPTION:Join from PC\, Mac\, Linux\, iOS or Android: https://uasystem.zoom.us/j/96263001704 \nOr iPhone one-tap : \nUS: +13126266799\,\,96263001704#  or +16465588656\,\,96263001704# \nOr Telephone: \nDial(for higher quality\, dial a number based on your current location): \nUS: +1 312 626 6799  or +1 646 558 8656  or +1 301 715 8592  or +1 346 248 7799  or +1 669 900 6833  or +1 253 215 8782 \nMeeting ID: 962 6300 1704 \nOr an H.323/SIP room system: \nH.323: \n162.255.37.11 (US West) \n162.255.36.11 (US East) \nMeeting ID: 962 6300 1704 \nSIP: 96263001704@zoomcrc.com \n————————– \n			\n				\n					\n						\n							\n							Loading...\n						\n					\n					\n						\n							\n							Taking too long?\n						\n						\n							\n								 Reload document							\n							|\n							\n								 Open in new tab							\n					 \n				\n			\n		Download [70.78 KB]  \n			\n				\n					\n						\n							\n							Loading...\n						\n					\n					\n						\n							\n							Taking too long?\n						\n						\n							\n								 Reload document							\n							|\n							\n								 Open in new tab							\n					 \n				\n			\n		Download [70.78 KB]  \n			\n				\n					\n						\n							\n							Loading...\n						\n					\n					\n						\n							\n							Taking too long?\n						\n						\n							\n								 Reload document							\n							|\n							\n								 Open in new tab							\n					 \n				\n			\n		Download [233.92 KB]
URL:https://constructionpublicinfo.ua.edu/bid/bid-opening-bryant-denny-stadium-level-1-concourse-floor-polishing-046-21-2517a/
LOCATION:Procurement Services Annex – 405 Cahaba Circle\, Tuscaloosa\, AL 35404\, 405 Cahaba Circle\, Alabama\, AL\, 35404\, United States
CATEGORIES:Bid Openings
ORGANIZER;CN="Sommer Coleman":MAILTO:shcoleman1@ua.edu
END:VEVENT
END:VCALENDAR