BEGIN:VCALENDAR
VERSION:2.0
PRODID:-//Construction Public Information - ECPv6.5.2//NONSGML v1.0//EN
CALSCALE:GREGORIAN
METHOD:PUBLISH
X-WR-CALNAME:Construction Public Information
X-ORIGINAL-URL:https://constructionpublicinfo.ua.edu
X-WR-CALDESC:Events for Construction Public Information
REFRESH-INTERVAL;VALUE=DURATION:PT1H
X-Robots-Tag:noindex
X-PUBLISHED-TTL:PT1H
BEGIN:VTIMEZONE
TZID:America/Chicago
BEGIN:DAYLIGHT
TZOFFSETFROM:-0600
TZOFFSETTO:-0500
TZNAME:CDT
DTSTART:20210314T080000
END:DAYLIGHT
BEGIN:STANDARD
TZOFFSETFROM:-0500
TZOFFSETTO:-0600
TZNAME:CST
DTSTART:20211107T070000
END:STANDARD
END:VTIMEZONE
BEGIN:VEVENT
DTSTART;TZID=America/Chicago:20210615T100000
DTEND;TZID=America/Chicago:20210615T110000
DTSTAMP:20260424T231201
CREATED:20210607T132415Z
LAST-MODIFIED:20210611T114917Z
UID:7230-1623751200-1623754800@constructionpublicinfo.ua.edu
SUMMARY:Pre-Bid:  Bryant Denny Stadium Level 2 Concourse Floor Polishing #046-21-2517B
DESCRIPTION:Join from PC\, Mac\, Linux\, iOS or Android: https://uasystem.zoom.us/j/93853757440 \nOr iPhone one-tap : \nUS: +16465588656\,\,93853757440#  or +13017158592\,\,93853757440# Or Telephone: \nDial(for higher quality\, dial a number based on your current location): \nUS: +1 646 558 8656  or +1 301 715 8592  or +1 312 626 6799  or +1 669 900 6833  or +1 253 215 8782  or +1 346 248 7799 \nMeeting ID: 938 5375 7440 \nOr an H.323/SIP room system: \nH.323: \n162.255.37.11 (US West) \n162.255.36.11 (US East) \nMeeting ID: 938 5375 7440 \n——————- \n			\n				\n					\n						\n							\n							Loading...\n						\n					\n					\n						\n							\n							Taking too long?\n						\n						\n							\n								 Reload document							\n							|\n							\n								 Open in new tab							\n					 \n				\n			\n		Download [70.18 KB]  \n			\n				\n					\n						\n							\n							Loading...\n						\n					\n					\n						\n							\n							Taking too long?\n						\n						\n							\n								 Reload document							\n							|\n							\n								 Open in new tab							\n					 \n				\n			\n		Download [104.76 KB]  \n			\n				\n					\n						\n							\n							Loading...\n						\n					\n					\n						\n							\n							Taking too long?\n						\n						\n							\n								 Reload document							\n							|\n							\n								 Open in new tab							\n					 \n				\n			\n		Download [234.00 KB]
URL:https://constructionpublicinfo.ua.edu/bid/pre-bid-bryant-denny-stadium-level-2-concourse-floor-polishing-046-21-2517b/
LOCATION:Procurement Services Annex – 405 Cahaba Circle\, Tuscaloosa\, AL 35404\, 405 Cahaba Circle\, Alabama\, AL\, 35404\, United States
CATEGORIES:Pre-Bid Conference
ORGANIZER;CN="Sommer Coleman":MAILTO:shcoleman1@ua.edu
END:VEVENT
BEGIN:VEVENT
DTSTART;TZID=America/Chicago:20210615T130000
DTEND;TZID=America/Chicago:20210615T140000
DTSTAMP:20260424T231202
CREATED:20210601T145554Z
LAST-MODIFIED:20210614T164441Z
UID:7215-1623762000-1623765600@constructionpublicinfo.ua.edu
SUMMARY:Bid Opening:  ten Hoor Stair Improvements #LAN-20-2238
DESCRIPTION:Join from PC\, Mac\, Linux\, iOS or Android: https://uasystem.zoom.us/j/97084435357 \nOr iPhone one-tap : \nUS: +16465588656\,\,97084435357#  or +13017158592\,\,97084435357# \nOr Telephone: \nDial(for higher quality\, dial a number based on your current location): \nUS: +1 646 558 8656  or +1 301 715 8592  or +1 312 626 6799  or +1 669 900 6833  or +1 253 215 8782  or +1 346 248 7799 \nMeeting ID: 970 8443 5357 \nOr an H.323/SIP room system: \nH.323: \n162.255.37.11 (US West) \n162.255.36.11 (US East) \nMeeting ID: 970 8443 5357 \nSIP: 97084435357@zoomcrc.com \n——————- \n			\n				\n					\n						\n							\n							Loading...\n						\n					\n					\n						\n							\n							Taking too long?\n						\n						\n							\n								 Reload document							\n							|\n							\n								 Open in new tab							\n					 \n				\n			\n		Download [69.91 KB]  \n			\n				\n					\n						\n							\n							Loading...\n						\n					\n					\n						\n							\n							Taking too long?\n						\n						\n							\n								 Reload document							\n							|\n							\n								 Open in new tab							\n					 \n				\n			\n		Download [103.65 KB]  \n			\n				\n					\n						\n							\n							Loading...\n						\n					\n					\n						\n							\n							Taking too long?\n						\n						\n							\n								 Reload document							\n							|\n							\n								 Open in new tab							\n					 \n				\n			\n		Download [253.54 KB]
URL:https://constructionpublicinfo.ua.edu/bid/bid-opening-ten-hoor-stair-improvements-lan-20-2238-2/
LOCATION:Procurement Services Annex – 405 Cahaba Circle\, Tuscaloosa\, AL 35404\, 405 Cahaba Circle\, Alabama\, AL\, 35404\, United States
CATEGORIES:Bid Openings
END:VEVENT
BEGIN:VEVENT
DTSTART;TZID=America/Chicago:20210615T140000
DTEND;TZID=America/Chicago:20210615T150000
DTSTAMP:20260424T231202
CREATED:20210524T152750Z
LAST-MODIFIED:20210609T182837Z
UID:7189-1623765600-1623769200@constructionpublicinfo.ua.edu
SUMMARY:Pre-Bid:  SERC ECL Teaching Lab & Gas Turbine Test Cell #235-21-2534
DESCRIPTION:Join from PC\, Mac\, Linux\, iOS or Android: https://uasystem.zoom.us/j/99267545293 \nOr iPhone one-tap : \nUS: +16465588656\,\,99267545293#  or +13017158592\,\,99267545293# \nOr Telephone: \nDial(for higher quality\, dial a number based on your current location): \nUS: +1 646 558 8656  or +1 301 715 8592  or +1 312 626 6799  or +1 669 900 6833  or +1 253 215 8782  or +1 346 248 7799 \nMeeting ID: 992 6754 5293 \nOr an H.323/SIP room system: \nH.323: \n162.255.37.11 (US West) \n162.255.36.11 (US East) \nMeeting ID: 992 6754 5293 \nSIP: 99267545293@zoomcrc.com \n—————————– \n			\n				\n					\n						\n							\n							Loading...\n						\n					\n					\n						\n							\n							Taking too long?\n						\n						\n							\n								 Reload document							\n							|\n							\n								 Open in new tab							\n					 \n				\n			\n		Download [75.42 KB]  \n			\n				\n					\n						\n							\n							Loading...\n						\n					\n					\n						\n							\n							Taking too long?\n						\n						\n							\n								 Reload document							\n							|\n							\n								 Open in new tab							\n					 \n				\n			\n		Download [120.67 KB]  \n			\n				\n					\n						\n							\n							Loading...\n						\n					\n					\n						\n							\n							Taking too long?\n						\n						\n							\n								 Reload document							\n							|\n							\n								 Open in new tab							\n					 \n				\n			\n		Download [233.95 KB]
URL:https://constructionpublicinfo.ua.edu/bid/pre-bid-serc-ecl-teaching-lab-gas-turbine-test-cell-235-21-2534/
LOCATION:Procurement Services Annex – 405 Cahaba Circle\, Tuscaloosa\, AL 35404\, 405 Cahaba Circle\, Alabama\, AL\, 35404\, United States
CATEGORIES:Pre-Bid Conference
END:VEVENT
BEGIN:VEVENT
DTSTART;TZID=America/Chicago:20210615T150000
DTEND;TZID=America/Chicago:20210615T160000
DTSTAMP:20260424T231202
CREATED:20210524T151313Z
LAST-MODIFIED:20210524T151313Z
UID:7177-1623769200-1623772800@constructionpublicinfo.ua.edu
SUMMARY:Bid Opening:  Maintenance Grounds Office Demo #035-21-2623
DESCRIPTION:Join from PC\, Mac\, Linux\, iOS or Android: https://uasystem.zoom.us/j/98631947150 \nOr iPhone one-tap : \nUS: +13126266799\,\,98631947150#  or +16465588656\,\,98631947150# \nOr Telephone: \nDial(for higher quality\, dial a number based on your current location): \nUS: +1 312 626 6799  or +1 646 558 8656  or +1 301 715 8592  or +1 346 248 7799  or +1 669 900 6833  or +1 253 215 8782 \nMeeting ID: 986 3194 7150 \nOr an H.323/SIP room system: \nH.323: \n162.255.37.11 (US West) \n162.255.36.11 (US East) \nMeeting ID: 986 3194 7150 \nSIP: 98631947150@zoomcrc.com \n—————————- \n			\n				\n					\n						\n							\n							Loading...\n						\n					\n					\n						\n							\n							Taking too long?\n						\n						\n							\n								 Reload document							\n							|\n							\n								 Open in new tab							\n					 \n				\n			\n		Download [70.81 KB]  \n			\n				\n					\n						\n							\n							Loading...\n						\n					\n					\n						\n							\n							Taking too long?\n						\n						\n							\n								 Reload document							\n							|\n							\n								 Open in new tab							\n					 \n				\n			\n		Download [119.98 KB]  \n			\n				\n					\n						\n							\n							Loading...\n						\n					\n					\n						\n							\n							Taking too long?\n						\n						\n							\n								 Reload document							\n							|\n							\n								 Open in new tab							\n					 \n				\n			\n		Download [234.08 KB]
URL:https://constructionpublicinfo.ua.edu/bid/bid-opening-maintenance-grounds-office-demo-035-21-2623/
LOCATION:Procurement Services Annex – 405 Cahaba Circle\, Tuscaloosa\, AL 35404\, 405 Cahaba Circle\, Alabama\, AL\, 35404\, United States
CATEGORIES:Bid Openings
ORGANIZER;CN="Steven Mercado":MAILTO:smmercado@ua.edu
END:VEVENT
END:VCALENDAR