BEGIN:VCALENDAR
VERSION:2.0
PRODID:-//Construction Public Information - ECPv6.5.2//NONSGML v1.0//EN
CALSCALE:GREGORIAN
METHOD:PUBLISH
X-WR-CALNAME:Construction Public Information
X-ORIGINAL-URL:https://constructionpublicinfo.ua.edu
X-WR-CALDESC:Events for Construction Public Information
REFRESH-INTERVAL;VALUE=DURATION:PT1H
X-Robots-Tag:noindex
X-PUBLISHED-TTL:PT1H
BEGIN:VTIMEZONE
TZID:America/Chicago
BEGIN:DAYLIGHT
TZOFFSETFROM:-0600
TZOFFSETTO:-0500
TZNAME:CDT
DTSTART:20210314T080000
END:DAYLIGHT
BEGIN:STANDARD
TZOFFSETFROM:-0500
TZOFFSETTO:-0600
TZNAME:CST
DTSTART:20211107T070000
END:STANDARD
END:VTIMEZONE
BEGIN:VEVENT
DTSTART;TZID=America/Chicago:20210701T140000
DTEND;TZID=America/Chicago:20210701T150000
DTSTAMP:20260423T193331
CREATED:20210524T152526Z
LAST-MODIFIED:20210630T152931Z
UID:7184-1625148000-1625151600@constructionpublicinfo.ua.edu
SUMMARY:Bid Opening:  SERC ECL Teaching Lab & Gas Turbine Test Cell #235-21-2534
DESCRIPTION:Bid opening is in-person. There is no Zoom meeting. \n——————————————– \n			\n				\n					\n						\n							\n							Loading...\n						\n					\n					\n						\n							\n							Taking too long?\n						\n						\n							\n								 Reload document							\n							|\n							\n								 Open in new tab							\n					 \n				\n			\n		Download [75.42 KB]  \n			\n				\n					\n						\n							\n							Loading...\n						\n					\n					\n						\n							\n							Taking too long?\n						\n						\n							\n								 Reload document							\n							|\n							\n								 Open in new tab							\n					 \n				\n			\n		Download [120.67 KB]  \n			\n				\n					\n						\n							\n							Loading...\n						\n					\n					\n						\n							\n							Taking too long?\n						\n						\n							\n								 Reload document							\n							|\n							\n								 Open in new tab							\n					 \n				\n			\n		Download [233.95 KB]
URL:https://constructionpublicinfo.ua.edu/bid/bid-opening-serc-ecl-teaching-lab-gas-turbine-test-cell-235-21-2534/
LOCATION:Procurement Services Annex – 405 Cahaba Circle\, Tuscaloosa\, AL 35404\, 405 Cahaba Circle\, Alabama\, AL\, 35404\, United States
CATEGORIES:Bid Openings
END:VEVENT
END:VCALENDAR