BEGIN:VCALENDAR
VERSION:2.0
PRODID:-//Construction Public Information - ECPv6.5.2//NONSGML v1.0//EN
CALSCALE:GREGORIAN
METHOD:PUBLISH
X-WR-CALNAME:Construction Public Information
X-ORIGINAL-URL:https://constructionpublicinfo.ua.edu
X-WR-CALDESC:Events for Construction Public Information
REFRESH-INTERVAL;VALUE=DURATION:PT1H
X-Robots-Tag:noindex
X-PUBLISHED-TTL:PT1H
BEGIN:VTIMEZONE
TZID:America/Chicago
BEGIN:DAYLIGHT
TZOFFSETFROM:-0600
TZOFFSETTO:-0500
TZNAME:CDT
DTSTART:20210314T080000
END:DAYLIGHT
BEGIN:STANDARD
TZOFFSETFROM:-0500
TZOFFSETTO:-0600
TZNAME:CST
DTSTART:20211107T070000
END:STANDARD
END:VTIMEZONE
BEGIN:VEVENT
DTSTART;TZID=America/Chicago:20210722T100000
DTEND;TZID=America/Chicago:20210722T110000
DTSTAMP:20260423T193354
CREATED:20210628T133055Z
LAST-MODIFIED:20210628T133055Z
UID:7312-1626948000-1626951600@constructionpublicinfo.ua.edu
SUMMARY:Pre-Bid:  Clinical Services & Research MRI Addition to Student Health #018-20-2305B
DESCRIPTION:Loading...\n						\n					\n					\n						\n							\n							Taking too long?\n						\n						\n							\n								 Reload document							\n							|\n							\n								 Open in new tab							\n					 \n				\n			\n		Download [77.76 KB]  \n			\n				\n					\n						\n							\n							Loading...\n						\n					\n					\n						\n							\n							Taking too long?\n						\n						\n							\n								 Reload document							\n							|\n							\n								 Open in new tab							\n					 \n				\n			\n		Download [121.03 KB]  \n			\n				\n					\n						\n							\n							Loading...\n						\n					\n					\n						\n							\n							Taking too long?\n						\n						\n							\n								 Reload document							\n							|\n							\n								 Open in new tab							\n					 \n				\n			\n		Download [234.06 KB]
URL:https://constructionpublicinfo.ua.edu/bid/pre-bid-clinical-services-research-mri-addition-to-student-health-018-20-2305b/
LOCATION:Procurement Services Annex – 405 Cahaba Circle\, Tuscaloosa\, AL 35404\, 405 Cahaba Circle\, Alabama\, AL\, 35404\, United States
CATEGORIES:Pre-Bid Conference
ORGANIZER;CN="David Jones":MAILTO:dajones11@ua.edu
END:VEVENT
BEGIN:VEVENT
DTSTART;TZID=America/Chicago:20210722T130000
DTEND;TZID=America/Chicago:20210722T140000
DTSTAMP:20260423T193354
CREATED:20210622T125423Z
LAST-MODIFIED:20210712T215649Z
UID:7295-1626958800-1626962400@constructionpublicinfo.ua.edu
SUMMARY:Pre-Bid:  Delta Gamma Addition #831-19-2164
DESCRIPTION:Download [38.94 KB]  Download [44.52 KB]  Download [231.09 KB]
URL:https://constructionpublicinfo.ua.edu/bid/bid-opening-delta-gamma-addition-831-19-2164/
LOCATION:Procurement Services Annex – 405 Cahaba Circle\, Tuscaloosa\, AL 35404\, 405 Cahaba Circle\, Alabama\, AL\, 35404\, United States
CATEGORIES:Pre-Bid Conference
ORGANIZER;CN="Suzanne Webster":MAILTO:scirbywebster@ua.edu
END:VEVENT
END:VCALENDAR