BEGIN:VCALENDAR
VERSION:2.0
PRODID:-//Construction Public Information - ECPv6.5.2//NONSGML v1.0//EN
CALSCALE:GREGORIAN
METHOD:PUBLISH
X-WR-CALNAME:Construction Public Information
X-ORIGINAL-URL:https://constructionpublicinfo.ua.edu
X-WR-CALDESC:Events for Construction Public Information
REFRESH-INTERVAL;VALUE=DURATION:PT1H
X-Robots-Tag:noindex
X-PUBLISHED-TTL:PT1H
BEGIN:VTIMEZONE
TZID:America/Chicago
BEGIN:DAYLIGHT
TZOFFSETFROM:-0600
TZOFFSETTO:-0500
TZNAME:CDT
DTSTART:20210314T080000
END:DAYLIGHT
BEGIN:STANDARD
TZOFFSETFROM:-0500
TZOFFSETTO:-0600
TZNAME:CST
DTSTART:20211107T070000
END:STANDARD
END:VTIMEZONE
BEGIN:VEVENT
DTSTART;VALUE=DATE:20211102
DTEND;VALUE=DATE:20211103
DTSTAMP:20260423T051959
CREATED:20211025T131657Z
LAST-MODIFIED:20211025T131657Z
UID:7604-1635811200-1635897599@constructionpublicinfo.ua.edu
SUMMARY:Pre-Qualifications:  Northport Medical Sitework & Utility Package #820-21-2643A
DESCRIPTION:Loading...\n						\n					\n					\n						\n							\n							Taking too long?\n						\n						\n							\n								 Reload document							\n							|\n							\n								 Open in new tab							\n					 \n				\n			\n		Download [72.35 KB]  \n			\n				\n					\n						\n							\n							Loading...\n						\n					\n					\n						\n							\n							Taking too long?\n						\n						\n							\n								 Reload document							\n							|\n							\n								 Open in new tab							\n					 \n				\n			\n		Download [121.30 KB]  \n			\n				\n					\n						\n							\n							Loading...\n						\n					\n					\n						\n							\n							Taking too long?\n						\n						\n							\n								 Reload document							\n							|\n							\n								 Open in new tab							\n					 \n				\n			\n		Download [234.35 KB]
URL:https://constructionpublicinfo.ua.edu/bid/pre-qualifications-northport-medical-sitework-utility-package-820-21-2643a/
LOCATION:AL
CATEGORIES:Prequalifications
END:VEVENT
BEGIN:VEVENT
DTSTART;TZID=America/Chicago:20211102T100000
DTEND;TZID=America/Chicago:20211102T110000
DTSTAMP:20260423T051959
CREATED:20211025T120722Z
LAST-MODIFIED:20211025T120722Z
UID:7598-1635847200-1635850800@constructionpublicinfo.ua.edu
SUMMARY:Pre-Bid:  Law School Room 140 Electrical Outlets & Student Microphones #025-21-2612
DESCRIPTION:Loading...\n						\n					\n					\n						\n							\n							Taking too long?\n						\n						\n							\n								 Reload document							\n							|\n							\n								 Open in new tab							\n					 \n				\n			\n		Download [73.34 KB]  \n			\n				\n					\n						\n							\n							Loading...\n						\n					\n					\n						\n							\n							Taking too long?\n						\n						\n							\n								 Reload document							\n							|\n							\n								 Open in new tab							\n					 \n				\n			\n		Download [105.03 KB]  \n			\n				\n					\n						\n							\n							Loading...\n						\n					\n					\n						\n							\n							Taking too long?\n						\n						\n							\n								 Reload document							\n							|\n							\n								 Open in new tab							\n					 \n				\n			\n		Download [233.92 KB]
URL:https://constructionpublicinfo.ua.edu/bid/pre-bid-law-school-room-140-electrical-outlets-student-microphones-025-21-2612/
LOCATION:Procurement Services Annex – 405 Cahaba Circle\, Tuscaloosa\, AL 35404\, 405 Cahaba Circle\, Alabama\, AL\, 35404\, United States
CATEGORIES:Pre-Bid Conference
END:VEVENT
BEGIN:VEVENT
DTSTART;TZID=America/Chicago:20211102T110000
DTEND;TZID=America/Chicago:20211102T120000
DTSTAMP:20260423T051959
CREATED:20211020T160657Z
LAST-MODIFIED:20211025T122008Z
UID:7561-1635850800-1635854400@constructionpublicinfo.ua.edu
SUMMARY:Pre-Bid: Capstone Village Apt. 227 #560-21-2592
DESCRIPTION:Download [38.24 KB]  Download [37.16 KB]  Download [230.72 KB]
URL:https://constructionpublicinfo.ua.edu/bid/pre-bid-capstone-village-apt-227-560-21-2592/
LOCATION:Procurement Services Annex – 405 Cahaba Circle\, Tuscaloosa\, AL 35404\, 405 Cahaba Circle\, Alabama\, AL\, 35404\, United States
CATEGORIES:Pre-Bid Conference
ORGANIZER;CN="Heather Mitchell":MAILTO:hplochridge@ua.edu
END:VEVENT
END:VCALENDAR