BEGIN:VCALENDAR
VERSION:2.0
PRODID:-//Construction Public Information - ECPv6.5.2//NONSGML v1.0//EN
CALSCALE:GREGORIAN
METHOD:PUBLISH
X-WR-CALNAME:Construction Public Information
X-ORIGINAL-URL:https://constructionpublicinfo.ua.edu
X-WR-CALDESC:Events for Construction Public Information
REFRESH-INTERVAL;VALUE=DURATION:PT1H
X-Robots-Tag:noindex
X-PUBLISHED-TTL:PT1H
BEGIN:VTIMEZONE
TZID:America/Chicago
BEGIN:DAYLIGHT
TZOFFSETFROM:-0600
TZOFFSETTO:-0500
TZNAME:CDT
DTSTART:20210314T080000
END:DAYLIGHT
BEGIN:STANDARD
TZOFFSETFROM:-0500
TZOFFSETTO:-0600
TZNAME:CST
DTSTART:20211107T070000
END:STANDARD
END:VTIMEZONE
BEGIN:VEVENT
DTSTART;VALUE=DATE:20211130
DTEND;VALUE=DATE:20211201
DTSTAMP:20260422T201150
CREATED:20211115T172156Z
LAST-MODIFIED:20211115T172156Z
UID:7713-1638230400-1638316799@constructionpublicinfo.ua.edu
SUMMARY:Pre-Qualifications:  University Medical Center - Northport #820-21-2643B
DESCRIPTION:Loading...\n						\n					\n					\n						\n							\n							Taking too long?\n						\n						\n							\n								 Reload document							\n							|\n							\n								 Open in new tab							\n					 \n				\n			\n		Download [71.99 KB]  \n			\n				\n					\n						\n							\n							Loading...\n						\n					\n					\n						\n							\n							Taking too long?\n						\n						\n							\n								 Reload document							\n							|\n							\n								 Open in new tab							\n					 \n				\n			\n		Download [120.80 KB]  \n			\n				\n					\n						\n							\n							Loading...\n						\n					\n					\n						\n							\n							Taking too long?\n						\n						\n							\n								 Reload document							\n							|\n							\n								 Open in new tab							\n					 \n				\n			\n		Download [234.30 KB]
URL:https://constructionpublicinfo.ua.edu/bid/pre-qualifications-university-medical-center-northport-820-21-2643b/
LOCATION:AL
CATEGORIES:Prequalifications
END:VEVENT
BEGIN:VEVENT
DTSTART;VALUE=DATE:20211130
DTEND;VALUE=DATE:20211201
DTSTAMP:20260422T201150
CREATED:20211123T214206Z
LAST-MODIFIED:20211123T214206Z
UID:7738-1638230400-1638316799@constructionpublicinfo.ua.edu
SUMMARY:Pre-Qualifications:  University Services Campus Community Safe Room #1037-20-2320
DESCRIPTION:Loading...\n						\n					\n					\n						\n							\n							Taking too long?\n						\n						\n							\n								 Reload document							\n							|\n							\n								 Open in new tab							\n					 \n				\n			\n		Download [72.32 KB]  \n			\n				\n					\n						\n							\n							Loading...\n						\n					\n					\n						\n							\n							Taking too long?\n						\n						\n							\n								 Reload document							\n							|\n							\n								 Open in new tab							\n					 \n				\n			\n		Download [120.99 KB]  \n			\n				\n					\n						\n							\n							Loading...\n						\n					\n					\n						\n							\n							Taking too long?\n						\n						\n							\n								 Reload document							\n							|\n							\n								 Open in new tab							\n					 \n				\n			\n		Download [282.59 KB]
URL:https://constructionpublicinfo.ua.edu/bid/pre-qualifications-university-services-campus-community-safe-room-1037-20-2320/
LOCATION:AL
CATEGORIES:Prequalifications
ORGANIZER;CN="Leila Ahmady":MAILTO:lahmady@ua.edu
END:VEVENT
BEGIN:VEVENT
DTSTART;VALUE=DATE:20211130
DTEND;VALUE=DATE:20211201
DTSTAMP:20260422T201150
CREATED:20211123T214745Z
LAST-MODIFIED:20211123T214745Z
UID:7747-1638230400-1638316799@constructionpublicinfo.ua.edu
SUMMARY:Pre-Qualifications:  Bryce Lawn Community Safe Room #356-21-2318
DESCRIPTION:Loading...\n						\n					\n					\n						\n							\n							Taking too long?\n						\n						\n							\n								 Reload document							\n							|\n							\n								 Open in new tab							\n					 \n				\n			\n		Download [72.19 KB]  \n			\n				\n					\n						\n							\n							Loading...\n						\n					\n					\n						\n							\n							Taking too long?\n						\n						\n							\n								 Reload document							\n							|\n							\n								 Open in new tab							\n					 \n				\n			\n		Download [120.98 KB]  \n			\n				\n					\n						\n							\n							Loading...\n						\n					\n					\n						\n							\n							Taking too long?\n						\n						\n							\n								 Reload document							\n							|\n							\n								 Open in new tab							\n					 \n				\n			\n		Download [282.59 KB]
URL:https://constructionpublicinfo.ua.edu/bid/pre-qualifications-bryce-lawn-community-safe-room-356-21-2318/
LOCATION:AL
CATEGORIES:Prequalifications
ORGANIZER;CN="Leila Ahmady":MAILTO:lahmady@ua.edu
END:VEVENT
BEGIN:VEVENT
DTSTART;TZID=America/Chicago:20211130T100000
DTEND;TZID=America/Chicago:20211130T110000
DTSTAMP:20260422T201150
CREATED:20211123T215640Z
LAST-MODIFIED:20211123T215640Z
UID:7764-1638266400-1638270000@constructionpublicinfo.ua.edu
SUMMARY:Pre-Bid:  Marr's Springs & Student Center Civil Improvements #LAN-22-2759
DESCRIPTION:Loading...\n						\n					\n					\n						\n							\n							Taking too long?\n						\n						\n							\n								 Reload document							\n							|\n							\n								 Open in new tab							\n					 \n				\n			\n		Download [72.59 KB]  \n			\n				\n					\n						\n							\n							Loading...\n						\n					\n					\n						\n							\n							Taking too long?\n						\n						\n							\n								 Reload document							\n							|\n							\n								 Open in new tab							\n					 \n				\n			\n		Download [106.65 KB]  \n			\n				\n					\n						\n							\n							Loading...\n						\n					\n					\n						\n							\n							Taking too long?\n						\n						\n							\n								 Reload document							\n							|\n							\n								 Open in new tab							\n					 \n				\n			\n		Download [283.97 KB]
URL:https://constructionpublicinfo.ua.edu/bid/pre-bid-marrs-springs-student-center-civil-improvements-lan-22-2759/
LOCATION:Procurement Services Annex – 405 Cahaba Circle\, Tuscaloosa\, AL 35404\, 405 Cahaba Circle\, Alabama\, AL\, 35404\, United States
CATEGORIES:Pre-Bid Conference
ORGANIZER;CN="David Jones":MAILTO:dajones11@ua.edu
END:VEVENT
BEGIN:VEVENT
DTSTART;TZID=America/Chicago:20211130T130000
DTEND;TZID=America/Chicago:20211130T140000
DTSTAMP:20260422T201150
CREATED:20211101T152409Z
LAST-MODIFIED:20211101T152409Z
UID:7653-1638277200-1638280800@constructionpublicinfo.ua.edu
SUMMARY:Bid Opening:  New Tutwiler Multipurpose Room AV Package #279-16-950D
DESCRIPTION:Loading...\n						\n					\n					\n						\n							\n							Taking too long?\n						\n						\n							\n								 Reload document							\n							|\n							\n								 Open in new tab							\n					 \n				\n			\n		Download [70.67 KB]  \n			\n				\n					\n						\n							\n							Loading...\n						\n					\n					\n						\n							\n							Taking too long?\n						\n						\n							\n								 Reload document							\n							|\n							\n								 Open in new tab							\n					 \n				\n			\n		Download [106.63 KB]  \n			\n				\n					\n						\n							\n							Loading...\n						\n					\n					\n						\n							\n							Taking too long?\n						\n						\n							\n								 Reload document							\n							|\n							\n								 Open in new tab							\n					 \n				\n			\n		Download [299.97 KB]
URL:https://constructionpublicinfo.ua.edu/bid/bid-opening-new-tutwiler-multipurpose-room-av-package-279-16-950d/
LOCATION:Procurement Services Annex – 405 Cahaba Circle\, Tuscaloosa\, AL 35404\, 405 Cahaba Circle\, Alabama\, AL\, 35404\, United States
CATEGORIES:Bid Openings
ORGANIZER;CN="Terrence Craven":MAILTO:tmcraven@ua.edu
END:VEVENT
BEGIN:VEVENT
DTSTART;TZID=America/Chicago:20211130T140000
DTEND;TZID=America/Chicago:20211130T150000
DTSTAMP:20260422T201150
CREATED:20211025T115730Z
LAST-MODIFIED:20211122T174644Z
UID:7583-1638280800-1638284400@constructionpublicinfo.ua.edu
SUMMARY:Bid Opening:  SUSPENDED INDEFINITELY - Campus Parking Lot\, Landscape & Drainage #TRN-21-2727
DESCRIPTION:Loading...\n						\n					\n					\n						\n							\n							Taking too long?\n						\n						\n							\n								 Reload document							\n							|\n							\n								 Open in new tab							\n					 \n				\n			\n		Download [93.81 KB]  \n			\n				\n					\n						\n							\n							Loading...\n						\n					\n					\n						\n							\n							Taking too long?\n						\n						\n							\n								 Reload document							\n							|\n							\n								 Open in new tab							\n					 \n				\n			\n		Download [119.89 KB]  \n			\n				\n					\n						\n							\n							Loading...\n						\n					\n					\n						\n							\n							Taking too long?\n						\n						\n							\n								 Reload document							\n							|\n							\n								 Open in new tab							\n					 \n				\n			\n		Download [234.22 KB]
URL:https://constructionpublicinfo.ua.edu/bid/bid-opening-campus-parking-lot-landscape-drainage-trn-21-2727/
LOCATION:Procurement Services Annex – 405 Cahaba Circle\, Tuscaloosa\, AL 35404\, 405 Cahaba Circle\, Alabama\, AL\, 35404\, United States
CATEGORIES:Bid Openings
END:VEVENT
END:VCALENDAR