BEGIN:VCALENDAR
VERSION:2.0
PRODID:-//Construction Public Information - ECPv6.5.2//NONSGML v1.0//EN
CALSCALE:GREGORIAN
METHOD:PUBLISH
X-WR-CALNAME:Construction Public Information
X-ORIGINAL-URL:https://constructionpublicinfo.ua.edu
X-WR-CALDESC:Events for Construction Public Information
REFRESH-INTERVAL;VALUE=DURATION:PT1H
X-Robots-Tag:noindex
X-PUBLISHED-TTL:PT1H
BEGIN:VTIMEZONE
TZID:America/Chicago
BEGIN:DAYLIGHT
TZOFFSETFROM:-0600
TZOFFSETTO:-0500
TZNAME:CDT
DTSTART:20210314T080000
END:DAYLIGHT
BEGIN:STANDARD
TZOFFSETFROM:-0500
TZOFFSETTO:-0600
TZNAME:CST
DTSTART:20211107T070000
END:STANDARD
END:VTIMEZONE
BEGIN:VEVENT
DTSTART;TZID=America/Chicago:20211202T020000
DTEND;TZID=America/Chicago:20211202T150000
DTSTAMP:20260422T141350
CREATED:20211130T144520Z
LAST-MODIFIED:20211130T144612Z
UID:7793-1638410400-1638457200@constructionpublicinfo.ua.edu
SUMMARY:Bid Opening:  Peter Bryce Main Stabilization & Fit-Out #415-21-2548
DESCRIPTION:Loading...\n						\n					\n					\n						\n							\n							Taking too long?\n						\n						\n							\n								 Reload document							\n							|\n							\n								 Open in new tab							\n					 \n				\n			\n		Download [75.06 KB]  \nDownload [44.27 KB]  \nDownload [232.20 KB]
URL:https://constructionpublicinfo.ua.edu/bid/bid-opening-peter-bryce-main-stabilization-fit-out-415-21-2548-2/
LOCATION:Procurement Services Annex – 405 Cahaba Circle\, Tuscaloosa\, AL 35404\, 405 Cahaba Circle\, Alabama\, AL\, 35404\, United States
CATEGORIES:Bid Openings
ORGANIZER;CN="Austin Fisher":MAILTO:alfisher1@ua.edu
END:VEVENT
BEGIN:VEVENT
DTSTART;TZID=America/Chicago:20211202T100000
DTEND;TZID=America/Chicago:20211202T110000
DTSTAMP:20260422T141350
CREATED:20211129T182523Z
LAST-MODIFIED:20211129T182708Z
UID:7775-1638439200-1638442800@constructionpublicinfo.ua.edu
SUMMARY:Pre-Bid:  CANCELED Student Rec Center Southeast Roof Drain Reroute #372-21-2767
DESCRIPTION:Loading...\n						\n					\n					\n						\n							\n							Taking too long?\n						\n						\n							\n								 Reload document							\n							|\n							\n								 Open in new tab							\n					 \n				\n			\n		Download [72.53 KB]  \n			\n				\n					\n						\n							\n							Loading...\n						\n					\n					\n						\n							\n							Taking too long?\n						\n						\n							\n								 Reload document							\n							|\n							\n								 Open in new tab							\n					 \n				\n			\n		Download [120.75 KB]  \n			\n				\n					\n						\n							\n							Loading...\n						\n					\n					\n						\n							\n							Taking too long?\n						\n						\n							\n								 Reload document							\n							|\n							\n								 Open in new tab							\n					 \n				\n			\n		Download [233.99 KB]
URL:https://constructionpublicinfo.ua.edu/bid/pre-bid-canceled-student-rec-center-southeast-roof-drain-reroute-372-21-2767/
LOCATION:Procurement Services Annex – 405 Cahaba Circle\, Tuscaloosa\, AL 35404\, 405 Cahaba Circle\, Alabama\, AL\, 35404\, United States
CATEGORIES:Pre-Bid Conference
ORGANIZER;CN="Steven Mercado":MAILTO:smmercado@ua.edu
END:VEVENT
BEGIN:VEVENT
DTSTART;TZID=America/Chicago:20211202T110000
DTEND;TZID=America/Chicago:20211202T120000
DTSTAMP:20260422T141350
CREATED:20211115T172402Z
LAST-MODIFIED:20211129T164107Z
UID:7715-1638442800-1638446400@constructionpublicinfo.ua.edu
SUMMARY:Bid Opening:  Campus Signage & Wayfinding #000-18-1775
DESCRIPTION:Loading...\n						\n					\n					\n						\n							\n							Taking too long?\n						\n						\n							\n								 Reload document							\n							|\n							\n								 Open in new tab							\n					 \n				\n			\n		Download [72.16 KB]  \n			\n				\n					\n						\n							\n							Loading...\n						\n					\n					\n						\n							\n							Taking too long?\n						\n						\n							\n								 Reload document							\n							|\n							\n								 Open in new tab							\n					 \n				\n			\n		Download [104.46 KB]  \n			\n				\n					\n						\n							\n							Loading...\n						\n					\n					\n						\n							\n							Taking too long?\n						\n						\n							\n								 Reload document							\n							|\n							\n								 Open in new tab							\n					 \n				\n			\n		Download [234.05 KB]
URL:https://constructionpublicinfo.ua.edu/bid/bid-opening-campus-signage-wayfinding-000-18-1775-3/
LOCATION:Procurement Services Annex – 405 Cahaba Circle\, Tuscaloosa\, AL 35404\, 405 Cahaba Circle\, Alabama\, AL\, 35404\, United States
CATEGORIES:Bid Openings
END:VEVENT
BEGIN:VEVENT
DTSTART;TZID=America/Chicago:20211202T150000
DTEND;TZID=America/Chicago:20211202T153000
DTSTAMP:20260422T141350
CREATED:20210913T124227Z
LAST-MODIFIED:20211129T205433Z
UID:7492-1638457200-1638459000@constructionpublicinfo.ua.edu
SUMMARY:Bid Opening:  (ALTERNATES) Peter Bryce Main Stabilization & Fit-Out #415-21-2548
DESCRIPTION:Loading...\n						\n					\n					\n						\n							\n							Taking too long?\n						\n						\n							\n								 Reload document							\n							|\n							\n								 Open in new tab							\n					 \n				\n			\n		Download [75.06 KB]  \n			\n				\n					\n						\n							\n							Loading...\n						\n					\n					\n						\n							\n							Taking too long?\n						\n						\n							\n								 Reload document							\n							|\n							\n								 Open in new tab							\n					 \n				\n			\n		Download [121.05 KB]  \n			\n				\n					\n						\n							\n							Loading...\n						\n					\n					\n						\n							\n							Taking too long?\n						\n						\n							\n								 Reload document							\n							|\n							\n								 Open in new tab							\n					 \n				\n			\n		Download [286.84 KB]
URL:https://constructionpublicinfo.ua.edu/bid/bid-opening-peter-bryce-main-stabilization-fit-out-415-21-2548/
LOCATION:Procurement Services Annex – 405 Cahaba Circle\, Tuscaloosa\, AL 35404\, 405 Cahaba Circle\, Alabama\, AL\, 35404\, United States
CATEGORIES:Bid Openings
ORGANIZER;CN="Austin Fisher":MAILTO:alfisher1@ua.edu
END:VEVENT
END:VCALENDAR