BEGIN:VCALENDAR
VERSION:2.0
PRODID:-//Construction Public Information - ECPv6.5.2//NONSGML v1.0//EN
CALSCALE:GREGORIAN
METHOD:PUBLISH
X-WR-CALNAME:Construction Public Information
X-ORIGINAL-URL:https://constructionpublicinfo.ua.edu
X-WR-CALDESC:Events for Construction Public Information
REFRESH-INTERVAL;VALUE=DURATION:PT1H
X-Robots-Tag:noindex
X-PUBLISHED-TTL:PT1H
BEGIN:VTIMEZONE
TZID:America/Chicago
BEGIN:DAYLIGHT
TZOFFSETFROM:-0600
TZOFFSETTO:-0500
TZNAME:CDT
DTSTART:20210314T080000
END:DAYLIGHT
BEGIN:STANDARD
TZOFFSETFROM:-0500
TZOFFSETTO:-0600
TZNAME:CST
DTSTART:20211107T070000
END:STANDARD
END:VTIMEZONE
BEGIN:VEVENT
DTSTART;VALUE=DATE:20211214
DTEND;VALUE=DATE:20211215
DTSTAMP:20260422T122419
CREATED:20211129T184100Z
LAST-MODIFIED:20211129T184100Z
UID:7788-1639440000-1639526399@constructionpublicinfo.ua.edu
SUMMARY:Pre-Qualifications:  Former Alpha Gamma Delta House Demolition #004-22-2766A
DESCRIPTION:Loading...\n						\n					\n					\n						\n							\n							Taking too long?\n						\n						\n							\n								 Reload document							\n							|\n							\n								 Open in new tab							\n					 \n				\n			\n		Download [74.82 KB]  \n			\n				\n					\n						\n							\n							Loading...\n						\n					\n					\n						\n							\n							Taking too long?\n						\n						\n							\n								 Reload document							\n							|\n							\n								 Open in new tab							\n					 \n				\n			\n		Download [117.77 KB]  \n			\n				\n					\n						\n							\n							Loading...\n						\n					\n					\n						\n							\n							Taking too long?\n						\n						\n							\n								 Reload document							\n							|\n							\n								 Open in new tab							\n					 \n				\n			\n		Download [234.46 KB]
URL:https://constructionpublicinfo.ua.edu/bid/pre-qualifications-former-alpha-gamma-delta-house-demolition-004-22-2766a/
LOCATION:AL
CATEGORIES:Prequalifications
ORGANIZER;CN="Suzanne Webster":MAILTO:scirbywebster@ua.edu
END:VEVENT
BEGIN:VEVENT
DTSTART;TZID=America/Chicago:20211214T090000
DTEND;TZID=America/Chicago:20211214T100000
DTSTAMP:20260422T122419
CREATED:20211123T215151Z
LAST-MODIFIED:20211123T215151Z
UID:7755-1639472400-1639476000@constructionpublicinfo.ua.edu
SUMMARY:Pre-Bid:  Bruno Library Renovation - Interior Demolition #036-19-2189A
DESCRIPTION:Loading...\n						\n					\n					\n						\n							\n							Taking too long?\n						\n						\n							\n								 Reload document							\n							|\n							\n								 Open in new tab							\n					 \n				\n			\n		Download [73.70 KB]  \n			\n				\n					\n						\n							\n							Loading...\n						\n					\n					\n						\n							\n							Taking too long?\n						\n						\n							\n								 Reload document							\n							|\n							\n								 Open in new tab							\n					 \n				\n			\n		Download [122.29 KB]  \n			\n				\n					\n						\n							\n							Loading...\n						\n					\n					\n						\n							\n							Taking too long?\n						\n						\n							\n								 Reload document							\n							|\n							\n								 Open in new tab							\n					 \n				\n			\n		Download [282.51 KB]
URL:https://constructionpublicinfo.ua.edu/bid/pre-bid-bruno-library-renovation-interior-demolition-036-19-2189a/
LOCATION:Procurement Services Annex – 405 Cahaba Circle\, Tuscaloosa\, AL 35404\, 405 Cahaba Circle\, Alabama\, AL\, 35404\, United States
CATEGORIES:Pre-Bid Conference
END:VEVENT
BEGIN:VEVENT
DTSTART;TZID=America/Chicago:20211214T140000
DTEND;TZID=America/Chicago:20211214T150000
DTSTAMP:20260422T122419
CREATED:20211101T152826Z
LAST-MODIFIED:20211101T152826Z
UID:7660-1639490400-1639494000@constructionpublicinfo.ua.edu
SUMMARY:Bid Opening:  Gordon Palmer Hall Data Center Upgrades #170-19-2029
DESCRIPTION:Loading...\n						\n					\n					\n						\n							\n							Taking too long?\n						\n						\n							\n								 Reload document							\n							|\n							\n								 Open in new tab							\n					 \n				\n			\n		Download [74.55 KB]  \n			\n				\n					\n						\n							\n							Loading...\n						\n					\n					\n						\n							\n							Taking too long?\n						\n						\n							\n								 Reload document							\n							|\n							\n								 Open in new tab							\n					 \n				\n			\n		Download [120.35 KB]  \n			\n				\n					\n						\n							\n							Loading...\n						\n					\n					\n						\n							\n							Taking too long?\n						\n						\n							\n								 Reload document							\n							|\n							\n								 Open in new tab							\n					 \n				\n			\n		Download [284.76 KB]
URL:https://constructionpublicinfo.ua.edu/bid/bid-opening-gordon-palmer-hall-data-center-upgrades-170-19-2029/
LOCATION:Procurement Services Annex – 405 Cahaba Circle\, Tuscaloosa\, AL 35404\, 405 Cahaba Circle\, Alabama\, AL\, 35404\, United States
CATEGORIES:Bid Openings
END:VEVENT
END:VCALENDAR