BEGIN:VCALENDAR
VERSION:2.0
PRODID:-//Construction Public Information - ECPv6.5.2//NONSGML v1.0//EN
CALSCALE:GREGORIAN
METHOD:PUBLISH
X-WR-CALNAME:Construction Public Information
X-ORIGINAL-URL:https://constructionpublicinfo.ua.edu
X-WR-CALDESC:Events for Construction Public Information
REFRESH-INTERVAL;VALUE=DURATION:PT1H
X-Robots-Tag:noindex
X-PUBLISHED-TTL:PT1H
BEGIN:VTIMEZONE
TZID:America/Chicago
BEGIN:DAYLIGHT
TZOFFSETFROM:-0600
TZOFFSETTO:-0500
TZNAME:CDT
DTSTART:20220313T080000
END:DAYLIGHT
BEGIN:STANDARD
TZOFFSETFROM:-0500
TZOFFSETTO:-0600
TZNAME:CST
DTSTART:20221106T070000
END:STANDARD
END:VTIMEZONE
BEGIN:VEVENT
DTSTART;VALUE=DATE:20220104
DTEND;VALUE=DATE:20220105
DTSTAMP:20260423T050426
CREATED:20211220T150248Z
LAST-MODIFIED:20211220T150248Z
UID:7832-1641254400-1641340799@constructionpublicinfo.ua.edu
SUMMARY:Pre-Qualifications:  Harper Center Roof Replacement & Associated Work #444-21-2606
DESCRIPTION:Loading...\n						\n					\n					\n						\n							\n							Taking too long?\n						\n						\n							\n								 Reload document							\n							|\n							\n								 Open in new tab							\n					 \n				\n			\n		Download [73.71 KB]  \n			\n				\n					\n						\n							\n							Loading...\n						\n					\n					\n						\n							\n							Taking too long?\n						\n						\n							\n								 Reload document							\n							|\n							\n								 Open in new tab							\n					 \n				\n			\n		Download [120.73 KB]  \n			\n				\n					\n						\n							\n							Loading...\n						\n					\n					\n						\n							\n							Taking too long?\n						\n						\n							\n								 Reload document							\n							|\n							\n								 Open in new tab							\n					 \n				\n			\n		Download [234.16 KB]
URL:https://constructionpublicinfo.ua.edu/bid/pre-qualifications-harper-center-roof-replacement-associated-work-444-21-2606/
LOCATION:AL
CATEGORIES:Prequalifications
END:VEVENT
BEGIN:VEVENT
DTSTART;VALUE=DATE:20220104
DTEND;VALUE=DATE:20220105
DTSTAMP:20260423T050426
CREATED:20211220T151147Z
LAST-MODIFIED:20211220T151147Z
UID:7841-1641254400-1641340799@constructionpublicinfo.ua.edu
SUMMARY:Pre-Qualifications:  Harper Center Shower Pan Replacement #444-21-2691
DESCRIPTION:Loading...\n						\n					\n					\n						\n							\n							Taking too long?\n						\n						\n							\n								 Reload document							\n							|\n							\n								 Open in new tab							\n					 \n				\n			\n		Download [74.01 KB]  \n			\n				\n					\n						\n							\n							Loading...\n						\n					\n					\n						\n							\n							Taking too long?\n						\n						\n							\n								 Reload document							\n							|\n							\n								 Open in new tab							\n					 \n				\n			\n		Download [120.33 KB]  \n			\n				\n					\n						\n							\n							Loading...\n						\n					\n					\n						\n							\n							Taking too long?\n						\n						\n							\n								 Reload document							\n							|\n							\n								 Open in new tab							\n					 \n				\n			\n		Download [234.08 KB]
URL:https://constructionpublicinfo.ua.edu/bid/pre-qualifications-harper-center-shower-pan-replacement-444-21-2691/
LOCATION:AL
CATEGORIES:Prequalifications
END:VEVENT
BEGIN:VEVENT
DTSTART;VALUE=DATE:20220104
DTEND;VALUE=DATE:20220105
DTSTAMP:20260423T050426
CREATED:20211220T152238Z
LAST-MODIFIED:20211220T152238Z
UID:7859-1641254400-1641340799@constructionpublicinfo.ua.edu
SUMMARY:Pre-Qualifications:  Standing Contract for Road/Parking Lot Repairs\, Renewal & Maint. #TRN-22-2807 & TRN-22-2808
DESCRIPTION:Loading...\n						\n					\n					\n						\n							\n							Taking too long?\n						\n						\n							\n								 Reload document							\n							|\n							\n								 Open in new tab							\n					 \n				\n			\n		Download [74.26 KB]  \n			\n				\n					\n						\n							\n							Loading...\n						\n					\n					\n						\n							\n							Taking too long?\n						\n						\n							\n								 Reload document							\n							|\n							\n								 Open in new tab							\n					 \n				\n			\n		Download [120.84 KB]  \n			\n				\n					\n						\n							\n							Loading...\n						\n					\n					\n						\n							\n							Taking too long?\n						\n						\n							\n								 Reload document							\n							|\n							\n								 Open in new tab							\n					 \n				\n			\n		Download [234.22 KB]
URL:https://constructionpublicinfo.ua.edu/bid/pre-qualifications-standing-contract-for-road-parking-lot-repairs-renewal-maint-trn-22-2807-trn-22-2808/
LOCATION:AL
CATEGORIES:Prequalifications
END:VEVENT
BEGIN:VEVENT
DTSTART;TZID=America/Chicago:20220104T100000
DTEND;TZID=America/Chicago:20220104T110000
DTSTAMP:20260423T050426
CREATED:20211129T183945Z
LAST-MODIFIED:20211129T183945Z
UID:7786-1641290400-1641294000@constructionpublicinfo.ua.edu
SUMMARY:Pre-Bid:  Former Alpha Gamma Delta House Demolition #004-22-2766A
DESCRIPTION:Loading...\n						\n					\n					\n						\n							\n							Taking too long?\n						\n						\n							\n								 Reload document							\n							|\n							\n								 Open in new tab							\n					 \n				\n			\n		Download [74.82 KB]  \n			\n				\n					\n						\n							\n							Loading...\n						\n					\n					\n						\n							\n							Taking too long?\n						\n						\n							\n								 Reload document							\n							|\n							\n								 Open in new tab							\n					 \n				\n			\n		Download [117.77 KB]  \n			\n				\n					\n						\n							\n							Loading...\n						\n					\n					\n						\n							\n							Taking too long?\n						\n						\n							\n								 Reload document							\n							|\n							\n								 Open in new tab							\n					 \n				\n			\n		Download [234.46 KB]
URL:https://constructionpublicinfo.ua.edu/bid/pre-bid-former-alpha-gamma-delta-house-demolition-004-22-2766a/
LOCATION:Procurement Services Annex – 405 Cahaba Circle\, Tuscaloosa\, AL 35404\, 405 Cahaba Circle\, Alabama\, AL\, 35404\, United States
CATEGORIES:Pre-Bid Conference
ORGANIZER;CN="Suzanne Webster":MAILTO:scirbywebster@ua.edu
END:VEVENT
BEGIN:VEVENT
DTSTART;TZID=America/Chicago:20220104T140000
DTEND;TZID=America/Chicago:20220104T150000
DTSTAMP:20260423T050426
CREATED:20211115T171433Z
LAST-MODIFIED:20211210T195440Z
UID:7701-1641304800-1641308400@constructionpublicinfo.ua.edu
SUMMARY:Pre-Bid:  Existing Tutwiler Demolition #206-20-2446
DESCRIPTION:Download [39.33 KB]  \nDownload [44.72 KB]  \nDownload [230.79 KB]
URL:https://constructionpublicinfo.ua.edu/bid/pre-bid-existing-tutwiler-demolition-206-20-2446/
LOCATION:Procurement Services Annex – 405 Cahaba Circle\, Tuscaloosa\, AL 35404\, 405 Cahaba Circle\, Alabama\, AL\, 35404\, United States
CATEGORIES:Pre-Bid Conference
ORGANIZER;CN="Terrence Craven":MAILTO:tmcraven@ua.edu
END:VEVENT
END:VCALENDAR