BEGIN:VCALENDAR
VERSION:2.0
PRODID:-//Construction Public Information - ECPv6.5.2//NONSGML v1.0//EN
CALSCALE:GREGORIAN
METHOD:PUBLISH
X-WR-CALNAME:Construction Public Information
X-ORIGINAL-URL:https://constructionpublicinfo.ua.edu
X-WR-CALDESC:Events for Construction Public Information
REFRESH-INTERVAL;VALUE=DURATION:PT1H
X-Robots-Tag:noindex
X-PUBLISHED-TTL:PT1H
BEGIN:VTIMEZONE
TZID:America/Chicago
BEGIN:DAYLIGHT
TZOFFSETFROM:-0600
TZOFFSETTO:-0500
TZNAME:CDT
DTSTART:20220313T080000
END:DAYLIGHT
BEGIN:STANDARD
TZOFFSETFROM:-0500
TZOFFSETTO:-0600
TZNAME:CST
DTSTART:20221106T070000
END:STANDARD
END:VTIMEZONE
BEGIN:VEVENT
DTSTART;VALUE=DATE:20220125
DTEND;VALUE=DATE:20220126
DTSTAMP:20260422T090340
CREATED:20220118T132251Z
LAST-MODIFIED:20220118T132251Z
UID:7907-1643068800-1643155199@constructionpublicinfo.ua.edu
SUMMARY:Pre-Qualifications:  Campus Energy Delivery to Bryant Conf. Center & Moody Music Areas #UTL-22-2811C
DESCRIPTION:Loading...\n						\n					\n					\n						\n							\n							Taking too long?\n						\n						\n							\n								 Reload document							\n							|\n							\n								 Open in new tab							\n					 \n				\n			\n		Download [75.64 KB]  \n			\n				\n					\n						\n							\n							Loading...\n						\n					\n					\n						\n							\n							Taking too long?\n						\n						\n							\n								 Reload document							\n							|\n							\n								 Open in new tab							\n					 \n				\n			\n		Download [121.69 KB]  \n			\n				\n					\n						\n							\n							Loading...\n						\n					\n					\n						\n							\n							Taking too long?\n						\n						\n							\n								 Reload document							\n							|\n							\n								 Open in new tab							\n					 \n				\n			\n		Download [234.12 KB]
URL:https://constructionpublicinfo.ua.edu/bid/pre-qualifications-campus-energy-delivery-to-bryant-conf-center-moody-music-areas-utl-22-2811c/
LOCATION:AL
CATEGORIES:Prequalifications
ORGANIZER;CN="Steven Mercado":MAILTO:smmercado@ua.edu
END:VEVENT
BEGIN:VEVENT
DTSTART;VALUE=DATE:20220125
DTEND;VALUE=DATE:20220126
DTSTAMP:20260422T090340
CREATED:20220118T133111Z
LAST-MODIFIED:20220118T133111Z
UID:7916-1643068800-1643155199@constructionpublicinfo.ua.edu
SUMMARY:Pre-Qualifications:  Campus Energy Delivery to Bryant Conf. Center & Moody Music Areas #UTL-22-2811C
DESCRIPTION:Loading...\n						\n					\n					\n						\n							\n							Taking too long?\n						\n						\n							\n								 Reload document							\n							|\n							\n								 Open in new tab							\n					 \n				\n			\n		Download [75.03 KB]  \n			\n				\n					\n						\n							\n							Loading...\n						\n					\n					\n						\n							\n							Taking too long?\n						\n						\n							\n								 Reload document							\n							|\n							\n								 Open in new tab							\n					 \n				\n			\n		Download [121.66 KB]  \n			\n				\n					\n						\n							\n							Loading...\n						\n					\n					\n						\n							\n							Taking too long?\n						\n						\n							\n								 Reload document							\n							|\n							\n								 Open in new tab							\n					 \n				\n			\n		Download [234.15 KB]
URL:https://constructionpublicinfo.ua.edu/bid/pre-qualifications-campus-energy-delivery-to-bryant-conf-center-moody-music-areas-utl-22-2811c-2/
LOCATION:AL
CATEGORIES:Prequalifications
ORGANIZER;CN="Steven Mercado":MAILTO:smmercado@ua.edu
END:VEVENT
BEGIN:VEVENT
DTSTART;TZID=America/Chicago:20220125T110000
DTEND;TZID=America/Chicago:20220125T120000
DTSTAMP:20260422T090340
CREATED:20211220T151522Z
LAST-MODIFIED:20211220T151522Z
UID:7848-1643108400-1643112000@constructionpublicinfo.ua.edu
SUMMARY:Pre-Bid:  University Hall Addition #420-20-2434
DESCRIPTION:Loading...\n						\n					\n					\n						\n							\n							Taking too long?\n						\n						\n							\n								 Reload document							\n							|\n							\n								 Open in new tab							\n					 \n				\n			\n		Download [73.66 KB]  \n			\n				\n					\n						\n							\n							Loading...\n						\n					\n					\n						\n							\n							Taking too long?\n						\n						\n							\n								 Reload document							\n							|\n							\n								 Open in new tab							\n					 \n				\n			\n		Download [120.22 KB]  \n			\n				\n					\n						\n							\n							Loading...\n						\n					\n					\n						\n							\n							Taking too long?\n						\n						\n							\n								 Reload document							\n							|\n							\n								 Open in new tab							\n					 \n				\n			\n		Download [233.98 KB]
URL:https://constructionpublicinfo.ua.edu/bid/pre-bid-university-hall-addition-420-20-2434/
LOCATION:Procurement Services Annex – 405 Cahaba Circle\, Tuscaloosa\, AL 35404\, 405 Cahaba Circle\, Alabama\, AL\, 35404\, United States
CATEGORIES:Pre-Bid Conference
ORGANIZER;CN="Sommer Coleman":MAILTO:shcoleman1@ua.edu
END:VEVENT
BEGIN:VEVENT
DTSTART;TZID=America/Chicago:20220125T140000
DTEND;TZID=America/Chicago:20220125T150000
DTSTAMP:20260422T090340
CREATED:20211220T145847Z
LAST-MODIFIED:20211220T145847Z
UID:7825-1643119200-1643122800@constructionpublicinfo.ua.edu
SUMMARY:Bid Opening:  Harper Center Roof Replacement & Associated Work #444-21-2606
DESCRIPTION:Loading...\n						\n					\n					\n						\n							\n							Taking too long?\n						\n						\n							\n								 Reload document							\n							|\n							\n								 Open in new tab							\n					 \n				\n			\n		Download [73.71 KB]  \n			\n				\n					\n						\n							\n							Loading...\n						\n					\n					\n						\n							\n							Taking too long?\n						\n						\n							\n								 Reload document							\n							|\n							\n								 Open in new tab							\n					 \n				\n			\n		Download [120.73 KB]  \n			\n				\n					\n						\n							\n							Loading...\n						\n					\n					\n						\n							\n							Taking too long?\n						\n						\n							\n								 Reload document							\n							|\n							\n								 Open in new tab							\n					 \n				\n			\n		Download [234.16 KB]
URL:https://constructionpublicinfo.ua.edu/bid/bid-opening-harper-center-roof-replacement-associated-work-444-21-2606/
LOCATION:Procurement Services Annex – 405 Cahaba Circle\, Tuscaloosa\, AL 35404\, 405 Cahaba Circle\, Alabama\, AL\, 35404\, United States
CATEGORIES:Bid Openings
END:VEVENT
BEGIN:VEVENT
DTSTART;TZID=America/Chicago:20220125T150000
DTEND;TZID=America/Chicago:20220125T160000
DTSTAMP:20260422T090340
CREATED:20211115T171257Z
LAST-MODIFIED:20220112T160034Z
UID:7696-1643122800-1643126400@constructionpublicinfo.ua.edu
SUMMARY:Bid Opening:  Existing Tutwiler Demolition #206-20-2446
DESCRIPTION:Loading...\n						\n					\n					\n						\n							\n							Taking too long?\n						\n						\n							\n								 Reload document							\n							|\n							\n								 Open in new tab							\n					 \n				\n			\n		Download [74.75 KB]  \n			\n				\n					\n						\n							\n							Loading...\n						\n					\n					\n						\n							\n							Taking too long?\n						\n						\n							\n								 Reload document							\n							|\n							\n								 Open in new tab							\n					 \n				\n			\n		Download [130.76 KB]  \n			\n				\n					\n						\n							\n							Loading...\n						\n					\n					\n						\n							\n							Taking too long?\n						\n						\n							\n								 Reload document							\n							|\n							\n								 Open in new tab							\n					 \n				\n			\n		Download [234.20 KB]
URL:https://constructionpublicinfo.ua.edu/bid/bid-opening-existing-tutwiler-demolition-206-20-2446/
LOCATION:Procurement Services Annex – 405 Cahaba Circle\, Tuscaloosa\, AL 35404\, 405 Cahaba Circle\, Alabama\, AL\, 35404\, United States
CATEGORIES:Bid Openings
ORGANIZER;CN="Terrence Craven":MAILTO:tmcraven@ua.edu
END:VEVENT
END:VCALENDAR