BEGIN:VCALENDAR
VERSION:2.0
PRODID:-//Construction Public Information - ECPv6.5.2//NONSGML v1.0//EN
CALSCALE:GREGORIAN
METHOD:PUBLISH
X-WR-CALNAME:Construction Public Information
X-ORIGINAL-URL:https://constructionpublicinfo.ua.edu
X-WR-CALDESC:Events for Construction Public Information
REFRESH-INTERVAL;VALUE=DURATION:PT1H
X-Robots-Tag:noindex
X-PUBLISHED-TTL:PT1H
BEGIN:VTIMEZONE
TZID:America/Chicago
BEGIN:DAYLIGHT
TZOFFSETFROM:-0600
TZOFFSETTO:-0500
TZNAME:CDT
DTSTART:20220313T080000
END:DAYLIGHT
BEGIN:STANDARD
TZOFFSETFROM:-0500
TZOFFSETTO:-0600
TZNAME:CST
DTSTART:20221106T070000
END:STANDARD
END:VTIMEZONE
BEGIN:VEVENT
DTSTART;TZID=America/Chicago:20220127T130000
DTEND;TZID=America/Chicago:20220127T140000
DTSTAMP:20260422T090341
CREATED:20211129T183825Z
LAST-MODIFIED:20220110T160819Z
UID:7781-1643288400-1643292000@constructionpublicinfo.ua.edu
SUMMARY:Bid Opening:  Former Alpha Gamma Delta House Demolition #004-22-2766A
DESCRIPTION:Loading...\n						\n					\n					\n						\n							\n							Taking too long?\n						\n						\n							\n								 Reload document							\n							|\n							\n								 Open in new tab							\n					 \n				\n			\n		Download [74.82 KB]  \n			\n				\n					\n						\n							\n							Loading...\n						\n					\n					\n						\n							\n							Taking too long?\n						\n						\n							\n								 Reload document							\n							|\n							\n								 Open in new tab							\n					 \n				\n			\n		Download [117.77 KB]  \n			\n				\n					\n						\n							\n							Loading...\n						\n					\n					\n						\n							\n							Taking too long?\n						\n						\n							\n								 Reload document							\n							|\n							\n								 Open in new tab							\n					 \n				\n			\n		Download [234.46 KB]
URL:https://constructionpublicinfo.ua.edu/bid/bid-opening-former-alpha-gamma-delta-house-demolition-004-22-2766a/
LOCATION:Procurement Services Annex – 405 Cahaba Circle\, Tuscaloosa\, AL 35404\, 405 Cahaba Circle\, Alabama\, AL\, 35404\, United States
CATEGORIES:Bid Openings
ORGANIZER;CN="Suzanne Webster":MAILTO:scirbywebster@ua.edu
END:VEVENT
BEGIN:VEVENT
DTSTART;TZID=America/Chicago:20220127T130000
DTEND;TZID=America/Chicago:20220127T140000
DTSTAMP:20260422T090341
CREATED:20220112T125436Z
LAST-MODIFIED:20220112T125436Z
UID:7877-1643288400-1643292000@constructionpublicinfo.ua.edu
SUMMARY:Bid Opening:  Former Alpha Gamma Delta House Demolition #004-22-2766A
DESCRIPTION:Loading...\n						\n					\n					\n						\n							\n							Taking too long?\n						\n						\n							\n								 Reload document							\n							|\n							\n								 Open in new tab							\n					 \n				\n			\n		Download [74.80 KB]  \n			\n				\n					\n						\n							\n							Loading...\n						\n					\n					\n						\n							\n							Taking too long?\n						\n						\n							\n								 Reload document							\n							|\n							\n								 Open in new tab							\n					 \n				\n			\n		Download [117.77 KB]  \n			\n				\n					\n						\n							\n							Loading...\n						\n					\n					\n						\n							\n							Taking too long?\n						\n						\n							\n								 Reload document							\n							|\n							\n								 Open in new tab							\n					 \n				\n			\n		Download [234.36 KB]
URL:https://constructionpublicinfo.ua.edu/bid/bid-opening-former-alpha-gamma-delta-house-demolition-004-22-2766a-2/
LOCATION:Procurement Services Annex – 405 Cahaba Circle\, Tuscaloosa\, AL 35404\, 405 Cahaba Circle\, Alabama\, AL\, 35404\, United States
CATEGORIES:Bid Openings
ORGANIZER;CN="Suzanne Webster":MAILTO:scirbywebster@ua.edu
END:VEVENT
BEGIN:VEVENT
DTSTART;TZID=America/Chicago:20220127T140000
DTEND;TZID=America/Chicago:20220127T150000
DTSTAMP:20260422T090342
CREATED:20211228T130033Z
LAST-MODIFIED:20211228T130033Z
UID:7865-1643292000-1643295600@constructionpublicinfo.ua.edu
SUMMARY:Bid Opening:  Taylor Hardin Elevator Package #1099-20-2356D
DESCRIPTION:Loading...\n						\n					\n					\n						\n							\n							Taking too long?\n						\n						\n							\n								 Reload document							\n							|\n							\n								 Open in new tab							\n					 \n				\n			\n		Download [73.72 KB]  \n			\n				\n					\n						\n							\n							Loading...\n						\n					\n					\n						\n							\n							Taking too long?\n						\n						\n							\n								 Reload document							\n							|\n							\n								 Open in new tab							\n					 \n				\n			\n		Download [120.09 KB]  \n			\n				\n					\n						\n							\n							Loading...\n						\n					\n					\n						\n							\n							Taking too long?\n						\n						\n							\n								 Reload document							\n							|\n							\n								 Open in new tab							\n					 \n				\n			\n		Download [233.97 KB]
URL:https://constructionpublicinfo.ua.edu/bid/bid-opening-taylor-hardin-elevator-package-1099-20-2356d/
LOCATION:Procurement Services Annex – 405 Cahaba Circle\, Tuscaloosa\, AL 35404\, 405 Cahaba Circle\, Alabama\, AL\, 35404\, United States
CATEGORIES:Bid Openings
END:VEVENT
END:VCALENDAR