BEGIN:VCALENDAR
VERSION:2.0
PRODID:-//Construction Public Information - ECPv6.5.2//NONSGML v1.0//EN
CALSCALE:GREGORIAN
METHOD:PUBLISH
X-WR-CALNAME:Construction Public Information
X-ORIGINAL-URL:https://constructionpublicinfo.ua.edu
X-WR-CALDESC:Events for Construction Public Information
REFRESH-INTERVAL;VALUE=DURATION:PT1H
X-Robots-Tag:noindex
X-PUBLISHED-TTL:PT1H
BEGIN:VTIMEZONE
TZID:America/Chicago
BEGIN:DAYLIGHT
TZOFFSETFROM:-0600
TZOFFSETTO:-0500
TZNAME:CDT
DTSTART:20220313T080000
END:DAYLIGHT
BEGIN:STANDARD
TZOFFSETFROM:-0500
TZOFFSETTO:-0600
TZNAME:CST
DTSTART:20221106T070000
END:STANDARD
END:VTIMEZONE
BEGIN:VEVENT
DTSTART;VALUE=DATE:20220215
DTEND;VALUE=DATE:20220216
DTSTAMP:20260422T085730
CREATED:20220124T141100Z
LAST-MODIFIED:20220124T141100Z
UID:7991-1644883200-1644969599@constructionpublicinfo.ua.edu
SUMMARY:Pre-Qualifications:  Presidents Mansion Support Facility Fit-out #158-22-2905
DESCRIPTION:Loading...\n						\n					\n					\n						\n							\n							Taking too long?\n						\n						\n							\n								 Reload document							\n							|\n							\n								 Open in new tab							\n					 \n				\n			\n		Download [74.42 KB]  \n			\n				\n					\n						\n							\n							Loading...\n						\n					\n					\n						\n							\n							Taking too long?\n						\n						\n							\n								 Reload document							\n							|\n							\n								 Open in new tab							\n					 \n				\n			\n		Download [120.76 KB]  \n			\n				\n					\n						\n							\n							Loading...\n						\n					\n					\n						\n							\n							Taking too long?\n						\n						\n							\n								 Reload document							\n							|\n							\n								 Open in new tab							\n					 \n				\n			\n		Download [234.02 KB]
URL:https://constructionpublicinfo.ua.edu/bid/pre-qualifications-presidents-mansion-support-facility-fit-out-158-22-2905/
LOCATION:AL
CATEGORIES:Prequalifications
ORGANIZER;CN="Michael Hand":MAILTO:mjhand2@ua.edu
END:VEVENT
BEGIN:VEVENT
DTSTART;VALUE=DATE:20220215
DTEND;VALUE=DATE:20220216
DTSTAMP:20260422T085730
CREATED:20220131T132555Z
LAST-MODIFIED:20220131T132555Z
UID:8010-1644883200-1644969599@constructionpublicinfo.ua.edu
SUMMARY:Pre-Qualifications:  Smart Communities & Innovation Building Reno & Addition #430-20-2412A
DESCRIPTION:Loading...\n						\n					\n					\n						\n							\n							Taking too long?\n						\n						\n							\n								 Reload document							\n							|\n							\n								 Open in new tab							\n					 \n				\n			\n		Download [73.90 KB]  \n			\n				\n					\n						\n							\n							Loading...\n						\n					\n					\n						\n							\n							Taking too long?\n						\n						\n							\n								 Reload document							\n							|\n							\n								 Open in new tab							\n					 \n				\n			\n		Download [122.33 KB]  \n			\n				\n					\n						\n							\n							Loading...\n						\n					\n					\n						\n							\n							Taking too long?\n						\n						\n							\n								 Reload document							\n							|\n							\n								 Open in new tab							\n					 \n				\n			\n		Download [264.65 KB]
URL:https://constructionpublicinfo.ua.edu/bid/pre-qualifications-smart-communities-innovation-building-reno-addition-430-20-2412a/
LOCATION:AL
CATEGORIES:Prequalifications
ORGANIZER;CN="Tommy Alfano":MAILTO:talfano1@ua.edu
END:VEVENT
BEGIN:VEVENT
DTSTART;VALUE=DATE:20220215
DTEND;VALUE=DATE:20220216
DTSTAMP:20260422T085730
CREATED:20220131T133211Z
LAST-MODIFIED:20220131T133211Z
UID:8019-1644883200-1644969599@constructionpublicinfo.ua.edu
SUMMARY:Pre-Qualifications:  Harris Hall Demolition #004-22-2766B
DESCRIPTION:Loading...\n						\n					\n					\n						\n							\n							Taking too long?\n						\n						\n							\n								 Reload document							\n							|\n							\n								 Open in new tab							\n					 \n				\n			\n		Download [74.75 KB]  \n			\n				\n					\n						\n							\n							Loading...\n						\n					\n					\n						\n							\n							Taking too long?\n						\n						\n							\n								 Reload document							\n							|\n							\n								 Open in new tab							\n					 \n				\n			\n		Download [117.50 KB]  \n			\n				\n					\n						\n							\n							Loading...\n						\n					\n					\n						\n							\n							Taking too long?\n						\n						\n							\n								 Reload document							\n							|\n							\n								 Open in new tab							\n					 \n				\n			\n		Download [234.38 KB]
URL:https://constructionpublicinfo.ua.edu/bid/pre-qualifications-harris-hall-demolition-004-22-2766b/
LOCATION:AL
CATEGORIES:Prequalifications
ORGANIZER;CN="Suzanne Webster":MAILTO:scirbywebster@ua.edu
END:VEVENT
BEGIN:VEVENT
DTSTART;VALUE=DATE:20220215
DTEND;VALUE=DATE:20220216
DTSTAMP:20260422T085730
CREATED:20220131T134007Z
LAST-MODIFIED:20220131T134034Z
UID:8028-1644883200-1644969599@constructionpublicinfo.ua.edu
SUMMARY:Pre-Qualifications:  Student Center North Parking Lot Enhancements #TRN-21-2727
DESCRIPTION:Loading...\n						\n					\n					\n						\n							\n							Taking too long?\n						\n						\n							\n								 Reload document							\n							|\n							\n								 Open in new tab							\n					 \n				\n			\n		Download [93.93 KB]  \n			\n				\n					\n						\n							\n							Loading...\n						\n					\n					\n						\n							\n							Taking too long?\n						\n						\n							\n								 Reload document							\n							|\n							\n								 Open in new tab							\n					 \n				\n			\n		Download [119.92 KB]  \n			\n				\n					\n						\n							\n							Loading...\n						\n					\n					\n						\n							\n							Taking too long?\n						\n						\n							\n								 Reload document							\n							|\n							\n								 Open in new tab							\n					 \n				\n			\n		Download [234.27 KB]
URL:https://constructionpublicinfo.ua.edu/bid/pre-qualifications-student-center-north-parking-lot-enhancements-trn-21-2727/
LOCATION:AL
CATEGORIES:Prequalifications
END:VEVENT
BEGIN:VEVENT
DTSTART;VALUE=DATE:20220215
DTEND;VALUE=DATE:20220216
DTSTAMP:20260422T085730
CREATED:20220131T141003Z
LAST-MODIFIED:20220131T141003Z
UID:8037-1644883200-1644969599@constructionpublicinfo.ua.edu
SUMMARY:Pre-Qualifications:  Taylor Hardin Phase 3 Building Addition/Renovation & Utilities Pkg. #1099-20-2356C
DESCRIPTION:Loading...\n						\n					\n					\n						\n							\n							Taking too long?\n						\n						\n							\n								 Reload document							\n							|\n							\n								 Open in new tab							\n					 \n				\n			\n		Download [74.28 KB]  \n			\n				\n					\n						\n							\n							Loading...\n						\n					\n					\n						\n							\n							Taking too long?\n						\n						\n							\n								 Reload document							\n							|\n							\n								 Open in new tab							\n					 \n				\n			\n		Download  \n			\n				\n					\n						\n							\n							Loading...\n						\n					\n					\n						\n							\n							Taking too long?\n						\n						\n							\n								 Reload document							\n							|\n							\n								 Open in new tab							\n					 \n				\n			\n		Download [234.41 KB]
URL:https://constructionpublicinfo.ua.edu/bid/pre-qualifications-taylor-hardin-phase-3-building-addition-renovation-utilities-pkg-1099-20-2356c/
LOCATION:AL
CATEGORIES:Prequalifications
END:VEVENT
BEGIN:VEVENT
DTSTART;VALUE=DATE:20220215
DTEND;VALUE=DATE:20220216
DTSTAMP:20260422T085735
CREATED:20220207T140702Z
LAST-MODIFIED:20220207T140702Z
UID:8067-1644883200-1644969599@constructionpublicinfo.ua.edu
SUMMARY:Pre-Qualifications:  Bryant-Denny Stadium North & East Lower Bowl Waterproofing #046-22-2845
DESCRIPTION:Loading...\n						\n					\n					\n						\n							\n							Taking too long?\n						\n						\n							\n								 Reload document							\n							|\n							\n								 Open in new tab							\n					 \n				\n			\n		Download [72.87 KB]  \n			\n				\n					\n						\n							\n							Loading...\n						\n					\n					\n						\n							\n							Taking too long?\n						\n						\n							\n								 Reload document							\n							|\n							\n								 Open in new tab							\n					 \n				\n			\n		Download [121.05 KB]  \n			\n				\n					\n						\n							\n							Loading...\n						\n					\n					\n						\n							\n							Taking too long?\n						\n						\n							\n								 Reload document							\n							|\n							\n								 Open in new tab							\n					 \n				\n			\n		Download [232.42 KB]
URL:https://constructionpublicinfo.ua.edu/bid/pre-qualifications-bryant-denny-stadium-north-east-lower-bowl-waterproofing-046-22-2845/
LOCATION:AL
CATEGORIES:Prequalifications
ORGANIZER;CN="Sommer Coleman":MAILTO:shcoleman1@ua.edu
END:VEVENT
BEGIN:VEVENT
DTSTART;VALUE=DATE:20220215
DTEND;VALUE=DATE:20220216
DTSTAMP:20260422T085735
CREATED:20220207T141250Z
LAST-MODIFIED:20220207T183211Z
UID:8076-1644883200-1644969599@constructionpublicinfo.ua.edu
SUMMARY:Pre-Qualifications:  Tutwiler Site Redevelopment #206-20-2446B
DESCRIPTION:***REVISION ON “FINAL PLANS” THESE WILL BE AVAILABLE ON 2/21/22 INSTEAD OF 2/14/2022*** \n			\n				\n					\n						\n							\n							Loading...\n						\n					\n					\n						\n							\n							Taking too long?\n						\n						\n							\n								 Reload document							\n							|\n							\n								 Open in new tab							\n					 \n				\n			\n		Download [73.50 KB]  \n			\n				\n					\n						\n							\n							Loading...\n						\n					\n					\n						\n							\n							Taking too long?\n						\n						\n							\n								 Reload document							\n							|\n							\n								 Open in new tab							\n					 \n				\n			\n		Download [122.75 KB]  \n			\n				\n					\n						\n							\n							Loading...\n						\n					\n					\n						\n							\n							Taking too long?\n						\n						\n							\n								 Reload document							\n							|\n							\n								 Open in new tab							\n					 \n				\n			\n		Download [232.54 KB]
URL:https://constructionpublicinfo.ua.edu/bid/pre-qualifications-tutwiler-site-redevelopment-206-20-2446b/
LOCATION:AL
CATEGORIES:Prequalifications
ORGANIZER;CN="Terrence Craven":MAILTO:tmcraven@ua.edu
END:VEVENT
BEGIN:VEVENT
DTSTART;TZID=America/Chicago:20220215T090000
DTEND;TZID=America/Chicago:20220215T100000
DTSTAMP:20260422T085735
CREATED:20211123T214105Z
LAST-MODIFIED:20220121T182957Z
UID:7736-1644915600-1644919200@constructionpublicinfo.ua.edu
SUMMARY:Pre-Bid:  University Services Campus Community Safe Room #1037-20-2320
DESCRIPTION:Loading...\n						\n					\n					\n						\n							\n							Taking too long?\n						\n						\n							\n								 Reload document							\n							|\n							\n								 Open in new tab							\n					 \n				\n			\n		Download [72.32 KB]  \n			\n				\n					\n						\n							\n							Loading...\n						\n					\n					\n						\n							\n							Taking too long?\n						\n						\n							\n								 Reload document							\n							|\n							\n								 Open in new tab							\n					 \n				\n			\n		Download [120.99 KB]  \nDownload [231.23 KB]
URL:https://constructionpublicinfo.ua.edu/bid/pre-bid-university-services-campus-community-safe-room-1037-20-2320/
LOCATION:Procurement Services Annex – 405 Cahaba Circle\, Tuscaloosa\, AL 35404\, 405 Cahaba Circle\, Alabama\, AL\, 35404\, United States
CATEGORIES:Pre-Bid Conference
ORGANIZER;CN="Leila Ahmady":MAILTO:lahmady@ua.edu
END:VEVENT
BEGIN:VEVENT
DTSTART;TZID=America/Chicago:20220215T100000
DTEND;TZID=America/Chicago:20220215T110000
DTSTAMP:20260422T085735
CREATED:20220118T134253Z
LAST-MODIFIED:20220118T134253Z
UID:7923-1644919200-1644922800@constructionpublicinfo.ua.edu
SUMMARY:Pre-Bid:  SERC ECL Teaching Lab & Gas Turbine Test Cell #235-21-2534
DESCRIPTION:Loading...\n						\n					\n					\n						\n							\n							Taking too long?\n						\n						\n							\n								 Reload document							\n							|\n							\n								 Open in new tab							\n					 \n				\n			\n		Download [73.51 KB]  \n			\n				\n					\n						\n							\n							Loading...\n						\n					\n					\n						\n							\n							Taking too long?\n						\n						\n							\n								 Reload document							\n							|\n							\n								 Open in new tab							\n					 \n				\n			\n		Download [120.67 KB]  \n			\n				\n					\n						\n							\n							Loading...\n						\n					\n					\n						\n							\n							Taking too long?\n						\n						\n							\n								 Reload document							\n							|\n							\n								 Open in new tab							\n					 \n				\n			\n		Download [282.44 KB]
URL:https://constructionpublicinfo.ua.edu/bid/pre-bid-serc-ecl-teaching-lab-gas-turbine-test-cell-235-21-2534-2/
LOCATION:Procurement Services Annex – 405 Cahaba Circle\, Tuscaloosa\, AL 35404\, 405 Cahaba Circle\, Alabama\, AL\, 35404\, United States
CATEGORIES:Pre-Bid Conference
END:VEVENT
BEGIN:VEVENT
DTSTART;TZID=America/Chicago:20220215T110000
DTEND;TZID=America/Chicago:20220215T120000
DTSTAMP:20260422T085736
CREATED:20211123T214544Z
LAST-MODIFIED:20220121T183613Z
UID:7745-1644922800-1644926400@constructionpublicinfo.ua.edu
SUMMARY:Pre-Bid:  Bryce Lawn Community Safe Room #356-21-2318
DESCRIPTION:Loading...\n						\n					\n					\n						\n							\n							Taking too long?\n						\n						\n							\n								 Reload document							\n							|\n							\n								 Open in new tab							\n					 \n				\n			\n		Download [72.19 KB]  \n			\n				\n					\n						\n							\n							Loading...\n						\n					\n					\n						\n							\n							Taking too long?\n						\n						\n							\n								 Reload document							\n							|\n							\n								 Open in new tab							\n					 \n				\n			\n		Download [120.98 KB]  \nDownload [239.52 KB]
URL:https://constructionpublicinfo.ua.edu/bid/pre-bid-bryce-lawn-community-safe-room-356-21-2318/
LOCATION:Procurement Services Annex – 405 Cahaba Circle\, Tuscaloosa\, AL 35404\, 405 Cahaba Circle\, Alabama\, AL\, 35404\, United States
CATEGORIES:Pre-Bid Conference
ORGANIZER;CN="Leila Ahmady":MAILTO:lahmady@ua.edu
END:VEVENT
BEGIN:VEVENT
DTSTART;TZID=America/Chicago:20220215T140000
DTEND;TZID=America/Chicago:20220215T150000
DTSTAMP:20260422T085736
CREATED:20211220T151412Z
LAST-MODIFIED:20211220T151412Z
UID:7843-1644933600-1644937200@constructionpublicinfo.ua.edu
SUMMARY:Bid Opening:  University Hall Addition #420-20-2434
DESCRIPTION:Loading...\n						\n					\n					\n						\n							\n							Taking too long?\n						\n						\n							\n								 Reload document							\n							|\n							\n								 Open in new tab							\n					 \n				\n			\n		Download [73.66 KB]  \n			\n				\n					\n						\n							\n							Loading...\n						\n					\n					\n						\n							\n							Taking too long?\n						\n						\n							\n								 Reload document							\n							|\n							\n								 Open in new tab							\n					 \n				\n			\n		Download [120.22 KB]  \n			\n				\n					\n						\n							\n							Loading...\n						\n					\n					\n						\n							\n							Taking too long?\n						\n						\n							\n								 Reload document							\n							|\n							\n								 Open in new tab							\n					 \n				\n			\n		Download [233.98 KB]
URL:https://constructionpublicinfo.ua.edu/bid/bid-opening-university-hall-addition-420-20-2434/
LOCATION:Procurement Services Annex – 405 Cahaba Circle\, Tuscaloosa\, AL 35404\, 405 Cahaba Circle\, Alabama\, AL\, 35404\, United States
CATEGORIES:Bid Openings
ORGANIZER;CN="Sommer Coleman":MAILTO:shcoleman1@ua.edu
END:VEVENT
BEGIN:VEVENT
DTSTART;TZID=America/Chicago:20220215T150000
DTEND;TZID=America/Chicago:20220215T160000
DTSTAMP:20260422T085736
CREATED:20220118T132827Z
LAST-MODIFIED:20220118T132827Z
UID:7909-1644937200-1644940800@constructionpublicinfo.ua.edu
SUMMARY:Bid Opening:  Campus Energy Delivery to Rose Admin. & Gorgas Library Areas #UTL-22-2811B
DESCRIPTION:Loading...\n						\n					\n					\n						\n							\n							Taking too long?\n						\n						\n							\n								 Reload document							\n							|\n							\n								 Open in new tab							\n					 \n				\n			\n		Download [75.03 KB]  \n			\n				\n					\n						\n							\n							Loading...\n						\n					\n					\n						\n							\n							Taking too long?\n						\n						\n							\n								 Reload document							\n							|\n							\n								 Open in new tab							\n					 \n				\n			\n		Download [121.66 KB]  \n			\n				\n					\n						\n							\n							Loading...\n						\n					\n					\n						\n							\n							Taking too long?\n						\n						\n							\n								 Reload document							\n							|\n							\n								 Open in new tab							\n					 \n				\n			\n		Download [234.15 KB]
URL:https://constructionpublicinfo.ua.edu/bid/bid-opening-campus-energy-delivery-to-rose-admin-gorgas-library-areas-utl-22-2811b/
LOCATION:Procurement Services Annex – 405 Cahaba Circle\, Tuscaloosa\, AL 35404\, 405 Cahaba Circle\, Alabama\, AL\, 35404\, United States
CATEGORIES:Bid Openings
ORGANIZER;CN="Steven Mercado":MAILTO:smmercado@ua.edu
END:VEVENT
BEGIN:VEVENT
DTSTART;TZID=America/Chicago:20220215T160000
DTEND;TZID=America/Chicago:20220215T170000
DTSTAMP:20260422T085736
CREATED:20220118T132113Z
LAST-MODIFIED:20220202T142344Z
UID:7905-1644940800-1644944400@constructionpublicinfo.ua.edu
SUMMARY:Pre-Bid:  Campus Energy Delivery to Bryant Conf. Center & Moody Music Areas #UTL-22-2811C
DESCRIPTION:Loading...\n						\n					\n					\n						\n							\n							Taking too long?\n						\n						\n							\n								 Reload document							\n							|\n							\n								 Open in new tab							\n					 \n				\n			\n		Download [75.64 KB]  \n			\n				\n					\n						\n							\n							Loading...\n						\n					\n					\n						\n							\n							Taking too long?\n						\n						\n							\n								 Reload document							\n							|\n							\n								 Open in new tab							\n					 \n				\n			\n		Download [121.69 KB]  \n			\n				\n					\n						\n							\n							Loading...\n						\n					\n					\n						\n							\n							Taking too long?\n						\n						\n							\n								 Reload document							\n							|\n							\n								 Open in new tab							\n					 \n				\n			\n		Download [234.12 KB]
URL:https://constructionpublicinfo.ua.edu/bid/pre-bid-campus-energy-delivery-to-bryant-conf-center-moody-music-areas-utl-22-2811c/
LOCATION:Procurement Services Annex – 405 Cahaba Circle\, Tuscaloosa\, AL 35404\, 405 Cahaba Circle\, Alabama\, AL\, 35404\, United States
CATEGORIES:Pre-Bid Conference
ORGANIZER;CN="Steven Mercado":MAILTO:smmercado@ua.edu
END:VEVENT
END:VCALENDAR