BEGIN:VCALENDAR
VERSION:2.0
PRODID:-//Construction Public Information - ECPv6.5.2//NONSGML v1.0//EN
CALSCALE:GREGORIAN
METHOD:PUBLISH
X-WR-CALNAME:Construction Public Information
X-ORIGINAL-URL:https://constructionpublicinfo.ua.edu
X-WR-CALDESC:Events for Construction Public Information
REFRESH-INTERVAL;VALUE=DURATION:PT1H
X-Robots-Tag:noindex
X-PUBLISHED-TTL:PT1H
BEGIN:VTIMEZONE
TZID:America/Chicago
BEGIN:DAYLIGHT
TZOFFSETFROM:-0600
TZOFFSETTO:-0500
TZNAME:CDT
DTSTART:20220313T080000
END:DAYLIGHT
BEGIN:STANDARD
TZOFFSETFROM:-0500
TZOFFSETTO:-0600
TZNAME:CST
DTSTART:20221106T070000
END:STANDARD
END:VTIMEZONE
BEGIN:VEVENT
DTSTART;TZID=America/Chicago:20220224T100000
DTEND;TZID=America/Chicago:20220224T110000
DTSTAMP:20260422T090329
CREATED:20220131T133726Z
LAST-MODIFIED:20220131T133726Z
UID:8026-1645696800-1645700400@constructionpublicinfo.ua.edu
SUMMARY:Pre-Bid:  Student Center North Parking Lot Enhancements #TRN-21-2727
DESCRIPTION:Loading...\n						\n					\n					\n						\n							\n							Taking too long?\n						\n						\n							\n								 Reload document							\n							|\n							\n								 Open in new tab							\n					 \n				\n			\n		Download [93.93 KB]  \n			\n				\n					\n						\n							\n							Loading...\n						\n					\n					\n						\n							\n							Taking too long?\n						\n						\n							\n								 Reload document							\n							|\n							\n								 Open in new tab							\n					 \n				\n			\n		Download [119.92 KB]  \n			\n				\n					\n						\n							\n							Loading...\n						\n					\n					\n						\n							\n							Taking too long?\n						\n						\n							\n								 Reload document							\n							|\n							\n								 Open in new tab							\n					 \n				\n			\n		Download [234.27 KB]
URL:https://constructionpublicinfo.ua.edu/bid/pre-bid-student-center-north-parking-lot-enhancements-trn-21-2727/
LOCATION:Procurement Services Annex – 405 Cahaba Circle\, Tuscaloosa\, AL 35404\, 405 Cahaba Circle\, Alabama\, AL\, 35404\, United States
CATEGORIES:Pre-Bid Conference
END:VEVENT
BEGIN:VEVENT
DTSTART;TZID=America/Chicago:20220224T110000
DTEND;TZID=America/Chicago:20220224T120000
DTSTAMP:20260422T090329
CREATED:20220131T140506Z
LAST-MODIFIED:20220131T140517Z
UID:8035-1645700400-1645704000@constructionpublicinfo.ua.edu
SUMMARY:Pre-Bid:  Taylor Hardin Phase 3 Building Addition/Renovation & Utilities Pkg. #1099-20-2356C
DESCRIPTION:Loading...\n						\n					\n					\n						\n							\n							Taking too long?\n						\n						\n							\n								 Reload document							\n							|\n							\n								 Open in new tab							\n					 \n				\n			\n		Download [74.28 KB]  \n			\n				\n					\n						\n							\n							Loading...\n						\n					\n					\n						\n							\n							Taking too long?\n						\n						\n							\n								 Reload document							\n							|\n							\n								 Open in new tab							\n					 \n				\n			\n		Download [120.30 KB]  \n			\n				\n					\n						\n							\n							Loading...\n						\n					\n					\n						\n							\n							Taking too long?\n						\n						\n							\n								 Reload document							\n							|\n							\n								 Open in new tab							\n					 \n				\n			\n		Download [234.41 KB]
URL:https://constructionpublicinfo.ua.edu/bid/pre-bid-taylor-hardin-phase-3-building-addition-renovation-utilities-pkg-1099-20-2356c/
LOCATION:Procurement Services Annex – 405 Cahaba Circle\, Tuscaloosa\, AL 35404\, 405 Cahaba Circle\, Alabama\, AL\, 35404\, United States
CATEGORIES:Pre-Bid Conference
END:VEVENT
BEGIN:VEVENT
DTSTART;TZID=America/Chicago:20220224T130000
DTEND;TZID=America/Chicago:20220224T140000
DTSTAMP:20260422T090329
CREATED:20220118T131052Z
LAST-MODIFIED:20220118T131052Z
UID:7890-1645707600-1645711200@constructionpublicinfo.ua.edu
SUMMARY:Bid Opening:  Bidgood Classrooms 110 & 210 Renovations #031-21-2789
DESCRIPTION:Loading...\n						\n					\n					\n						\n							\n							Taking too long?\n						\n						\n							\n								 Reload document							\n							|\n							\n								 Open in new tab							\n					 \n				\n			\n		Download [72.29 KB]  \n			\n				\n					\n						\n							\n							Loading...\n						\n					\n					\n						\n							\n							Taking too long?\n						\n						\n							\n								 Reload document							\n							|\n							\n								 Open in new tab							\n					 \n				\n			\n		Download [120.54 KB]  \n			\n				\n					\n						\n							\n							Loading...\n						\n					\n					\n						\n							\n							Taking too long?\n						\n						\n							\n								 Reload document							\n							|\n							\n								 Open in new tab							\n					 \n				\n			\n		Download [234.01 KB]
URL:https://constructionpublicinfo.ua.edu/bid/bid-opening-bidgood-classrooms-110-210-renovations-031-21-2789/
LOCATION:Procurement Services Annex – 405 Cahaba Circle\, Tuscaloosa\, AL 35404\, 405 Cahaba Circle\, Alabama\, AL\, 35404\, United States
CATEGORIES:Bid Openings
END:VEVENT
BEGIN:VEVENT
DTSTART;TZID=America/Chicago:20220224T150000
DTEND;TZID=America/Chicago:20220224T160000
DTSTAMP:20260422T090329
CREATED:20220118T134846Z
LAST-MODIFIED:20220224T134748Z
UID:7927-1645714800-1645718400@constructionpublicinfo.ua.edu
SUMMARY:Bid Opening:  Tutwiler Parking Deck Thermal Energy Plant #UTL-22-2811A
DESCRIPTION:Loading...\n						\n					\n					\n						\n							\n							Taking too long?\n						\n						\n							\n								 Reload document							\n							|\n							\n								 Open in new tab							\n					 \n				\n			\n		Download [75.07 KB]  \n			\n				\n					\n						\n							\n							Loading...\n						\n					\n					\n						\n							\n							Taking too long?\n						\n						\n							\n								 Reload document							\n							|\n							\n								 Open in new tab							\n					 \n				\n			\n		Download [121.40 KB]  \n			\n				\n					\n						\n							\n							Loading...\n						\n					\n					\n						\n							\n							Taking too long?\n						\n						\n							\n								 Reload document							\n							|\n							\n								 Open in new tab							\n					 \n				\n			\n		Download [234.24 KB]
URL:https://constructionpublicinfo.ua.edu/bid/bid-opening-tutwiler-parking-deck-thermal-energy-plant-utl-22-2811a/
LOCATION:Procurement Services Annex – 405 Cahaba Circle\, Tuscaloosa\, AL 35404\, 405 Cahaba Circle\, Alabama\, AL\, 35404\, United States
CATEGORIES:Bid Openings
ORGANIZER;CN="Steven Mercado":MAILTO:smmercado@ua.edu
END:VEVENT
END:VCALENDAR