BEGIN:VCALENDAR
VERSION:2.0
PRODID:-//Construction Public Information - ECPv6.5.2//NONSGML v1.0//EN
CALSCALE:GREGORIAN
METHOD:PUBLISH
X-WR-CALNAME:Construction Public Information
X-ORIGINAL-URL:https://constructionpublicinfo.ua.edu
X-WR-CALDESC:Events for Construction Public Information
REFRESH-INTERVAL;VALUE=DURATION:PT1H
X-Robots-Tag:noindex
X-PUBLISHED-TTL:PT1H
BEGIN:VTIMEZONE
TZID:America/Chicago
BEGIN:DAYLIGHT
TZOFFSETFROM:-0600
TZOFFSETTO:-0500
TZNAME:CDT
DTSTART:20220313T080000
END:DAYLIGHT
BEGIN:STANDARD
TZOFFSETFROM:-0500
TZOFFSETTO:-0600
TZNAME:CST
DTSTART:20221106T070000
END:STANDARD
END:VTIMEZONE
BEGIN:VEVENT
DTSTART;VALUE=DATE:20220322
DTEND;VALUE=DATE:20220323
DTSTAMP:20260422T055453
CREATED:20220307T153257Z
LAST-MODIFIED:20220307T153257Z
UID:8200-1647907200-1647993599@constructionpublicinfo.ua.edu
SUMMARY:Pre-Qualifications:  Drummond Lyon Hall #044-21-2710
DESCRIPTION:Loading...\n						\n					\n					\n						\n							\n							Taking too long?\n						\n						\n							\n								 Reload document							\n							|\n							\n								 Open in new tab							\n					 \n				\n			\n		Download [74.19 KB]  \n			\n				\n					\n						\n							\n							Loading...\n						\n					\n					\n						\n							\n							Taking too long?\n						\n						\n							\n								 Reload document							\n							|\n							\n								 Open in new tab							\n					 \n				\n			\n		Download [117.50 KB]  \n			\n				\n					\n						\n							\n							Loading...\n						\n					\n					\n						\n							\n							Taking too long?\n						\n						\n							\n								 Reload document							\n							|\n							\n								 Open in new tab							\n					 \n				\n			\n		Download [234.55 KB]
URL:https://constructionpublicinfo.ua.edu/bid/pre-qualifications-drummond-lyon-hall-044-21-2710/
LOCATION:AL
CATEGORIES:Prequalifications
ORGANIZER;CN="Suzanne Webster":MAILTO:scirbywebster@ua.edu
END:VEVENT
BEGIN:VEVENT
DTSTART;VALUE=DATE:20220322
DTEND;VALUE=DATE:20220323
DTSTAMP:20260422T055453
CREATED:20220307T155041Z
LAST-MODIFIED:20220307T155041Z
UID:8210-1647907200-1647993599@constructionpublicinfo.ua.edu
SUMMARY:Pre-Qualifications:  Ridgecrest East & West Stucco & Sealant Repair #269-22-2917 & #270-22-2918
DESCRIPTION:Loading...\n						\n					\n					\n						\n							\n							Taking too long?\n						\n						\n							\n								 Reload document							\n							|\n							\n								 Open in new tab							\n					 \n				\n			\n		Download [73.26 KB]  \n			\n				\n					\n						\n							\n							Loading...\n						\n					\n					\n						\n							\n							Taking too long?\n						\n						\n							\n								 Reload document							\n							|\n							\n								 Open in new tab							\n					 \n				\n			\n		Download [117.80 KB]  \n			\n				\n					\n						\n							\n							Loading...\n						\n					\n					\n						\n							\n							Taking too long?\n						\n						\n							\n								 Reload document							\n							|\n							\n								 Open in new tab							\n					 \n				\n			\n		Download [235.46 KB]
URL:https://constructionpublicinfo.ua.edu/bid/pre-qualifications-ridgecrest-east-west-stucco-sealant-repair-269-22-2917-270-22-2918/
LOCATION:AL
CATEGORIES:Prequalifications
ORGANIZER;CN="Jessie Green":MAILTO:jessica.s.green@ua.edu
END:VEVENT
BEGIN:VEVENT
DTSTART;VALUE=DATE:20220322
DTEND;VALUE=DATE:20220323
DTSTAMP:20260422T055453
CREATED:20220307T155824Z
LAST-MODIFIED:20220307T155824Z
UID:8219-1647907200-1647993599@constructionpublicinfo.ua.edu
SUMMARY:Pre-Qualifications:  Martha Parham / Alumni Hall Sanitary Repairs #UTL-22-2914
DESCRIPTION:Loading...\n						\n					\n					\n						\n							\n							Taking too long?\n						\n						\n							\n								 Reload document							\n							|\n							\n								 Open in new tab							\n					 \n				\n			\n		Download [71.90 KB]  \n			\n				\n					\n						\n							\n							Loading...\n						\n					\n					\n						\n							\n							Taking too long?\n						\n						\n							\n								 Reload document							\n							|\n							\n								 Open in new tab							\n					 \n				\n			\n		Download [117.08 KB]  \n			\n				\n					\n						\n							\n							Loading...\n						\n					\n					\n						\n							\n							Taking too long?\n						\n						\n							\n								 Reload document							\n							|\n							\n								 Open in new tab							\n					 \n				\n			\n		Download [284.80 KB]
URL:https://constructionpublicinfo.ua.edu/bid/pre-qualifications-martha-parham-alumni-hall-sanitary-repairs-utl-22-2914/
LOCATION:AL
CATEGORIES:Prequalifications
ORGANIZER;CN="Jessie Green":MAILTO:jessica.s.green@ua.edu
END:VEVENT
BEGIN:VEVENT
DTSTART;TZID=America/Chicago:20220322T090000
DTEND;TZID=America/Chicago:20220322T100000
DTSTAMP:20260422T055453
CREATED:20220221T210745Z
LAST-MODIFIED:20220221T210745Z
UID:8144-1647939600-1647943200@constructionpublicinfo.ua.edu
SUMMARY:Pre-Bid:  Campus Wide Drainage Phase II #LAN-22-2759B
DESCRIPTION:Loading...\n						\n					\n					\n						\n							\n							Taking too long?\n						\n						\n							\n								 Reload document							\n							|\n							\n								 Open in new tab							\n					 \n				\n			\n		Download [72.38 KB]  \n			\n				\n					\n						\n							\n							Loading...\n						\n					\n					\n						\n							\n							Taking too long?\n						\n						\n							\n								 Reload document							\n							|\n							\n								 Open in new tab							\n					 \n				\n			\n		Download [105.24 KB]  \n			\n				\n					\n						\n							\n							Loading...\n						\n					\n					\n						\n							\n							Taking too long?\n						\n						\n							\n								 Reload document							\n							|\n							\n								 Open in new tab							\n					 \n				\n			\n		Download [313.64 KB]
URL:https://constructionpublicinfo.ua.edu/bid/pre-bid-campus-wide-drainage-phase-ii-lan-22-2759b/
LOCATION:Procurement Services Annex – 405 Cahaba Circle\, Tuscaloosa\, AL 35404\, 405 Cahaba Circle\, Alabama\, AL\, 35404\, United States
CATEGORIES:Pre-Bid Conference
ORGANIZER;CN="David Jones":MAILTO:dajones11@ua.edu
END:VEVENT
BEGIN:VEVENT
DTSTART;TZID=America/Chicago:20220322T100000
DTEND;TZID=America/Chicago:20220322T110000
DTSTAMP:20260422T055453
CREATED:20220221T210152Z
LAST-MODIFIED:20220221T210152Z
UID:8135-1647943200-1647946800@constructionpublicinfo.ua.edu
SUMMARY:Pre-Bid:  Reese Phifer 4th Floor Theater - AV Equipment #205-21-2535
DESCRIPTION:Loading...\n						\n					\n					\n						\n							\n							Taking too long?\n						\n						\n							\n								 Reload document							\n							|\n							\n								 Open in new tab							\n					 \n				\n			\n		Download [75.12 KB]  \n			\n				\n					\n						\n							\n							Loading...\n						\n					\n					\n						\n							\n							Taking too long?\n						\n						\n							\n								 Reload document							\n							|\n							\n								 Open in new tab							\n					 \n				\n			\n		Download [121.62 KB]  \n			\n				\n					\n						\n							\n							Loading...\n						\n					\n					\n						\n							\n							Taking too long?\n						\n						\n							\n								 Reload document							\n							|\n							\n								 Open in new tab							\n					 \n				\n			\n		Download [284.00 KB]
URL:https://constructionpublicinfo.ua.edu/bid/pre-bid-reese-phifer-4th-floor-theater-av-equipment-205-21-2535/
LOCATION:Procurement Services Annex – 405 Cahaba Circle\, Tuscaloosa\, AL 35404\, 405 Cahaba Circle\, Alabama\, AL\, 35404\, United States
CATEGORIES:Pre-Bid Conference
ORGANIZER;CN="Brittany Kyles":MAILTO:bkyles@ua.edu
END:VEVENT
BEGIN:VEVENT
DTSTART;TZID=America/Chicago:20220322T110000
DTEND;TZID=America/Chicago:20220322T120000
DTSTAMP:20260422T055453
CREATED:20220214T144743Z
LAST-MODIFIED:20220214T144743Z
UID:8121-1647946800-1647950400@constructionpublicinfo.ua.edu
SUMMARY:Pre-Bid:  Barnwell Hall Cellular Closet #028-21-2474
DESCRIPTION:Loading...\n						\n					\n					\n						\n							\n							Taking too long?\n						\n						\n							\n								 Reload document							\n							|\n							\n								 Open in new tab							\n					 \n				\n			\n		Download [74.47 KB]  \n			\n				\n					\n						\n							\n							Loading...\n						\n					\n					\n						\n							\n							Taking too long?\n						\n						\n							\n								 Reload document							\n							|\n							\n								 Open in new tab							\n					 \n				\n			\n		Download [117.60 KB]  \n			\n				\n					\n						\n							\n							Loading...\n						\n					\n					\n						\n							\n							Taking too long?\n						\n						\n							\n								 Reload document							\n							|\n							\n								 Open in new tab							\n					 \n				\n			\n		Download [234.44 KB]
URL:https://constructionpublicinfo.ua.edu/bid/pre-bid-barnwell-hall-cellular-closet-028-21-2474/
LOCATION:Procurement Services Annex – 405 Cahaba Circle\, Tuscaloosa\, AL 35404\, 405 Cahaba Circle\, Alabama\, AL\, 35404\, United States
CATEGORIES:Pre-Bid Conference
ORGANIZER;CN="Suzanne Webster":MAILTO:scirbywebster@ua.edu
END:VEVENT
END:VCALENDAR