BEGIN:VCALENDAR
VERSION:2.0
PRODID:-//Construction Public Information - ECPv6.5.2//NONSGML v1.0//EN
CALSCALE:GREGORIAN
METHOD:PUBLISH
X-WR-CALNAME:Construction Public Information
X-ORIGINAL-URL:https://constructionpublicinfo.ua.edu
X-WR-CALDESC:Events for Construction Public Information
REFRESH-INTERVAL;VALUE=DURATION:PT1H
X-Robots-Tag:noindex
X-PUBLISHED-TTL:PT1H
BEGIN:VTIMEZONE
TZID:America/Chicago
BEGIN:DAYLIGHT
TZOFFSETFROM:-0600
TZOFFSETTO:-0500
TZNAME:CDT
DTSTART:20220313T080000
END:DAYLIGHT
BEGIN:STANDARD
TZOFFSETFROM:-0500
TZOFFSETTO:-0600
TZNAME:CST
DTSTART:20221106T070000
END:STANDARD
END:VTIMEZONE
BEGIN:VEVENT
DTSTART;VALUE=DATE:20220404
DTEND;VALUE=DATE:20220405
DTSTAMP:20260423T103126
CREATED:20220329T135326Z
LAST-MODIFIED:20220329T135326Z
UID:8275-1649030400-1649116799@constructionpublicinfo.ua.edu
SUMMARY:RFQ:  Request For Commissioning Services for Athletics Competition Arena #404-22-2866 - Due 4/4/2022 by 5:00pm
DESCRIPTION:Loading...\n						\n					\n					\n						\n							\n							Taking too long?\n						\n						\n							\n								 Reload document							\n							|\n							\n								 Open in new tab							\n					 \n				\n			\n		Download [133.82 KB]
URL:https://constructionpublicinfo.ua.edu/bid/rfq-request-for-commissioning-services-for-athletics-competition-arena-404-22-2866-due-4-4-2022-by-500pm/
LOCATION:UA Const. Management & Design Bldg. – 413 Cahaba Circle\, Tuscaloosa\, AL 35404\, 413 Cahaba Circle\, Tuscaloosa\, AL\, 35404\, United States
CATEGORIES:RFQs
END:VEVENT
END:VCALENDAR