BEGIN:VCALENDAR
VERSION:2.0
PRODID:-//Construction Public Information - ECPv6.5.2//NONSGML v1.0//EN
CALSCALE:GREGORIAN
METHOD:PUBLISH
X-WR-CALNAME:Construction Public Information
X-ORIGINAL-URL:https://constructionpublicinfo.ua.edu
X-WR-CALDESC:Events for Construction Public Information
REFRESH-INTERVAL;VALUE=DURATION:PT1H
X-Robots-Tag:noindex
X-PUBLISHED-TTL:PT1H
BEGIN:VTIMEZONE
TZID:America/Chicago
BEGIN:DAYLIGHT
TZOFFSETFROM:-0600
TZOFFSETTO:-0500
TZNAME:CDT
DTSTART:20220313T080000
END:DAYLIGHT
BEGIN:STANDARD
TZOFFSETFROM:-0500
TZOFFSETTO:-0600
TZNAME:CST
DTSTART:20221106T070000
END:STANDARD
END:VTIMEZONE
BEGIN:VEVENT
DTSTART;VALUE=DATE:20220426
DTEND;VALUE=DATE:20220427
DTSTAMP:20260421T170514
CREATED:20220411T124349Z
LAST-MODIFIED:20220411T124349Z
UID:8331-1650931200-1651017599@constructionpublicinfo.ua.edu
SUMMARY:Pre-Qualifications:  Bryant Denny Stadium Digital Media Center Renovation Phase 1 #046-22-2857
DESCRIPTION:Loading...\n						\n					\n					\n						\n							\n							Taking too long?\n						\n						\n							\n								 Reload document							\n							|\n							\n								 Open in new tab							\n					 \n				\n			\n		Download [76.71 KB]  \n			\n				\n					\n						\n							\n							Loading...\n						\n					\n					\n						\n							\n							Taking too long?\n						\n						\n							\n								 Reload document							\n							|\n							\n								 Open in new tab							\n					 \n				\n			\n		Download [128.23 KB]  \n			\n				\n					\n						\n							\n							Loading...\n						\n					\n					\n						\n							\n							Taking too long?\n						\n						\n							\n								 Reload document							\n							|\n							\n								 Open in new tab							\n					 \n				\n			\n		Download [318.22 KB]
URL:https://constructionpublicinfo.ua.edu/bid/pre-qualifications-bryant-denny-stadium-digital-media-center-renovation-phase-1-046-22-2857/
LOCATION:AL
CATEGORIES:Prequalifications
ORGANIZER;CN="Sommer Coleman":MAILTO:shcoleman1@ua.edu
END:VEVENT
BEGIN:VEVENT
DTSTART;VALUE=DATE:20220426
DTEND;VALUE=DATE:20220427
DTSTAMP:20260421T170514
CREATED:20220418T145523Z
LAST-MODIFIED:20220418T145523Z
UID:8346-1650931200-1651017599@constructionpublicinfo.ua.edu
SUMMARY:Pre-Qualifications:  Bryant Drive Sidewalk Improvements at Evergreen Cemetery #LAN-22-2827
DESCRIPTION:Loading...\n						\n					\n					\n						\n							\n							Taking too long?\n						\n						\n							\n								 Reload document							\n							|\n							\n								 Open in new tab							\n					 \n				\n			\n		Download [92.69 KB]  \n			\n				\n					\n						\n							\n							Loading...\n						\n					\n					\n						\n							\n							Taking too long?\n						\n						\n							\n								 Reload document							\n							|\n							\n								 Open in new tab							\n					 \n				\n			\n		Download [120.07 KB]  \n			\n				\n					\n						\n							\n							Loading...\n						\n					\n					\n						\n							\n							Taking too long?\n						\n						\n							\n								 Reload document							\n							|\n							\n								 Open in new tab							\n					 \n				\n			\n		Download [232.25 KB]
URL:https://constructionpublicinfo.ua.edu/bid/pre-qualifications-bryant-drive-sidewalk-improvements-at-evergreen-cemetery-lan-22-2827/
LOCATION:AL
CATEGORIES:Prequalifications
END:VEVENT
BEGIN:VEVENT
DTSTART;TZID=America/Chicago:20220426T100000
DTEND;TZID=America/Chicago:20220426T110000
DTSTAMP:20260421T170514
CREATED:20220404T140603Z
LAST-MODIFIED:20220404T140603Z
UID:8296-1650967200-1650970800@constructionpublicinfo.ua.edu
SUMMARY:Pre-Bid:  Bryant Denny Stadium West Lower Bowl Blast & Paint Structural Steel #046-22-2846
DESCRIPTION:Loading...\n						\n					\n					\n						\n							\n							Taking too long?\n						\n						\n							\n								 Reload document							\n							|\n							\n								 Open in new tab							\n					 \n				\n			\n		Download [77.42 KB]  \n			\n				\n					\n						\n							\n							Loading...\n						\n					\n					\n						\n							\n							Taking too long?\n						\n						\n							\n								 Reload document							\n							|\n							\n								 Open in new tab							\n					 \n				\n			\n		Download [129.60 KB]  \n			\n				\n					\n						\n							\n							Loading...\n						\n					\n					\n						\n							\n							Taking too long?\n						\n						\n							\n								 Reload document							\n							|\n							\n								 Open in new tab							\n					 \n				\n			\n		Download [318.97 KB]
URL:https://constructionpublicinfo.ua.edu/bid/pre-bid-bryant-denny-stadium-west-lower-bowl-blast-paint-structural-steel-046-22-2846/
LOCATION:Procurement Services Annex – 405 Cahaba Circle\, Tuscaloosa\, AL 35404\, 405 Cahaba Circle\, Alabama\, AL\, 35404\, United States
CATEGORIES:Pre-Bid Conference
ORGANIZER;CN="Sommer Coleman":MAILTO:shcoleman1@ua.edu
END:VEVENT
BEGIN:VEVENT
DTSTART;TZID=America/Chicago:20220426T130000
DTEND;TZID=America/Chicago:20220426T140000
DTSTAMP:20260421T170515
CREATED:20220404T135700Z
LAST-MODIFIED:20220406T155738Z
UID:8282-1650978000-1650981600@constructionpublicinfo.ua.edu
SUMMARY:Bid Opening:  CANCELED - University Services Campus Community Safe Room #1037-20-2320
DESCRIPTION:Loading...\n						\n					\n					\n						\n							\n							Taking too long?\n						\n						\n							\n								 Reload document							\n							|\n							\n								 Open in new tab							\n					 \n				\n			\n		Download [97.23 KB]  \n			\n				\n					\n						\n							\n							Loading...\n						\n					\n					\n						\n							\n							Taking too long?\n						\n						\n							\n								 Reload document							\n							|\n							\n								 Open in new tab							\n					 \n				\n			\n		Download [129.49 KB]  \n			\n				\n					\n						\n							\n							Loading...\n						\n					\n					\n						\n							\n							Taking too long?\n						\n						\n							\n								 Reload document							\n							|\n							\n								 Open in new tab							\n					 \n				\n			\n		Download [342.88 KB]
URL:https://constructionpublicinfo.ua.edu/bid/bid-opening-university-services-campus-community-safe-room-1037-20-2320-2/
LOCATION:Procurement Services Annex – 405 Cahaba Circle\, Tuscaloosa\, AL 35404\, 405 Cahaba Circle\, Alabama\, AL\, 35404\, United States
CATEGORIES:Bid Openings
ORGANIZER;CN="Leila Ahmady":MAILTO:lahmady@ua.edu
END:VEVENT
BEGIN:VEVENT
DTSTART;TZID=America/Chicago:20220426T140000
DTEND;TZID=America/Chicago:20220426T150000
DTSTAMP:20260421T170515
CREATED:20220321T155822Z
LAST-MODIFIED:20220321T155822Z
UID:8239-1650981600-1650985200@constructionpublicinfo.ua.edu
SUMMARY:Bid Opening:  Harper-Center Roof Replacement & Associated Work (Re-Run) #444-21-2606
DESCRIPTION:Loading...\n						\n					\n					\n						\n							\n							Taking too long?\n						\n						\n							\n								 Reload document							\n							|\n							\n								 Open in new tab							\n					 \n				\n			\n		Download [72.05 KB]  \n			\n				\n					\n						\n							\n							Loading...\n						\n					\n					\n						\n							\n							Taking too long?\n						\n						\n							\n								 Reload document							\n							|\n							\n								 Open in new tab							\n					 \n				\n			\n		Download [120.43 KB]  \n			\n				\n					\n						\n							\n							Loading...\n						\n					\n					\n						\n							\n							Taking too long?\n						\n						\n							\n								 Reload document							\n							|\n							\n								 Open in new tab							\n					 \n				\n			\n		Download [234.24 KB]
URL:https://constructionpublicinfo.ua.edu/bid/bid-opening-harper-center-roof-replacement-associated-work-re-run-444-21-2606/
LOCATION:Procurement Services Annex – 405 Cahaba Circle\, Tuscaloosa\, AL 35404\, 405 Cahaba Circle\, Alabama\, AL\, 35404\, United States
CATEGORIES:Bid Openings
END:VEVENT
BEGIN:VEVENT
DTSTART;TZID=America/Chicago:20220426T150000
DTEND;TZID=America/Chicago:20220426T160000
DTSTAMP:20260421T170515
CREATED:20220221T213249Z
LAST-MODIFIED:20220408T191509Z
UID:8152-1650985200-1650988800@constructionpublicinfo.ua.edu
SUMMARY:Bid Opening:  Gorgas Library Core Support Phase II Early Demolition Package #013-21-2678
DESCRIPTION:Loading...\n						\n					\n					\n						\n							\n							Taking too long?\n						\n						\n							\n								 Reload document							\n							|\n							\n								 Open in new tab							\n					 \n				\n			\n		Download [75.92 KB]  \n			\n				\n					\n						\n							\n							Loading...\n						\n					\n					\n						\n							\n							Taking too long?\n						\n						\n							\n								 Reload document							\n							|\n							\n								 Open in new tab							\n					 \n				\n			\n		Download [119.29 KB]  \n			\n				\n					\n						\n							\n							Loading...\n						\n					\n					\n						\n							\n							Taking too long?\n						\n						\n							\n								 Reload document							\n							|\n							\n								 Open in new tab							\n					 \n				\n			\n		Download [282.07 KB]
URL:https://constructionpublicinfo.ua.edu/bid/bid-opening-gorgas-library-core-support-phase-ii-early-demolition-package-013-21-2678/
LOCATION:Procurement Services Annex – 405 Cahaba Circle\, Tuscaloosa\, AL 35404\, 405 Cahaba Circle\, Alabama\, AL\, 35404\, United States
CATEGORIES:Bid Openings
END:VEVENT
END:VCALENDAR