BEGIN:VCALENDAR
VERSION:2.0
PRODID:-//Construction Public Information - ECPv6.5.2//NONSGML v1.0//EN
CALSCALE:GREGORIAN
METHOD:PUBLISH
X-WR-CALNAME:Construction Public Information
X-ORIGINAL-URL:https://constructionpublicinfo.ua.edu
X-WR-CALDESC:Events for Construction Public Information
REFRESH-INTERVAL;VALUE=DURATION:PT1H
X-Robots-Tag:noindex
X-PUBLISHED-TTL:PT1H
BEGIN:VTIMEZONE
TZID:America/Chicago
BEGIN:DAYLIGHT
TZOFFSETFROM:-0600
TZOFFSETTO:-0500
TZNAME:CDT
DTSTART:20220313T080000
END:DAYLIGHT
BEGIN:STANDARD
TZOFFSETFROM:-0500
TZOFFSETTO:-0600
TZNAME:CST
DTSTART:20221106T070000
END:STANDARD
END:VTIMEZONE
BEGIN:VEVENT
DTSTART;VALUE=DATE:20220517
DTEND;VALUE=DATE:20220518
DTSTAMP:20260421T084042
CREATED:20220502T145115Z
LAST-MODIFIED:20220502T145115Z
UID:8389-1652745600-1652831999@constructionpublicinfo.ua.edu
SUMMARY:Pre-Qualifications:  USC Infrastructure Improvements #1020-22-2931
DESCRIPTION:Loading...\n						\n					\n					\n						\n							\n							Taking too long?\n						\n						\n							\n								 Reload document							\n							|\n							\n								 Open in new tab							\n					 \n				\n			\n		Download [70.89 KB]  \n			\n				\n					\n						\n							\n							Loading...\n						\n					\n					\n						\n							\n							Taking too long?\n						\n						\n							\n								 Reload document							\n							|\n							\n								 Open in new tab							\n					 \n				\n			\n		Download [126.62 KB]  \n			\n				\n					\n						\n							\n							Loading...\n						\n					\n					\n						\n							\n							Taking too long?\n						\n						\n							\n								 Reload document							\n							|\n							\n								 Open in new tab							\n					 \n				\n			\n		Download [302.97 KB]
URL:https://constructionpublicinfo.ua.edu/bid/pre-qualifications-usc-infrastructure-improvements-1020-22-2931/
LOCATION:AL
CATEGORIES:Prequalifications
ORGANIZER;CN="Shawn Templeton":MAILTO:smtempleton@ua.edu
END:VEVENT
BEGIN:VEVENT
DTSTART;VALUE=DATE:20220517
DTEND;VALUE=DATE:20220518
DTSTAMP:20260421T084042
CREATED:20220502T145728Z
LAST-MODIFIED:20220502T145728Z
UID:8398-1652745600-1652831999@constructionpublicinfo.ua.edu
SUMMARY:Pre-Qualifications:  McLure Library Plaza #LAN-22-2844
DESCRIPTION:Loading...\n						\n					\n					\n						\n							\n							Taking too long?\n						\n						\n							\n								 Reload document							\n							|\n							\n								 Open in new tab							\n					 \n				\n			\n		Download [74.83 KB]  \n			\n				\n					\n						\n							\n							Loading...\n						\n					\n					\n						\n							\n							Taking too long?\n						\n						\n							\n								 Reload document							\n							|\n							\n								 Open in new tab							\n					 \n				\n			\n		Download [118.05 KB]  \n			\n				\n					\n						\n							\n							Loading...\n						\n					\n					\n						\n							\n							Taking too long?\n						\n						\n							\n								 Reload document							\n							|\n							\n								 Open in new tab							\n					 \n				\n			\n		Download [232.56 KB]
URL:https://constructionpublicinfo.ua.edu/bid/pre-qualifications-mclure-library-plaza-lan-22-2844/
LOCATION:AL
CATEGORIES:Prequalifications
ORGANIZER;CN="Mary Kathryn Holt":MAILTO:zickl001@ua.edu
END:VEVENT
BEGIN:VEVENT
DTSTART;TZID=America/Chicago:20220517T100000
DTEND;TZID=America/Chicago:20220517T110000
DTSTAMP:20260421T084042
CREATED:20220425T164041Z
LAST-MODIFIED:20220425T164041Z
UID:8365-1652781600-1652785200@constructionpublicinfo.ua.edu
SUMMARY:Pre-Bid:  Capstone Village Miscellaneous Apartment Renovations #N/A
DESCRIPTION:Loading...\n						\n					\n					\n						\n							\n							Taking too long?\n						\n						\n							\n								 Reload document							\n							|\n							\n								 Open in new tab							\n					 \n				\n			\n		Download [71.19 KB]  \n			\n				\n					\n						\n							\n							Loading...\n						\n					\n					\n						\n							\n							Taking too long?\n						\n						\n							\n								 Reload document							\n							|\n							\n								 Open in new tab							\n					 \n				\n			\n		Download [126.64 KB]  \n			\n				\n					\n						\n							\n							Loading...\n						\n					\n					\n						\n							\n							Taking too long?\n						\n						\n							\n								 Reload document							\n							|\n							\n								 Open in new tab							\n					 \n				\n			\n		Download [298.73 KB]
URL:https://constructionpublicinfo.ua.edu/bid/pre-bid-capstone-village-miscellaneous-apartment-renovations-n-a/
LOCATION:Procurement Services Annex – 405 Cahaba Circle\, Tuscaloosa\, AL 35404\, 405 Cahaba Circle\, Alabama\, AL\, 35404\, United States
CATEGORIES:Pre-Bid Conference
ORGANIZER;CN="Heather Mitchell":MAILTO:hplochridge@ua.edu
END:VEVENT
BEGIN:VEVENT
DTSTART;TZID=America/Chicago:20220517T130000
DTEND;TZID=America/Chicago:20220517T140000
DTSTAMP:20260421T084042
CREATED:20220131T140329Z
LAST-MODIFIED:20220511T160324Z
UID:8030-1652792400-1652796000@constructionpublicinfo.ua.edu
SUMMARY:Bid Opening:  Taylor Hardin Phase 3 Building Addition/Renovation & Utilities Pkg. #1099-20-2356C
DESCRIPTION:Loading...\n						\n					\n					\n						\n							\n							Taking too long?\n						\n						\n							\n								 Reload document							\n							|\n							\n								 Open in new tab							\n					 \n				\n			\n		Download [74.28 KB]  \n			\n				\n					\n						\n							\n							Loading...\n						\n					\n					\n						\n							\n							Taking too long?\n						\n						\n							\n								 Reload document							\n							|\n							\n								 Open in new tab							\n					 \n				\n			\n		Download [120.30 KB]  \n			\n				\n					\n						\n							\n							Loading...\n						\n					\n					\n						\n							\n							Taking too long?\n						\n						\n							\n								 Reload document							\n							|\n							\n								 Open in new tab							\n					 \n				\n			\n		Download [234.41 KB]
URL:https://constructionpublicinfo.ua.edu/bid/bid-opening-taylor-hardin-phase-3-building-addition-renovation-utilities-pkg-1099-20-2356c/
LOCATION:Procurement Services Annex – 405 Cahaba Circle\, Tuscaloosa\, AL 35404\, 405 Cahaba Circle\, Alabama\, AL\, 35404\, United States
CATEGORIES:Bid Openings
END:VEVENT
BEGIN:VEVENT
DTSTART;TZID=America/Chicago:20220517T140000
DTEND;TZID=America/Chicago:20220517T150000
DTSTAMP:20260421T084042
CREATED:20220404T140350Z
LAST-MODIFIED:20220504T152858Z
UID:8291-1652796000-1652799600@constructionpublicinfo.ua.edu
SUMMARY:Bid Opening:  Bryant Denny Stadium West Lower Bowl Blast & Paint Structural Steel #046-22-2846
DESCRIPTION:Loading...\n						\n					\n					\n						\n							\n							Taking too long?\n						\n						\n							\n								 Reload document							\n							|\n							\n								 Open in new tab							\n					 \n				\n			\n		Download [77.42 KB]  \n			\n				\n					\n						\n							\n							Loading...\n						\n					\n					\n						\n							\n							Taking too long?\n						\n						\n							\n								 Reload document							\n							|\n							\n								 Open in new tab							\n					 \n				\n			\n		Download [129.60 KB]  \n			\n				\n					\n						\n							\n							Loading...\n						\n					\n					\n						\n							\n							Taking too long?\n						\n						\n							\n								 Reload document							\n							|\n							\n								 Open in new tab							\n					 \n				\n			\n		Download [318.97 KB]
URL:https://constructionpublicinfo.ua.edu/bid/bid-opening-bryant-denny-stadium-west-lower-bowl-blast-paint-structural-steel-046-22-2846/
LOCATION:Procurement Services Annex – 405 Cahaba Circle\, Tuscaloosa\, AL 35404\, 405 Cahaba Circle\, Alabama\, AL\, 35404\, United States
CATEGORIES:Bid Openings
ORGANIZER;CN="Sommer Coleman":MAILTO:shcoleman1@ua.edu
END:VEVENT
END:VCALENDAR