BEGIN:VCALENDAR
VERSION:2.0
PRODID:-//Construction Public Information - ECPv6.5.2//NONSGML v1.0//EN
CALSCALE:GREGORIAN
METHOD:PUBLISH
X-WR-CALNAME:Construction Public Information
X-ORIGINAL-URL:https://constructionpublicinfo.ua.edu
X-WR-CALDESC:Events for Construction Public Information
REFRESH-INTERVAL;VALUE=DURATION:PT1H
X-Robots-Tag:noindex
X-PUBLISHED-TTL:PT1H
BEGIN:VTIMEZONE
TZID:America/Chicago
BEGIN:DAYLIGHT
TZOFFSETFROM:-0600
TZOFFSETTO:-0500
TZNAME:CDT
DTSTART:20220313T080000
END:DAYLIGHT
BEGIN:STANDARD
TZOFFSETFROM:-0500
TZOFFSETTO:-0600
TZNAME:CST
DTSTART:20221106T070000
END:STANDARD
END:VTIMEZONE
BEGIN:VEVENT
DTSTART;TZID=America/Chicago:20220714T090000
DTEND;TZID=America/Chicago:20220714T100000
DTSTAMP:20260420T155148
CREATED:20220620T165520Z
LAST-MODIFIED:20220620T165520Z
UID:8516-1657789200-1657792800@constructionpublicinfo.ua.edu
SUMMARY:Pre-Bid:  North Campus Thermal Energy Connections #UTL-22-2811D
DESCRIPTION:Loading...\n						\n					\n					\n						\n							\n							Taking too long?\n						\n						\n							\n								 Reload document							\n							|\n							\n								 Open in new tab							\n					 \n				\n			\n		Download [99.51 KB]  \n			\n				\n					\n						\n							\n							Loading...\n						\n					\n					\n						\n							\n							Taking too long?\n						\n						\n							\n								 Reload document							\n							|\n							\n								 Open in new tab							\n					 \n				\n			\n		Download [134.78 KB]  \n			\n				\n					\n						\n							\n							Loading...\n						\n					\n					\n						\n							\n							Taking too long?\n						\n						\n							\n								 Reload document							\n							|\n							\n								 Open in new tab							\n					 \n				\n			\n		Download [322.52 KB]
URL:https://constructionpublicinfo.ua.edu/bid/pre-bid-north-campus-thermal-energy-connections-utl-22-2811d/
LOCATION:Procurement Services Annex – 405 Cahaba Circle\, Tuscaloosa\, AL 35404\, 405 Cahaba Circle\, Alabama\, AL\, 35404\, United States
CATEGORIES:Pre-Bid Conference
ORGANIZER;CN="Steven Mercado":MAILTO:smmercado@ua.edu
END:VEVENT
END:VCALENDAR