BEGIN:VCALENDAR
VERSION:2.0
PRODID:-//Construction Public Information - ECPv6.5.2//NONSGML v1.0//EN
CALSCALE:GREGORIAN
METHOD:PUBLISH
X-WR-CALNAME:Construction Public Information
X-ORIGINAL-URL:https://constructionpublicinfo.ua.edu
X-WR-CALDESC:Events for Construction Public Information
REFRESH-INTERVAL;VALUE=DURATION:PT1H
X-Robots-Tag:noindex
X-PUBLISHED-TTL:PT1H
BEGIN:VTIMEZONE
TZID:America/Chicago
BEGIN:DAYLIGHT
TZOFFSETFROM:-0600
TZOFFSETTO:-0500
TZNAME:CDT
DTSTART:20220313T080000
END:DAYLIGHT
BEGIN:STANDARD
TZOFFSETFROM:-0500
TZOFFSETTO:-0600
TZNAME:CST
DTSTART:20221106T070000
END:STANDARD
END:VTIMEZONE
BEGIN:VEVENT
DTSTART;VALUE=DATE:20221025
DTEND;VALUE=DATE:20221026
DTSTAMP:20260419T102657
CREATED:20221003T210121Z
LAST-MODIFIED:20221020T195136Z
UID:8684-1666656000-1666742399@constructionpublicinfo.ua.edu
SUMMARY:Pre-Qualifications: University Services Campus Community Safe Room- Building Package - 1037-20-2320B
DESCRIPTION:Download [8.82 KB]  			\n				\n					\n						\n							\n							Loading...\n						\n					\n					\n						\n							\n							Taking too long?\n						\n						\n							\n								 Reload document							\n							|\n							\n								 Open in new tab							\n					 \n				\n			\n		Download [129.58 KB]  			\n				\n					\n						\n							\n							Loading...\n						\n					\n					\n						\n							\n							Taking too long?\n						\n						\n							\n								 Reload document							\n							|\n							\n								 Open in new tab							\n					 \n				\n			\n		Download [319.26 KB]
URL:https://constructionpublicinfo.ua.edu/bid/pre-qualifications-university-services-campus-community-safe-room-building-package-1037-20-2320b/
LOCATION:AL
CATEGORIES:Prequalifications
END:VEVENT
BEGIN:VEVENT
DTSTART;VALUE=DATE:20221025
DTEND;VALUE=DATE:20221026
DTSTAMP:20260419T102657
CREATED:20221005T173720Z
LAST-MODIFIED:20221020T195158Z
UID:8693-1666656000-1666742399@constructionpublicinfo.ua.edu
SUMMARY:Pre-Qualifications: University Club Site Package - 207-22-3017E
DESCRIPTION:Download [19.48 KB]  			\n				\n					\n						\n							\n							Loading...\n						\n					\n					\n						\n							\n							Taking too long?\n						\n						\n							\n								 Reload document							\n							|\n							\n								 Open in new tab							\n					 \n				\n			\n		Download [131.37 KB]  			\n				\n					\n						\n							\n							Loading...\n						\n					\n					\n						\n							\n							Taking too long?\n						\n						\n							\n								 Reload document							\n							|\n							\n								 Open in new tab							\n					 \n				\n			\n		Download [326.80 KB]
URL:https://constructionpublicinfo.ua.edu/bid/prequalifications-university-club-site-package-207-22-3017e/
LOCATION:AL
CATEGORIES:Prequalifications
END:VEVENT
BEGIN:VEVENT
DTSTART;TZID=America/Chicago:20221025T140000
DTEND;TZID=America/Chicago:20221025T150000
DTSTAMP:20260419T102657
CREATED:20220908T143322Z
LAST-MODIFIED:20221018T135237Z
UID:8615-1666706400-1666710000@constructionpublicinfo.ua.edu
SUMMARY:Bid Opening: University Club Elevator Package - 207-22-3017A
DESCRIPTION:Download [15.25 KB]  			\n				\n					\n						\n							\n							Loading...\n						\n					\n					\n						\n							\n							Taking too long?\n						\n						\n							\n								 Reload document							\n							|\n							\n								 Open in new tab							\n					 \n				\n			\n		Download [319.67 KB]  			\n				\n					\n						\n							\n							Loading...\n						\n					\n					\n						\n							\n							Taking too long?\n						\n						\n							\n								 Reload document							\n							|\n							\n								 Open in new tab							\n					 \n				\n			\n		Download [145.62 KB]
URL:https://constructionpublicinfo.ua.edu/bid/bid-opening-university-club-elevator-package-207-22-3017a/
LOCATION:Procurement Services Annex – 405 Cahaba Circle\, Tuscaloosa\, AL 35404\, 405 Cahaba Circle\, Alabama\, AL\, 35404\, United States
CATEGORIES:Bid Openings
END:VEVENT
END:VCALENDAR