BEGIN:VCALENDAR
VERSION:2.0
PRODID:-//Construction Public Information - ECPv6.5.2//NONSGML v1.0//EN
CALSCALE:GREGORIAN
METHOD:PUBLISH
X-WR-CALNAME:Construction Public Information
X-ORIGINAL-URL:https://constructionpublicinfo.ua.edu
X-WR-CALDESC:Events for Construction Public Information
REFRESH-INTERVAL;VALUE=DURATION:PT1H
X-Robots-Tag:noindex
X-PUBLISHED-TTL:PT1H
BEGIN:VTIMEZONE
TZID:America/Chicago
BEGIN:DAYLIGHT
TZOFFSETFROM:-0600
TZOFFSETTO:-0500
TZNAME:CDT
DTSTART:20210314T080000
END:DAYLIGHT
BEGIN:STANDARD
TZOFFSETFROM:-0500
TZOFFSETTO:-0600
TZNAME:CST
DTSTART:20211107T070000
END:STANDARD
END:VTIMEZONE
BEGIN:VEVENT
DTSTART;VALUE=DATE:20210803
DTEND;VALUE=DATE:20210804
DTSTAMP:20260423T064505
CREATED:20210719T151939Z
LAST-MODIFIED:20210719T151939Z
UID:7362-1627948800-1628035199@constructionpublicinfo.ua.edu
SUMMARY:Pre-Qualifications:  Bryce Hospital Walkway Coverings #1008-21-2689
DESCRIPTION:Loading...\n						\n					\n					\n						\n							\n							Taking too long?\n						\n						\n							\n								 Reload document							\n							|\n							\n								 Open in new tab							\n					 \n				\n			\n		Download [74.42 KB]  \n			\n				\n					\n						\n							\n							Loading...\n						\n					\n					\n						\n							\n							Taking too long?\n						\n						\n							\n								 Reload document							\n							|\n							\n								 Open in new tab							\n					 \n				\n			\n		Download [120.37 KB]  \n			\n				\n					\n						\n							\n							Loading...\n						\n					\n					\n						\n							\n							Taking too long?\n						\n						\n							\n								 Reload document							\n							|\n							\n								 Open in new tab							\n					 \n				\n			\n		Download [234.17 KB]
URL:https://constructionpublicinfo.ua.edu/bid/pre-qualifications-bryce-hospital-walkway-coverings-1008-21-2689/
LOCATION:AL
CATEGORIES:Prequalifications
END:VEVENT
BEGIN:VEVENT
DTSTART;VALUE=DATE:20210803
DTEND;VALUE=DATE:20210804
DTSTAMP:20260423T064505
CREATED:20210719T152608Z
LAST-MODIFIED:20210719T152608Z
UID:7372-1627948800-1628035199@constructionpublicinfo.ua.edu
SUMMARY:Pre-Qualifications:  Ruby Tyler West Wing Renovations #1020-21-2562
DESCRIPTION:Loading...\n						\n					\n					\n						\n							\n							Taking too long?\n						\n						\n							\n								 Reload document							\n							|\n							\n								 Open in new tab							\n					 \n				\n			\n		Download [74.48 KB]  \n			\n				\n					\n						\n							\n							Loading...\n						\n					\n					\n						\n							\n							Taking too long?\n						\n						\n							\n								 Reload document							\n							|\n							\n								 Open in new tab							\n					 \n				\n			\n		Download [132.39 KB]  \n			\n				\n					\n						\n							\n							Loading...\n						\n					\n					\n						\n							\n							Taking too long?\n						\n						\n							\n								 Reload document							\n							|\n							\n								 Open in new tab							\n					 \n				\n			\n		Download [234.11 KB]
URL:https://constructionpublicinfo.ua.edu/bid/pre-qualifications-ruby-tyler-west-wing-renovations-1020-21-2562/
LOCATION:AL
CATEGORIES:Prequalifications
END:VEVENT
BEGIN:VEVENT
DTSTART;TZID=America/Chicago:20210803T140000
DTEND;TZID=America/Chicago:20210803T150000
DTSTAMP:20260423T064505
CREATED:20210412T152114Z
LAST-MODIFIED:20210716T160950Z
UID:6956-1627999200-1628002800@constructionpublicinfo.ua.edu
SUMMARY:Bid Opening:  Alabama Transportation Center - Elevator Package #430-20-2412 (PSCA #2012\, DCM #2020680)
DESCRIPTION:Loading...\n						\n					\n					\n						\n							\n							Taking too long?\n						\n						\n							\n								 Reload document							\n							|\n							\n								 Open in new tab							\n					 \n				\n			\n		Download [78.22 KB]  \n			\n				\n					\n						\n							\n							Loading...\n						\n					\n					\n						\n							\n							Taking too long?\n						\n						\n							\n								 Reload document							\n							|\n							\n								 Open in new tab							\n					 \n				\n			\n		Download [125.71 KB]  \n			\n				\n					\n						\n							\n							Loading...\n						\n					\n					\n						\n							\n							Taking too long?\n						\n						\n							\n								 Reload document							\n							|\n							\n								 Open in new tab							\n					 \n				\n			\n		Download [283.56 KB]
URL:https://constructionpublicinfo.ua.edu/bid/bid-opening-al-transportation-center-elevator-package-430-20-2412psca-2012-dcm-2020680/
LOCATION:Procurement Services Annex – 405 Cahaba Circle\, Tuscaloosa\, AL 35404\, 405 Cahaba Circle\, Alabama\, AL\, 35404\, United States
CATEGORIES:Bid Openings
ORGANIZER;CN="Tommy Alfano":MAILTO:talfano1@ua.edu
END:VEVENT
BEGIN:VEVENT
DTSTART;TZID=America/Chicago:20210805T130000
DTEND;TZID=America/Chicago:20210805T140000
DTSTAMP:20260423T064505
CREATED:20210708T105657Z
LAST-MODIFIED:20210712T161506Z
UID:7340-1628168400-1628172000@constructionpublicinfo.ua.edu
SUMMARY:Bid Opening: Delta Gamma Addition #831-19-2164
DESCRIPTION:Download [38.94 KB]  Download [44.52 KB]  Download [231.07 KB]
URL:https://constructionpublicinfo.ua.edu/bid/bid-opening-delta-gamma-addition-831-19-2164-2/
LOCATION:Procurement Services Annex – 405 Cahaba Circle\, Tuscaloosa\, AL 35404\, 405 Cahaba Circle\, Alabama\, AL\, 35404\, United States
CATEGORIES:Bid Openings
ORGANIZER;CN="Suzanne Webster":MAILTO:scirbywebster@ua.edu
END:VEVENT
BEGIN:VEVENT
DTSTART;VALUE=DATE:20210810
DTEND;VALUE=DATE:20210811
DTSTAMP:20260423T064505
CREATED:20210726T125407Z
LAST-MODIFIED:20210726T125407Z
UID:7398-1628553600-1628639999@constructionpublicinfo.ua.edu
SUMMARY:Pre-Qualifications:  Taylor Hardin Phase 2 CEP Add/Reno & Utilities Pkg. #1099-20-2356B
DESCRIPTION:Loading...\n						\n					\n					\n						\n							\n							Taking too long?\n						\n						\n							\n								 Reload document							\n							|\n							\n								 Open in new tab							\n					 \n				\n			\n		Download [74.33 KB]  \n			\n				\n					\n						\n							\n							Loading...\n						\n					\n					\n						\n							\n							Taking too long?\n						\n						\n							\n								 Reload document							\n							|\n							\n								 Open in new tab							\n					 \n				\n			\n		Download [120.44 KB]  \n			\n				\n					\n						\n							\n							Loading...\n						\n					\n					\n						\n							\n							Taking too long?\n						\n						\n							\n								 Reload document							\n							|\n							\n								 Open in new tab							\n					 \n				\n			\n		Download [234.42 KB]
URL:https://constructionpublicinfo.ua.edu/bid/pre-qualifications-taylor-hardin-phase-2-cep-add-reno-utilities-pkg-1099-20-2356b/
LOCATION:AL
CATEGORIES:Prequalifications
END:VEVENT
BEGIN:VEVENT
DTSTART;TZID=America/Chicago:20210810T100000
DTEND;TZID=America/Chicago:20210810T110000
DTSTAMP:20260423T064505
CREATED:20210719T151810Z
LAST-MODIFIED:20210719T151810Z
UID:7360-1628589600-1628593200@constructionpublicinfo.ua.edu
SUMMARY:Pre-Bid:  Bryce Hospital Walkway Coverings #1008-21-2689
DESCRIPTION:Loading...\n						\n					\n					\n						\n							\n							Taking too long?\n						\n						\n							\n								 Reload document							\n							|\n							\n								 Open in new tab							\n					 \n				\n			\n		Download [74.42 KB]  \n			\n				\n					\n						\n							\n							Loading...\n						\n					\n					\n						\n							\n							Taking too long?\n						\n						\n							\n								 Reload document							\n							|\n							\n								 Open in new tab							\n					 \n				\n			\n		Download [120.37 KB]  \n			\n				\n					\n						\n							\n							Loading...\n						\n					\n					\n						\n							\n							Taking too long?\n						\n						\n							\n								 Reload document							\n							|\n							\n								 Open in new tab							\n					 \n				\n			\n		Download [234.17 KB]
URL:https://constructionpublicinfo.ua.edu/bid/pre-bid-bryce-hospital-walkway-coverings-1008-21-2689/
LOCATION:Procurement Services Annex – 405 Cahaba Circle\, Tuscaloosa\, AL 35404\, 405 Cahaba Circle\, Alabama\, AL\, 35404\, United States
CATEGORIES:Pre-Bid Conference
END:VEVENT
BEGIN:VEVENT
DTSTART;TZID=America/Chicago:20210810T140000
DTEND;TZID=America/Chicago:20210810T150000
DTSTAMP:20260423T064505
CREATED:20210628T132913Z
LAST-MODIFIED:20210803T140648Z
UID:7307-1628604000-1628607600@constructionpublicinfo.ua.edu
SUMMARY:Bid Opening:  Clinical Services & Research MRI Addition to Student Health #018-20-2305B
DESCRIPTION:Loading...\n						\n					\n					\n						\n							\n							Taking too long?\n						\n						\n							\n								 Reload document							\n							|\n							\n								 Open in new tab							\n					 \n				\n			\n		Download [77.76 KB]  \n			\n				\n					\n						\n							\n							Loading...\n						\n					\n					\n						\n							\n							Taking too long?\n						\n						\n							\n								 Reload document							\n							|\n							\n								 Open in new tab							\n					 \n				\n			\n		Download [121.03 KB]  \n			\n				\n					\n						\n							\n							Loading...\n						\n					\n					\n						\n							\n							Taking too long?\n						\n						\n							\n								 Reload document							\n							|\n							\n								 Open in new tab							\n					 \n				\n			\n		Download [234.06 KB]
URL:https://constructionpublicinfo.ua.edu/bid/bid-opening-clinical-services-research-mri-addition-to-student-health-018-20-2305b/
LOCATION:Procurement Services Annex – 405 Cahaba Circle\, Tuscaloosa\, AL 35404\, 405 Cahaba Circle\, Alabama\, AL\, 35404\, United States
CATEGORIES:Bid Openings
ORGANIZER;CN="David Jones":MAILTO:dajones11@ua.edu
END:VEVENT
BEGIN:VEVENT
DTSTART;TZID=America/Chicago:20210812T100000
DTEND;TZID=America/Chicago:20210812T110000
DTSTAMP:20260423T064505
CREATED:20210719T152404Z
LAST-MODIFIED:20210719T152404Z
UID:7370-1628762400-1628766000@constructionpublicinfo.ua.edu
SUMMARY:Pre-Bid:  Ruby Tyler West Wing Renovations #1020-21-2562
DESCRIPTION:Loading...\n						\n					\n					\n						\n							\n							Taking too long?\n						\n						\n							\n								 Reload document							\n							|\n							\n								 Open in new tab							\n					 \n				\n			\n		Download [74.48 KB]  \n			\n				\n					\n						\n							\n							Loading...\n						\n					\n					\n						\n							\n							Taking too long?\n						\n						\n							\n								 Reload document							\n							|\n							\n								 Open in new tab							\n					 \n				\n			\n		Download [132.39 KB]  \n			\n				\n					\n						\n							\n							Loading...\n						\n					\n					\n						\n							\n							Taking too long?\n						\n						\n							\n								 Reload document							\n							|\n							\n								 Open in new tab							\n					 \n				\n			\n		Download [234.11 KB]
URL:https://constructionpublicinfo.ua.edu/bid/pre-bid-ruby-tyler-west-wing-renovations-1020-21-2562/
LOCATION:Procurement Services Annex – 405 Cahaba Circle\, Tuscaloosa\, AL 35404\, 405 Cahaba Circle\, Alabama\, AL\, 35404\, United States
CATEGORIES:Pre-Bid Conference
END:VEVENT
BEGIN:VEVENT
DTSTART;TZID=America/Chicago:20210819T100000
DTEND;TZID=America/Chicago:20210819T110000
DTSTAMP:20260423T064505
CREATED:20210726T125227Z
LAST-MODIFIED:20210726T125227Z
UID:7396-1629367200-1629370800@constructionpublicinfo.ua.edu
SUMMARY:Pre-Bid:  Taylor Hardin Phase 2 CEP Add/Reno & Utilities Pkg. #1099-20-2356B
DESCRIPTION:Loading...\n						\n					\n					\n						\n							\n							Taking too long?\n						\n						\n							\n								 Reload document							\n							|\n							\n								 Open in new tab							\n					 \n				\n			\n		Download [74.33 KB]  \n			\n				\n					\n						\n							\n							Loading...\n						\n					\n					\n						\n							\n							Taking too long?\n						\n						\n							\n								 Reload document							\n							|\n							\n								 Open in new tab							\n					 \n				\n			\n		Download [120.44 KB]  \n			\n				\n					\n						\n							\n							Loading...\n						\n					\n					\n						\n							\n							Taking too long?\n						\n						\n							\n								 Reload document							\n							|\n							\n								 Open in new tab							\n					 \n				\n			\n		Download [234.42 KB]
URL:https://constructionpublicinfo.ua.edu/bid/pre-bid-taylor-hardin-phase-2-cep-add-reno-utilities-pkg-1099-20-2356b/
LOCATION:Procurement Services Annex – 405 Cahaba Circle\, Tuscaloosa\, AL 35404\, 405 Cahaba Circle\, Alabama\, AL\, 35404\, United States
CATEGORIES:Pre-Bid Conference
END:VEVENT
BEGIN:VEVENT
DTSTART;TZID=America/Chicago:20210824T140000
DTEND;TZID=America/Chicago:20210824T150000
DTSTAMP:20260423T064505
CREATED:20210719T151643Z
LAST-MODIFIED:20210719T151643Z
UID:7355-1629813600-1629817200@constructionpublicinfo.ua.edu
SUMMARY:Bid Opening:  Bryce Hospital Walkway Coverings #1008-21-2689
DESCRIPTION:Loading...\n						\n					\n					\n						\n							\n							Taking too long?\n						\n						\n							\n								 Reload document							\n							|\n							\n								 Open in new tab							\n					 \n				\n			\n		Download [74.42 KB]  \n			\n				\n					\n						\n							\n							Loading...\n						\n					\n					\n						\n							\n							Taking too long?\n						\n						\n							\n								 Reload document							\n							|\n							\n								 Open in new tab							\n					 \n				\n			\n		Download [120.37 KB]  \n			\n				\n					\n						\n							\n							Loading...\n						\n					\n					\n						\n							\n							Taking too long?\n						\n						\n							\n								 Reload document							\n							|\n							\n								 Open in new tab							\n					 \n				\n			\n		Download [234.17 KB]
URL:https://constructionpublicinfo.ua.edu/bid/bid-opening-bryce-hospital-walkway-coverings-1008-21-2689/
LOCATION:Procurement Services Annex – 405 Cahaba Circle\, Tuscaloosa\, AL 35404\, 405 Cahaba Circle\, Alabama\, AL\, 35404\, United States
CATEGORIES:Bid Openings
END:VEVENT
BEGIN:VEVENT
DTSTART;TZID=America/Chicago:20210824T150000
DTEND;TZID=America/Chicago:20210824T160000
DTSTAMP:20260423T064505
CREATED:20210719T152225Z
LAST-MODIFIED:20210719T152225Z
UID:7364-1629817200-1629820800@constructionpublicinfo.ua.edu
SUMMARY:Bid Opening:  Ruby Tyler West Wing Renovations #1020-21-2562
DESCRIPTION:Loading...\n						\n					\n					\n						\n							\n							Taking too long?\n						\n						\n							\n								 Reload document							\n							|\n							\n								 Open in new tab							\n					 \n				\n			\n		Download [74.48 KB]  \n			\n				\n					\n						\n							\n							Loading...\n						\n					\n					\n						\n							\n							Taking too long?\n						\n						\n							\n								 Reload document							\n							|\n							\n								 Open in new tab							\n					 \n				\n			\n		Download [132.39 KB]  \n			\n				\n					\n						\n							\n							Loading...\n						\n					\n					\n						\n							\n							Taking too long?\n						\n						\n							\n								 Reload document							\n							|\n							\n								 Open in new tab							\n					 \n				\n			\n		Download [234.11 KB]
URL:https://constructionpublicinfo.ua.edu/bid/bid-opening-ruby-tyler-west-wing-renovations-1020-21-2562/
LOCATION:Procurement Services Annex – 405 Cahaba Circle\, Tuscaloosa\, AL 35404\, 405 Cahaba Circle\, Alabama\, AL\, 35404\, United States
CATEGORIES:Bid Openings
END:VEVENT
END:VCALENDAR