BEGIN:VCALENDAR
VERSION:2.0
PRODID:-//Construction Public Information - ECPv6.5.2//NONSGML v1.0//EN
CALSCALE:GREGORIAN
METHOD:PUBLISH
X-WR-CALNAME:Construction Public Information
X-ORIGINAL-URL:https://constructionpublicinfo.ua.edu
X-WR-CALDESC:Events for Construction Public Information
REFRESH-INTERVAL;VALUE=DURATION:PT1H
X-Robots-Tag:noindex
X-PUBLISHED-TTL:PT1H
BEGIN:VTIMEZONE
TZID:America/Chicago
BEGIN:DAYLIGHT
TZOFFSETFROM:-0600
TZOFFSETTO:-0500
TZNAME:CDT
DTSTART:20210314T080000
END:DAYLIGHT
BEGIN:STANDARD
TZOFFSETFROM:-0500
TZOFFSETTO:-0600
TZNAME:CST
DTSTART:20211107T070000
END:STANDARD
END:VTIMEZONE
BEGIN:VEVENT
DTSTART;TZID=America/Chicago:20211202T020000
DTEND;TZID=America/Chicago:20211202T150000
DTSTAMP:20260422T074743
CREATED:20211130T144520Z
LAST-MODIFIED:20211130T144612Z
UID:7793-1638410400-1638457200@constructionpublicinfo.ua.edu
SUMMARY:Bid Opening:  Peter Bryce Main Stabilization & Fit-Out #415-21-2548
DESCRIPTION:Loading...\n						\n					\n					\n						\n							\n							Taking too long?\n						\n						\n							\n								 Reload document							\n							|\n							\n								 Open in new tab							\n					 \n				\n			\n		Download [75.06 KB]  \nDownload [44.27 KB]  \nDownload [232.20 KB]
URL:https://constructionpublicinfo.ua.edu/bid/bid-opening-peter-bryce-main-stabilization-fit-out-415-21-2548-2/
LOCATION:Procurement Services Annex – 405 Cahaba Circle\, Tuscaloosa\, AL 35404\, 405 Cahaba Circle\, Alabama\, AL\, 35404\, United States
CATEGORIES:Bid Openings
ORGANIZER;CN="Austin Fisher":MAILTO:alfisher1@ua.edu
END:VEVENT
BEGIN:VEVENT
DTSTART;TZID=America/Chicago:20211202T100000
DTEND;TZID=America/Chicago:20211202T110000
DTSTAMP:20260422T074743
CREATED:20211129T182523Z
LAST-MODIFIED:20211129T182708Z
UID:7775-1638439200-1638442800@constructionpublicinfo.ua.edu
SUMMARY:Pre-Bid:  CANCELED Student Rec Center Southeast Roof Drain Reroute #372-21-2767
DESCRIPTION:Loading...\n						\n					\n					\n						\n							\n							Taking too long?\n						\n						\n							\n								 Reload document							\n							|\n							\n								 Open in new tab							\n					 \n				\n			\n		Download [72.53 KB]  \n			\n				\n					\n						\n							\n							Loading...\n						\n					\n					\n						\n							\n							Taking too long?\n						\n						\n							\n								 Reload document							\n							|\n							\n								 Open in new tab							\n					 \n				\n			\n		Download [120.75 KB]  \n			\n				\n					\n						\n							\n							Loading...\n						\n					\n					\n						\n							\n							Taking too long?\n						\n						\n							\n								 Reload document							\n							|\n							\n								 Open in new tab							\n					 \n				\n			\n		Download [233.99 KB]
URL:https://constructionpublicinfo.ua.edu/bid/pre-bid-canceled-student-rec-center-southeast-roof-drain-reroute-372-21-2767/
LOCATION:Procurement Services Annex – 405 Cahaba Circle\, Tuscaloosa\, AL 35404\, 405 Cahaba Circle\, Alabama\, AL\, 35404\, United States
CATEGORIES:Pre-Bid Conference
ORGANIZER;CN="Steven Mercado":MAILTO:smmercado@ua.edu
END:VEVENT
BEGIN:VEVENT
DTSTART;TZID=America/Chicago:20211202T110000
DTEND;TZID=America/Chicago:20211202T120000
DTSTAMP:20260422T074743
CREATED:20211115T172402Z
LAST-MODIFIED:20211129T164107Z
UID:7715-1638442800-1638446400@constructionpublicinfo.ua.edu
SUMMARY:Bid Opening:  Campus Signage & Wayfinding #000-18-1775
DESCRIPTION:Loading...\n						\n					\n					\n						\n							\n							Taking too long?\n						\n						\n							\n								 Reload document							\n							|\n							\n								 Open in new tab							\n					 \n				\n			\n		Download [72.16 KB]  \n			\n				\n					\n						\n							\n							Loading...\n						\n					\n					\n						\n							\n							Taking too long?\n						\n						\n							\n								 Reload document							\n							|\n							\n								 Open in new tab							\n					 \n				\n			\n		Download [104.46 KB]  \n			\n				\n					\n						\n							\n							Loading...\n						\n					\n					\n						\n							\n							Taking too long?\n						\n						\n							\n								 Reload document							\n							|\n							\n								 Open in new tab							\n					 \n				\n			\n		Download [234.05 KB]
URL:https://constructionpublicinfo.ua.edu/bid/bid-opening-campus-signage-wayfinding-000-18-1775-3/
LOCATION:Procurement Services Annex – 405 Cahaba Circle\, Tuscaloosa\, AL 35404\, 405 Cahaba Circle\, Alabama\, AL\, 35404\, United States
CATEGORIES:Bid Openings
END:VEVENT
BEGIN:VEVENT
DTSTART;TZID=America/Chicago:20211202T150000
DTEND;TZID=America/Chicago:20211202T153000
DTSTAMP:20260422T074743
CREATED:20210913T124227Z
LAST-MODIFIED:20211129T205433Z
UID:7492-1638457200-1638459000@constructionpublicinfo.ua.edu
SUMMARY:Bid Opening:  (ALTERNATES) Peter Bryce Main Stabilization & Fit-Out #415-21-2548
DESCRIPTION:Loading...\n						\n					\n					\n						\n							\n							Taking too long?\n						\n						\n							\n								 Reload document							\n							|\n							\n								 Open in new tab							\n					 \n				\n			\n		Download [75.06 KB]  \n			\n				\n					\n						\n							\n							Loading...\n						\n					\n					\n						\n							\n							Taking too long?\n						\n						\n							\n								 Reload document							\n							|\n							\n								 Open in new tab							\n					 \n				\n			\n		Download [121.05 KB]  \n			\n				\n					\n						\n							\n							Loading...\n						\n					\n					\n						\n							\n							Taking too long?\n						\n						\n							\n								 Reload document							\n							|\n							\n								 Open in new tab							\n					 \n				\n			\n		Download [286.84 KB]
URL:https://constructionpublicinfo.ua.edu/bid/bid-opening-peter-bryce-main-stabilization-fit-out-415-21-2548/
LOCATION:Procurement Services Annex – 405 Cahaba Circle\, Tuscaloosa\, AL 35404\, 405 Cahaba Circle\, Alabama\, AL\, 35404\, United States
CATEGORIES:Bid Openings
ORGANIZER;CN="Austin Fisher":MAILTO:alfisher1@ua.edu
END:VEVENT
BEGIN:VEVENT
DTSTART;VALUE=DATE:20211207
DTEND;VALUE=DATE:20211208
DTSTAMP:20260422T074744
CREATED:20211123T215301Z
LAST-MODIFIED:20211123T215301Z
UID:7757-1638835200-1638921599@constructionpublicinfo.ua.edu
SUMMARY:Pre-Qualifications:  Bruno Library Renovation - Interior Demolition #036-19-2189A
DESCRIPTION:Loading...\n						\n					\n					\n						\n							\n							Taking too long?\n						\n						\n							\n								 Reload document							\n							|\n							\n								 Open in new tab							\n					 \n				\n			\n		Download [73.70 KB]  \n			\n				\n					\n						\n							\n							Loading...\n						\n					\n					\n						\n							\n							Taking too long?\n						\n						\n							\n								 Reload document							\n							|\n							\n								 Open in new tab							\n					 \n				\n			\n		Download [122.29 KB]  \n			\n				\n					\n						\n							\n							Loading...\n						\n					\n					\n						\n							\n							Taking too long?\n						\n						\n							\n								 Reload document							\n							|\n							\n								 Open in new tab							\n					 \n				\n			\n		Download [282.51 KB]
URL:https://constructionpublicinfo.ua.edu/bid/pre-qualifications-bruno-library-renovation-interior-demolition-036-19-2189a/
LOCATION:AL
CATEGORIES:Prequalifications
END:VEVENT
BEGIN:VEVENT
DTSTART;TZID=America/Chicago:20211207T100000
DTEND;TZID=America/Chicago:20211207T110000
DTSTAMP:20260422T074744
CREATED:20211108T135606Z
LAST-MODIFIED:20211108T135606Z
UID:7690-1638871200-1638874800@constructionpublicinfo.ua.edu
SUMMARY:Pre-Bid:  Smart Communities & Innovation Bldg. Utilities & Infrastructure Pkg.  #430-20-2412D
DESCRIPTION:Loading...\n						\n					\n					\n						\n							\n							Taking too long?\n						\n						\n							\n								 Reload document							\n							|\n							\n								 Open in new tab							\n					 \n				\n			\n		Download [74.06 KB]  \n			\n				\n					\n						\n							\n							Loading...\n						\n					\n					\n						\n							\n							Taking too long?\n						\n						\n							\n								 Reload document							\n							|\n							\n								 Open in new tab							\n					 \n				\n			\n		Download [123.86 KB]  \n			\n				\n					\n						\n							\n							Loading...\n						\n					\n					\n						\n							\n							Taking too long?\n						\n						\n							\n								 Reload document							\n							|\n							\n								 Open in new tab							\n					 \n				\n			\n		Download [267.12 KB]
URL:https://constructionpublicinfo.ua.edu/bid/pre-bid-smart-communities-innovation-bldg-utilities-infrastructure-pkg-430-20-2412d/
LOCATION:Procurement Services Annex – 405 Cahaba Circle\, Tuscaloosa\, AL 35404\, 405 Cahaba Circle\, Alabama\, AL\, 35404\, United States
CATEGORIES:Pre-Bid Conference
ORGANIZER;CN="Tommy Alfano":MAILTO:talfano1@ua.edu
END:VEVENT
BEGIN:VEVENT
DTSTART;TZID=America/Chicago:20211207T130000
DTEND;TZID=America/Chicago:20211207T140000
DTSTAMP:20260422T074744
CREATED:20211123T215534Z
LAST-MODIFIED:20211123T215534Z
UID:7759-1638882000-1638885600@constructionpublicinfo.ua.edu
SUMMARY:Bid Opening: Marr's Springs & Student Center Civil Improvements #LAN-22-2759
DESCRIPTION:Loading...\n						\n					\n					\n						\n							\n							Taking too long?\n						\n						\n							\n								 Reload document							\n							|\n							\n								 Open in new tab							\n					 \n				\n			\n		Download [72.59 KB]  \n			\n				\n					\n						\n							\n							Loading...\n						\n					\n					\n						\n							\n							Taking too long?\n						\n						\n							\n								 Reload document							\n							|\n							\n								 Open in new tab							\n					 \n				\n			\n		Download [106.65 KB]  \n			\n				\n					\n						\n							\n							Loading...\n						\n					\n					\n						\n							\n							Taking too long?\n						\n						\n							\n								 Reload document							\n							|\n							\n								 Open in new tab							\n					 \n				\n			\n		Download [283.97 KB]
URL:https://constructionpublicinfo.ua.edu/bid/bid-opening-marrs-springs-student-center-civil-improvements-lan-22-2759/
LOCATION:Procurement Services Annex – 405 Cahaba Circle\, Tuscaloosa\, AL 35404\, 405 Cahaba Circle\, Alabama\, AL\, 35404\, United States
CATEGORIES:Bid Openings
ORGANIZER;CN="David Jones":MAILTO:dajones11@ua.edu
END:VEVENT
BEGIN:VEVENT
DTSTART;TZID=America/Chicago:20211207T150000
DTEND;TZID=America/Chicago:20211207T160000
DTSTAMP:20260422T074744
CREATED:20211108T134808Z
LAST-MODIFIED:20211129T160528Z
UID:7678-1638889200-1638892800@constructionpublicinfo.ua.edu
SUMMARY:Bid Opening:  UMC Clinical Enhancement #018-20-2247
DESCRIPTION:Loading...\n						\n					\n					\n						\n							\n							Taking too long?\n						\n						\n							\n								 Reload document							\n							|\n							\n								 Open in new tab							\n					 \n				\n			\n		Download [69.33 KB]  \n			\n				\n					\n						\n							\n							Loading...\n						\n					\n					\n						\n							\n							Taking too long?\n						\n						\n							\n								 Reload document							\n							|\n							\n								 Open in new tab							\n					 \n				\n			\n		Download [103.75 KB]  \n			\n				\n					\n						\n							\n							Loading...\n						\n					\n					\n						\n							\n							Taking too long?\n						\n						\n							\n								 Reload document							\n							|\n							\n								 Open in new tab							\n					 \n				\n			\n		Download [234.37 KB]
URL:https://constructionpublicinfo.ua.edu/bid/bid-opening-umc-clinical-enhancement-018-20-2247/
LOCATION:Procurement Services Annex – 405 Cahaba Circle\, Tuscaloosa\, AL 35404\, 405 Cahaba Circle\, Alabama\, AL\, 35404\, United States
CATEGORIES:Bid Openings
ORGANIZER;CN="David Jones":MAILTO:dajones11@ua.edu
END:VEVENT
BEGIN:VEVENT
DTSTART;TZID=America/Chicago:20211209T100000
DTEND;TZID=America/Chicago:20211209T110000
DTSTAMP:20260422T074744
CREATED:20211115T171939Z
LAST-MODIFIED:20211115T171939Z
UID:7710-1639044000-1639047600@constructionpublicinfo.ua.edu
SUMMARY:Pre-Bid:  University Medical Center - Northport #820-21-2643B
DESCRIPTION:Loading...\n						\n					\n					\n						\n							\n							Taking too long?\n						\n						\n							\n								 Reload document							\n							|\n							\n								 Open in new tab							\n					 \n				\n			\n		Download [71.99 KB]  \n			\n				\n					\n						\n							\n							Loading...\n						\n					\n					\n						\n							\n							Taking too long?\n						\n						\n							\n								 Reload document							\n							|\n							\n								 Open in new tab							\n					 \n				\n			\n		Download [120.80 KB]  \n			\n				\n					\n						\n							\n							Loading...\n						\n					\n					\n						\n							\n							Taking too long?\n						\n						\n							\n								 Reload document							\n							|\n							\n								 Open in new tab							\n					 \n				\n			\n		Download [234.30 KB]
URL:https://constructionpublicinfo.ua.edu/bid/pre-bid-university-medical-center-northport-820-21-2643b/
LOCATION:Procurement Services Annex – 405 Cahaba Circle\, Tuscaloosa\, AL 35404\, 405 Cahaba Circle\, Alabama\, AL\, 35404\, United States
CATEGORIES:Pre-Bid Conference
END:VEVENT
BEGIN:VEVENT
DTSTART;VALUE=DATE:20211214
DTEND;VALUE=DATE:20211215
DTSTAMP:20260422T074744
CREATED:20211129T184100Z
LAST-MODIFIED:20211129T184100Z
UID:7788-1639440000-1639526399@constructionpublicinfo.ua.edu
SUMMARY:Pre-Qualifications:  Former Alpha Gamma Delta House Demolition #004-22-2766A
DESCRIPTION:Loading...\n						\n					\n					\n						\n							\n							Taking too long?\n						\n						\n							\n								 Reload document							\n							|\n							\n								 Open in new tab							\n					 \n				\n			\n		Download [74.82 KB]  \n			\n				\n					\n						\n							\n							Loading...\n						\n					\n					\n						\n							\n							Taking too long?\n						\n						\n							\n								 Reload document							\n							|\n							\n								 Open in new tab							\n					 \n				\n			\n		Download [117.77 KB]  \n			\n				\n					\n						\n							\n							Loading...\n						\n					\n					\n						\n							\n							Taking too long?\n						\n						\n							\n								 Reload document							\n							|\n							\n								 Open in new tab							\n					 \n				\n			\n		Download [234.46 KB]
URL:https://constructionpublicinfo.ua.edu/bid/pre-qualifications-former-alpha-gamma-delta-house-demolition-004-22-2766a/
LOCATION:AL
CATEGORIES:Prequalifications
ORGANIZER;CN="Suzanne Webster":MAILTO:scirbywebster@ua.edu
END:VEVENT
BEGIN:VEVENT
DTSTART;TZID=America/Chicago:20211214T090000
DTEND;TZID=America/Chicago:20211214T100000
DTSTAMP:20260422T074744
CREATED:20211123T215151Z
LAST-MODIFIED:20211123T215151Z
UID:7755-1639472400-1639476000@constructionpublicinfo.ua.edu
SUMMARY:Pre-Bid:  Bruno Library Renovation - Interior Demolition #036-19-2189A
DESCRIPTION:Loading...\n						\n					\n					\n						\n							\n							Taking too long?\n						\n						\n							\n								 Reload document							\n							|\n							\n								 Open in new tab							\n					 \n				\n			\n		Download [73.70 KB]  \n			\n				\n					\n						\n							\n							Loading...\n						\n					\n					\n						\n							\n							Taking too long?\n						\n						\n							\n								 Reload document							\n							|\n							\n								 Open in new tab							\n					 \n				\n			\n		Download [122.29 KB]  \n			\n				\n					\n						\n							\n							Loading...\n						\n					\n					\n						\n							\n							Taking too long?\n						\n						\n							\n								 Reload document							\n							|\n							\n								 Open in new tab							\n					 \n				\n			\n		Download [282.51 KB]
URL:https://constructionpublicinfo.ua.edu/bid/pre-bid-bruno-library-renovation-interior-demolition-036-19-2189a/
LOCATION:Procurement Services Annex – 405 Cahaba Circle\, Tuscaloosa\, AL 35404\, 405 Cahaba Circle\, Alabama\, AL\, 35404\, United States
CATEGORIES:Pre-Bid Conference
END:VEVENT
BEGIN:VEVENT
DTSTART;TZID=America/Chicago:20211214T140000
DTEND;TZID=America/Chicago:20211214T150000
DTSTAMP:20260422T074744
CREATED:20211101T152826Z
LAST-MODIFIED:20211101T152826Z
UID:7660-1639490400-1639494000@constructionpublicinfo.ua.edu
SUMMARY:Bid Opening:  Gordon Palmer Hall Data Center Upgrades #170-19-2029
DESCRIPTION:Loading...\n						\n					\n					\n						\n							\n							Taking too long?\n						\n						\n							\n								 Reload document							\n							|\n							\n								 Open in new tab							\n					 \n				\n			\n		Download [74.55 KB]  \n			\n				\n					\n						\n							\n							Loading...\n						\n					\n					\n						\n							\n							Taking too long?\n						\n						\n							\n								 Reload document							\n							|\n							\n								 Open in new tab							\n					 \n				\n			\n		Download [120.35 KB]  \n			\n				\n					\n						\n							\n							Loading...\n						\n					\n					\n						\n							\n							Taking too long?\n						\n						\n							\n								 Reload document							\n							|\n							\n								 Open in new tab							\n					 \n				\n			\n		Download [284.76 KB]
URL:https://constructionpublicinfo.ua.edu/bid/bid-opening-gordon-palmer-hall-data-center-upgrades-170-19-2029/
LOCATION:Procurement Services Annex – 405 Cahaba Circle\, Tuscaloosa\, AL 35404\, 405 Cahaba Circle\, Alabama\, AL\, 35404\, United States
CATEGORIES:Bid Openings
END:VEVENT
BEGIN:VEVENT
DTSTART;TZID=America/Chicago:20211221T140000
DTEND;TZID=America/Chicago:20211221T150000
DTSTAMP:20260422T074744
CREATED:20211108T135439Z
LAST-MODIFIED:20211108T135439Z
UID:7685-1640095200-1640098800@constructionpublicinfo.ua.edu
SUMMARY:Bid Opening:  Smart Communities & Innovation Bldg. Utilities & Infrastructure Pkg.  #430-20-2412D
DESCRIPTION:Loading...\n						\n					\n					\n						\n							\n							Taking too long?\n						\n						\n							\n								 Reload document							\n							|\n							\n								 Open in new tab							\n					 \n				\n			\n		Download [74.06 KB]  \n			\n				\n					\n						\n							\n							Loading...\n						\n					\n					\n						\n							\n							Taking too long?\n						\n						\n							\n								 Reload document							\n							|\n							\n								 Open in new tab							\n					 \n				\n			\n		Download [123.86 KB]  \n			\n				\n					\n						\n							\n							Loading...\n						\n					\n					\n						\n							\n							Taking too long?\n						\n						\n							\n								 Reload document							\n							|\n							\n								 Open in new tab							\n					 \n				\n			\n		Download [267.12 KB]
URL:https://constructionpublicinfo.ua.edu/bid/bid-opening-smart-communities-innovation-bldg-utilities-infrastructure-pkg-430-20-2412d/
LOCATION:Procurement Services Annex – 405 Cahaba Circle\, Tuscaloosa\, AL 35404\, 405 Cahaba Circle\, Alabama\, AL\, 35404\, United States
CATEGORIES:Bid Openings
ORGANIZER;CN="Tommy Alfano":MAILTO:talfano1@ua.edu
END:VEVENT
BEGIN:VEVENT
DTSTART;TZID=America/Chicago:20211222T110000
DTEND;TZID=America/Chicago:20211222T120000
DTSTAMP:20260422T074744
CREATED:20211115T171825Z
LAST-MODIFIED:20211210T195217Z
UID:7705-1640170800-1640174400@constructionpublicinfo.ua.edu
SUMMARY:Bid Opening:  University Medical Center - Northport #820-21-2643B
DESCRIPTION:Loading...\n						\n					\n					\n						\n							\n							Taking too long?\n						\n						\n							\n								 Reload document							\n							|\n							\n								 Open in new tab							\n					 \n				\n			\n		Download [71.99 KB]  \n			\n				\n					\n						\n							\n							Loading...\n						\n					\n					\n						\n							\n							Taking too long?\n						\n						\n							\n								 Reload document							\n							|\n							\n								 Open in new tab							\n					 \n				\n			\n		Download [120.80 KB]  \n			\n				\n					\n						\n							\n							Loading...\n						\n					\n					\n						\n							\n							Taking too long?\n						\n						\n							\n								 Reload document							\n							|\n							\n								 Open in new tab							\n					 \n				\n			\n		Download [234.30 KB]
URL:https://constructionpublicinfo.ua.edu/bid/bid-opening-university-medical-center-northport-820-21-2643b/
LOCATION:Procurement Services Annex – 405 Cahaba Circle\, Tuscaloosa\, AL 35404\, 405 Cahaba Circle\, Alabama\, AL\, 35404\, United States
CATEGORIES:Bid Openings
END:VEVENT
BEGIN:VEVENT
DTSTART;VALUE=DATE:20211228
DTEND;VALUE=DATE:20211229
DTSTAMP:20260422T074744
CREATED:20211115T171602Z
LAST-MODIFIED:20211210T211843Z
UID:7703-1640649600-1640735999@constructionpublicinfo.ua.edu
SUMMARY:Pre-Qualifications:  Existing Tutwiler Demolition #206-20-2446
DESCRIPTION:Download [39.33 KB]  \nDownload [44.72 KB]  \nDownload [230.79 KB]
URL:https://constructionpublicinfo.ua.edu/bid/pre-qualifications-existing-tutwiler-demolition-206-20-2446/
LOCATION:AL
CATEGORIES:Prequalifications
ORGANIZER;CN="Terrence Craven":MAILTO:tmcraven@ua.edu
END:VEVENT
END:VCALENDAR