BEGIN:VCALENDAR
VERSION:2.0
PRODID:-//Construction Public Information - ECPv6.5.2//NONSGML v1.0//EN
CALSCALE:GREGORIAN
METHOD:PUBLISH
X-WR-CALNAME:Construction Public Information
X-ORIGINAL-URL:https://constructionpublicinfo.ua.edu
X-WR-CALDESC:Events for Construction Public Information
REFRESH-INTERVAL;VALUE=DURATION:PT1H
X-Robots-Tag:noindex
X-PUBLISHED-TTL:PT1H
BEGIN:VTIMEZONE
TZID:America/Chicago
BEGIN:DAYLIGHT
TZOFFSETFROM:-0600
TZOFFSETTO:-0500
TZNAME:CDT
DTSTART:20220313T080000
END:DAYLIGHT
BEGIN:STANDARD
TZOFFSETFROM:-0500
TZOFFSETTO:-0600
TZNAME:CST
DTSTART:20221106T070000
END:STANDARD
END:VTIMEZONE
BEGIN:VEVENT
DTSTART;VALUE=DATE:20220503
DTEND;VALUE=DATE:20220504
DTSTAMP:20260420T225837
CREATED:20220425T164217Z
LAST-MODIFIED:20220425T164217Z
UID:8367-1651536000-1651622399@constructionpublicinfo.ua.edu
SUMMARY:Pre-Qualifications:  Capstone Village Miscellaneous Apartment Renovations #N/A
DESCRIPTION:Loading...\n						\n					\n					\n						\n							\n							Taking too long?\n						\n						\n							\n								 Reload document							\n							|\n							\n								 Open in new tab							\n					 \n				\n			\n		Download [71.19 KB]  \n			\n				\n					\n						\n							\n							Loading...\n						\n					\n					\n						\n							\n							Taking too long?\n						\n						\n							\n								 Reload document							\n							|\n							\n								 Open in new tab							\n					 \n				\n			\n		Download [126.64 KB]  \n			\n				\n					\n						\n							\n							Loading...\n						\n					\n					\n						\n							\n							Taking too long?\n						\n						\n							\n								 Reload document							\n							|\n							\n								 Open in new tab							\n					 \n				\n			\n		Download [298.73 KB]
URL:https://constructionpublicinfo.ua.edu/bid/pre-qualifications-capstone-village-miscellaneous-apartment-renovations-n-a/
LOCATION:AL
CATEGORIES:Prequalifications
ORGANIZER;CN="Heather Mitchell":MAILTO:hplochridge@ua.edu
END:VEVENT
BEGIN:VEVENT
DTSTART;VALUE=DATE:20220503
DTEND;VALUE=DATE:20220504
DTSTAMP:20260420T225837
CREATED:20220425T164909Z
LAST-MODIFIED:20220425T164909Z
UID:8377-1651536000-1651622399@constructionpublicinfo.ua.edu
SUMMARY:Pre-Qualifications:  Campus Wide Drainage Phase II - Farrah Hall #LAN-22-2759B
DESCRIPTION:Loading...\n						\n					\n					\n						\n							\n							Taking too long?\n						\n						\n							\n								 Reload document							\n							|\n							\n								 Open in new tab							\n					 \n				\n			\n		Download [99.70 KB]  \n			\n				\n					\n						\n							\n							Loading...\n						\n					\n					\n						\n							\n							Taking too long?\n						\n						\n							\n								 Reload document							\n							|\n							\n								 Open in new tab							\n					 \n				\n			\n		Download [144.26 KB]  \n			\n				\n					\n						\n							\n							Loading...\n						\n					\n					\n						\n							\n							Taking too long?\n						\n						\n							\n								 Reload document							\n							|\n							\n								 Open in new tab							\n					 \n				\n			\n		Download [320.26 KB]
URL:https://constructionpublicinfo.ua.edu/bid/pre-qualifications-campus-wide-drainage-phase-ii-farrah-hall-lan-22-2759b/
LOCATION:AL
CATEGORIES:Prequalifications
ORGANIZER;CN="David Jones":MAILTO:dajones11@ua.edu
END:VEVENT
BEGIN:VEVENT
DTSTART;TZID=America/Chicago:20220503T100000
DTEND;TZID=America/Chicago:20220503T110000
DTSTAMP:20260420T225837
CREATED:20220411T124144Z
LAST-MODIFIED:20220411T124144Z
UID:8329-1651572000-1651575600@constructionpublicinfo.ua.edu
SUMMARY:Pre-Bid:  Bryant Denny Stadium Digital Media Center Renovation Phase 1 #046-22-2857
DESCRIPTION:Loading...\n						\n					\n					\n						\n							\n							Taking too long?\n						\n						\n							\n								 Reload document							\n							|\n							\n								 Open in new tab							\n					 \n				\n			\n		Download [76.71 KB]  \n			\n				\n					\n						\n							\n							Loading...\n						\n					\n					\n						\n							\n							Taking too long?\n						\n						\n							\n								 Reload document							\n							|\n							\n								 Open in new tab							\n					 \n				\n			\n		Download [128.23 KB]  \n			\n				\n					\n						\n							\n							Loading...\n						\n					\n					\n						\n							\n							Taking too long?\n						\n						\n							\n								 Reload document							\n							|\n							\n								 Open in new tab							\n					 \n				\n			\n		Download [318.22 KB]
URL:https://constructionpublicinfo.ua.edu/bid/pre-bid-bryant-denny-stadium-digital-media-center-renovation-phase-1-046-22-2857/
LOCATION:Procurement Services Annex – 405 Cahaba Circle\, Tuscaloosa\, AL 35404\, 405 Cahaba Circle\, Alabama\, AL\, 35404\, United States
CATEGORIES:Pre-Bid Conference
ORGANIZER;CN="Sommer Coleman":MAILTO:shcoleman1@ua.edu
END:VEVENT
BEGIN:VEVENT
DTSTART;TZID=America/Chicago:20220503T130000
DTEND;TZID=America/Chicago:20220503T140000
DTSTAMP:20260420T225838
CREATED:20220307T152948Z
LAST-MODIFIED:20220307T152948Z
UID:8193-1651582800-1651586400@constructionpublicinfo.ua.edu
SUMMARY:Bid Opening:  Drummond Lyon Hall #044-21-2710
DESCRIPTION:Loading...\n						\n					\n					\n						\n							\n							Taking too long?\n						\n						\n							\n								 Reload document							\n							|\n							\n								 Open in new tab							\n					 \n				\n			\n		Download [74.19 KB]  \n			\n				\n					\n						\n							\n							Loading...\n						\n					\n					\n						\n							\n							Taking too long?\n						\n						\n							\n								 Reload document							\n							|\n							\n								 Open in new tab							\n					 \n				\n			\n		Download [117.50 KB]  \n			\n				\n					\n						\n							\n							Loading...\n						\n					\n					\n						\n							\n							Taking too long?\n						\n						\n							\n								 Reload document							\n							|\n							\n								 Open in new tab							\n					 \n				\n			\n		Download [234.55 KB]
URL:https://constructionpublicinfo.ua.edu/bid/bid-opening-drummond-lyon-hall-044-21-2710/
LOCATION:Procurement Services Annex – 405 Cahaba Circle\, Tuscaloosa\, AL 35404\, 405 Cahaba Circle\, Alabama\, AL\, 35404\, United States
CATEGORIES:Bid Openings
ORGANIZER;CN="Suzanne Webster":MAILTO:scirbywebster@ua.edu
END:VEVENT
BEGIN:VEVENT
DTSTART;TZID=America/Chicago:20220510T100000
DTEND;TZID=America/Chicago:20220510T110000
DTSTAMP:20260420T225838
CREATED:20220418T145200Z
LAST-MODIFIED:20220509T123506Z
UID:8338-1652176800-1652180400@constructionpublicinfo.ua.edu
SUMMARY:Bid Opening:  Bryant Drive Sidewalk Improvements at Evergreen Cemetery #LAN-22-2827
DESCRIPTION:Loading...\n						\n					\n					\n						\n							\n							Taking too long?\n						\n						\n							\n								 Reload document							\n							|\n							\n								 Open in new tab							\n					 \n				\n			\n		Download [92.69 KB]  \n			\n				\n					\n						\n							\n							Loading...\n						\n					\n					\n						\n							\n							Taking too long?\n						\n						\n							\n								 Reload document							\n							|\n							\n								 Open in new tab							\n					 \n				\n			\n		Download [120.07 KB]  \n			\n				\n					\n						\n							\n							Loading...\n						\n					\n					\n						\n							\n							Taking too long?\n						\n						\n							\n								 Reload document							\n							|\n							\n								 Open in new tab							\n					 \n				\n			\n		Download [232.25 KB]
URL:https://constructionpublicinfo.ua.edu/bid/bid-opening-bryant-drive-sidewalk-improvements-at-evergreen-cemetery-lan-22-2827/
LOCATION:Procurement Services Annex – 405 Cahaba Circle\, Tuscaloosa\, AL 35404\, 405 Cahaba Circle\, Alabama\, AL\, 35404\, United States
CATEGORIES:Bid Openings
END:VEVENT
BEGIN:VEVENT
DTSTART;TZID=America/Chicago:20220512T090000
DTEND;TZID=America/Chicago:20220512T100000
DTSTAMP:20260420T225838
CREATED:20220425T164725Z
LAST-MODIFIED:20220425T164725Z
UID:8375-1652346000-1652349600@constructionpublicinfo.ua.edu
SUMMARY:Pre-Bid:  Campus Wide Drainage Phase II - Farrah Hall #LAN-22-2759B
DESCRIPTION:Loading...\n						\n					\n					\n						\n							\n							Taking too long?\n						\n						\n							\n								 Reload document							\n							|\n							\n								 Open in new tab							\n					 \n				\n			\n		Download [99.70 KB]  \n			\n				\n					\n						\n							\n							Loading...\n						\n					\n					\n						\n							\n							Taking too long?\n						\n						\n							\n								 Reload document							\n							|\n							\n								 Open in new tab							\n					 \n				\n			\n		Download [144.26 KB]  \n			\n				\n					\n						\n							\n							Loading...\n						\n					\n					\n						\n							\n							Taking too long?\n						\n						\n							\n								 Reload document							\n							|\n							\n								 Open in new tab							\n					 \n				\n			\n		Download [320.26 KB]
URL:https://constructionpublicinfo.ua.edu/bid/pre-bid-campus-wide-drainage-phase-ii-farrah-hall-lan-22-2759b/
LOCATION:Procurement Services Annex – 405 Cahaba Circle\, Tuscaloosa\, AL 35404\, 405 Cahaba Circle\, Alabama\, AL\, 35404\, United States
CATEGORIES:Pre-Bid Conference
ORGANIZER;CN="David Jones":MAILTO:dajones11@ua.edu
END:VEVENT
BEGIN:VEVENT
DTSTART;VALUE=DATE:20220517
DTEND;VALUE=DATE:20220518
DTSTAMP:20260420T225838
CREATED:20220502T145115Z
LAST-MODIFIED:20220502T145115Z
UID:8389-1652745600-1652831999@constructionpublicinfo.ua.edu
SUMMARY:Pre-Qualifications:  USC Infrastructure Improvements #1020-22-2931
DESCRIPTION:Loading...\n						\n					\n					\n						\n							\n							Taking too long?\n						\n						\n							\n								 Reload document							\n							|\n							\n								 Open in new tab							\n					 \n				\n			\n		Download [70.89 KB]  \n			\n				\n					\n						\n							\n							Loading...\n						\n					\n					\n						\n							\n							Taking too long?\n						\n						\n							\n								 Reload document							\n							|\n							\n								 Open in new tab							\n					 \n				\n			\n		Download [126.62 KB]  \n			\n				\n					\n						\n							\n							Loading...\n						\n					\n					\n						\n							\n							Taking too long?\n						\n						\n							\n								 Reload document							\n							|\n							\n								 Open in new tab							\n					 \n				\n			\n		Download [302.97 KB]
URL:https://constructionpublicinfo.ua.edu/bid/pre-qualifications-usc-infrastructure-improvements-1020-22-2931/
LOCATION:AL
CATEGORIES:Prequalifications
ORGANIZER;CN="Shawn Templeton":MAILTO:smtempleton@ua.edu
END:VEVENT
BEGIN:VEVENT
DTSTART;VALUE=DATE:20220517
DTEND;VALUE=DATE:20220518
DTSTAMP:20260420T225838
CREATED:20220502T145728Z
LAST-MODIFIED:20220502T145728Z
UID:8398-1652745600-1652831999@constructionpublicinfo.ua.edu
SUMMARY:Pre-Qualifications:  McLure Library Plaza #LAN-22-2844
DESCRIPTION:Loading...\n						\n					\n					\n						\n							\n							Taking too long?\n						\n						\n							\n								 Reload document							\n							|\n							\n								 Open in new tab							\n					 \n				\n			\n		Download [74.83 KB]  \n			\n				\n					\n						\n							\n							Loading...\n						\n					\n					\n						\n							\n							Taking too long?\n						\n						\n							\n								 Reload document							\n							|\n							\n								 Open in new tab							\n					 \n				\n			\n		Download [118.05 KB]  \n			\n				\n					\n						\n							\n							Loading...\n						\n					\n					\n						\n							\n							Taking too long?\n						\n						\n							\n								 Reload document							\n							|\n							\n								 Open in new tab							\n					 \n				\n			\n		Download [232.56 KB]
URL:https://constructionpublicinfo.ua.edu/bid/pre-qualifications-mclure-library-plaza-lan-22-2844/
LOCATION:AL
CATEGORIES:Prequalifications
ORGANIZER;CN="Mary Kathryn Holt":MAILTO:zickl001@ua.edu
END:VEVENT
BEGIN:VEVENT
DTSTART;TZID=America/Chicago:20220517T100000
DTEND;TZID=America/Chicago:20220517T110000
DTSTAMP:20260420T225838
CREATED:20220425T164041Z
LAST-MODIFIED:20220425T164041Z
UID:8365-1652781600-1652785200@constructionpublicinfo.ua.edu
SUMMARY:Pre-Bid:  Capstone Village Miscellaneous Apartment Renovations #N/A
DESCRIPTION:Loading...\n						\n					\n					\n						\n							\n							Taking too long?\n						\n						\n							\n								 Reload document							\n							|\n							\n								 Open in new tab							\n					 \n				\n			\n		Download [71.19 KB]  \n			\n				\n					\n						\n							\n							Loading...\n						\n					\n					\n						\n							\n							Taking too long?\n						\n						\n							\n								 Reload document							\n							|\n							\n								 Open in new tab							\n					 \n				\n			\n		Download [126.64 KB]  \n			\n				\n					\n						\n							\n							Loading...\n						\n					\n					\n						\n							\n							Taking too long?\n						\n						\n							\n								 Reload document							\n							|\n							\n								 Open in new tab							\n					 \n				\n			\n		Download [298.73 KB]
URL:https://constructionpublicinfo.ua.edu/bid/pre-bid-capstone-village-miscellaneous-apartment-renovations-n-a/
LOCATION:Procurement Services Annex – 405 Cahaba Circle\, Tuscaloosa\, AL 35404\, 405 Cahaba Circle\, Alabama\, AL\, 35404\, United States
CATEGORIES:Pre-Bid Conference
ORGANIZER;CN="Heather Mitchell":MAILTO:hplochridge@ua.edu
END:VEVENT
BEGIN:VEVENT
DTSTART;TZID=America/Chicago:20220517T130000
DTEND;TZID=America/Chicago:20220517T140000
DTSTAMP:20260420T225838
CREATED:20220131T140329Z
LAST-MODIFIED:20220511T160324Z
UID:8030-1652792400-1652796000@constructionpublicinfo.ua.edu
SUMMARY:Bid Opening:  Taylor Hardin Phase 3 Building Addition/Renovation & Utilities Pkg. #1099-20-2356C
DESCRIPTION:Loading...\n						\n					\n					\n						\n							\n							Taking too long?\n						\n						\n							\n								 Reload document							\n							|\n							\n								 Open in new tab							\n					 \n				\n			\n		Download [74.28 KB]  \n			\n				\n					\n						\n							\n							Loading...\n						\n					\n					\n						\n							\n							Taking too long?\n						\n						\n							\n								 Reload document							\n							|\n							\n								 Open in new tab							\n					 \n				\n			\n		Download [120.30 KB]  \n			\n				\n					\n						\n							\n							Loading...\n						\n					\n					\n						\n							\n							Taking too long?\n						\n						\n							\n								 Reload document							\n							|\n							\n								 Open in new tab							\n					 \n				\n			\n		Download [234.41 KB]
URL:https://constructionpublicinfo.ua.edu/bid/bid-opening-taylor-hardin-phase-3-building-addition-renovation-utilities-pkg-1099-20-2356c/
LOCATION:Procurement Services Annex – 405 Cahaba Circle\, Tuscaloosa\, AL 35404\, 405 Cahaba Circle\, Alabama\, AL\, 35404\, United States
CATEGORIES:Bid Openings
END:VEVENT
BEGIN:VEVENT
DTSTART;TZID=America/Chicago:20220517T140000
DTEND;TZID=America/Chicago:20220517T150000
DTSTAMP:20260420T225838
CREATED:20220404T140350Z
LAST-MODIFIED:20220504T152858Z
UID:8291-1652796000-1652799600@constructionpublicinfo.ua.edu
SUMMARY:Bid Opening:  Bryant Denny Stadium West Lower Bowl Blast & Paint Structural Steel #046-22-2846
DESCRIPTION:Loading...\n						\n					\n					\n						\n							\n							Taking too long?\n						\n						\n							\n								 Reload document							\n							|\n							\n								 Open in new tab							\n					 \n				\n			\n		Download [77.42 KB]  \n			\n				\n					\n						\n							\n							Loading...\n						\n					\n					\n						\n							\n							Taking too long?\n						\n						\n							\n								 Reload document							\n							|\n							\n								 Open in new tab							\n					 \n				\n			\n		Download [129.60 KB]  \n			\n				\n					\n						\n							\n							Loading...\n						\n					\n					\n						\n							\n							Taking too long?\n						\n						\n							\n								 Reload document							\n							|\n							\n								 Open in new tab							\n					 \n				\n			\n		Download [318.97 KB]
URL:https://constructionpublicinfo.ua.edu/bid/bid-opening-bryant-denny-stadium-west-lower-bowl-blast-paint-structural-steel-046-22-2846/
LOCATION:Procurement Services Annex – 405 Cahaba Circle\, Tuscaloosa\, AL 35404\, 405 Cahaba Circle\, Alabama\, AL\, 35404\, United States
CATEGORIES:Bid Openings
ORGANIZER;CN="Sommer Coleman":MAILTO:shcoleman1@ua.edu
END:VEVENT
BEGIN:VEVENT
DTSTART;TZID=America/Chicago:20220519T110000
DTEND;TZID=America/Chicago:20220519T120000
DTSTAMP:20260420T225838
CREATED:20220411T123938Z
LAST-MODIFIED:20220509T132326Z
UID:8324-1652958000-1652961600@constructionpublicinfo.ua.edu
SUMMARY:Bid Opening:  Bryant Denny Stadium Digital Media Center Renovation Phase 1 #046-22-2857
DESCRIPTION:Loading...\n						\n					\n					\n						\n							\n							Taking too long?\n						\n						\n							\n								 Reload document							\n							|\n							\n								 Open in new tab							\n					 \n				\n			\n		Download [76.71 KB]  \n			\n				\n					\n						\n							\n							Loading...\n						\n					\n					\n						\n							\n							Taking too long?\n						\n						\n							\n								 Reload document							\n							|\n							\n								 Open in new tab							\n					 \n				\n			\n		Download [128.23 KB]  \n			\n				\n					\n						\n							\n							Loading...\n						\n					\n					\n						\n							\n							Taking too long?\n						\n						\n							\n								 Reload document							\n							|\n							\n								 Open in new tab							\n					 \n				\n			\n		Download [318.22 KB]
URL:https://constructionpublicinfo.ua.edu/bid/bid-opening-bryant-denny-stadium-digital-media-center-renovation-046-22-2857/
LOCATION:Procurement Services Annex – 405 Cahaba Circle\, Tuscaloosa\, AL 35404\, 405 Cahaba Circle\, Alabama\, AL\, 35404\, United States
CATEGORIES:Bid Openings
ORGANIZER;CN="Sommer Coleman":MAILTO:shcoleman1@ua.edu
END:VEVENT
BEGIN:VEVENT
DTSTART;TZID=America/Chicago:20220519T140000
DTEND;TZID=America/Chicago:20220519T150000
DTSTAMP:20260420T225838
CREATED:20220425T164536Z
LAST-MODIFIED:20220425T164536Z
UID:8369-1652968800-1652972400@constructionpublicinfo.ua.edu
SUMMARY:Bid Opening:  Campus Wide Drainage Phase II - Farrah Hall #LAN-22-2759B
DESCRIPTION:Loading...\n						\n					\n					\n						\n							\n							Taking too long?\n						\n						\n							\n								 Reload document							\n							|\n							\n								 Open in new tab							\n					 \n				\n			\n		Download [99.70 KB]  \n			\n				\n					\n						\n							\n							Loading...\n						\n					\n					\n						\n							\n							Taking too long?\n						\n						\n							\n								 Reload document							\n							|\n							\n								 Open in new tab							\n					 \n				\n			\n		Download [144.26 KB]  \n			\n				\n					\n						\n							\n							Loading...\n						\n					\n					\n						\n							\n							Taking too long?\n						\n						\n							\n								 Reload document							\n							|\n							\n								 Open in new tab							\n					 \n				\n			\n		Download [320.26 KB]
URL:https://constructionpublicinfo.ua.edu/bid/bid-opening-campus-wide-drainage-phase-ii-farrah-hall-lan-22-2759b/
LOCATION:Procurement Services Annex – 405 Cahaba Circle\, Tuscaloosa\, AL 35404\, 405 Cahaba Circle\, Alabama\, AL\, 35404\, United States
CATEGORIES:Bid Openings
ORGANIZER;CN="David Jones":MAILTO:dajones11@ua.edu
END:VEVENT
BEGIN:VEVENT
DTSTART;TZID=America/Chicago:20220526T140000
DTEND;TZID=America/Chicago:20220526T150000
DTSTAMP:20260420T225838
CREATED:20220523T160821Z
LAST-MODIFIED:20220523T160821Z
UID:8388-1653573600-1653577200@constructionpublicinfo.ua.edu
SUMMARY:Pre-Bid:  USC Infrastructure Improvements #1020-22-2931
DESCRIPTION:Loading...\n						\n					\n					\n						\n							\n							Taking too long?\n						\n						\n							\n								 Reload document							\n							|\n							\n								 Open in new tab							\n					 \n				\n			\n		Download [70.89 KB]  \n			\n				\n					\n						\n							\n							Loading...\n						\n					\n					\n						\n							\n							Taking too long?\n						\n						\n							\n								 Reload document							\n							|\n							\n								 Open in new tab							\n					 \n				\n			\n		Download [126.62 KB]  \n			\n				\n					\n						\n							\n							Loading...\n						\n					\n					\n						\n							\n							Taking too long?\n						\n						\n							\n								 Reload document							\n							|\n							\n								 Open in new tab							\n					 \n				\n			\n		Download [302.97 KB]
URL:https://constructionpublicinfo.ua.edu/bid/pre-bid-usc-infrastructure-improvements-1020-22-2931/
LOCATION:Procurement Services Annex – 405 Cahaba Circle\, Tuscaloosa\, AL 35404\, 405 Cahaba Circle\, Alabama\, AL\, 35404\, United States
CATEGORIES:Pre-Bid Conference
ORGANIZER;CN="Shawn Templeton":MAILTO:smtempleton@ua.edu
END:VEVENT
BEGIN:VEVENT
DTSTART;VALUE=DATE:20220531
DTEND;VALUE=DATE:20220601
DTSTAMP:20260420T225838
CREATED:20220523T144454Z
LAST-MODIFIED:20220523T144454Z
UID:8442-1653955200-1654041599@constructionpublicinfo.ua.edu
SUMMARY:Pre-Qualifications:  Oliver-Barnard Hall Renovation - Elevator Package #027-22-2809
DESCRIPTION:Loading...\n						\n					\n					\n						\n							\n							Taking too long?\n						\n						\n							\n								 Reload document							\n							|\n							\n								 Open in new tab							\n					 \n				\n			\n		Download [100.18 KB]  \n			\n				\n					\n						\n							\n							Loading...\n						\n					\n					\n						\n							\n							Taking too long?\n						\n						\n							\n								 Reload document							\n							|\n							\n								 Open in new tab							\n					 \n				\n			\n		Download [129.09 KB]  \n			\n				\n					\n						\n							\n							Loading...\n						\n					\n					\n						\n							\n							Taking too long?\n						\n						\n							\n								 Reload document							\n							|\n							\n								 Open in new tab							\n					 \n				\n			\n		Download [318.34 KB]
URL:https://constructionpublicinfo.ua.edu/bid/pre-qualifications-oliver-barnard-hall-renovation-elevator-package-027-22-2809/
LOCATION:AL
CATEGORIES:Prequalifications
END:VEVENT
BEGIN:VEVENT
DTSTART;TZID=America/Chicago:20220531T100000
DTEND;TZID=America/Chicago:20220531T110000
DTSTAMP:20260420T225838
CREATED:20220502T145542Z
LAST-MODIFIED:20220502T145542Z
UID:8396-1653991200-1653994800@constructionpublicinfo.ua.edu
SUMMARY:Pre-Bid:  McLure Library Plaza #LAN-22-2844
DESCRIPTION:Loading...\n						\n					\n					\n						\n							\n							Taking too long?\n						\n						\n							\n								 Reload document							\n							|\n							\n								 Open in new tab							\n					 \n				\n			\n		Download [74.83 KB]  \n			\n				\n					\n						\n							\n							Loading...\n						\n					\n					\n						\n							\n							Taking too long?\n						\n						\n							\n								 Reload document							\n							|\n							\n								 Open in new tab							\n					 \n				\n			\n		Download [118.05 KB]  \n			\n				\n					\n						\n							\n							Loading...\n						\n					\n					\n						\n							\n							Taking too long?\n						\n						\n							\n								 Reload document							\n							|\n							\n								 Open in new tab							\n					 \n				\n			\n		Download [232.56 KB]
URL:https://constructionpublicinfo.ua.edu/bid/pre-bid-mclure-library-plaza-lan-22-2844/
LOCATION:Procurement Services Annex – 405 Cahaba Circle\, Tuscaloosa\, AL 35404\, 405 Cahaba Circle\, Alabama\, AL\, 35404\, United States
CATEGORIES:Pre-Bid Conference
END:VEVENT
BEGIN:VEVENT
DTSTART;TZID=America/Chicago:20220531T110000
DTEND;TZID=America/Chicago:20220531T120000
DTSTAMP:20260420T225838
CREATED:20220516T172020Z
LAST-MODIFIED:20220516T172020Z
UID:8408-1653994800-1653998400@constructionpublicinfo.ua.edu
SUMMARY:Pre-Bid:  Maxwell Hall Repairs #152-22-2813
DESCRIPTION:Loading...\n						\n					\n					\n						\n							\n							Taking too long?\n						\n						\n							\n								 Reload document							\n							|\n							\n								 Open in new tab							\n					 \n				\n			\n		Download [70.77 KB]  \n			\n				\n					\n						\n							\n							Loading...\n						\n					\n					\n						\n							\n							Taking too long?\n						\n						\n							\n								 Reload document							\n							|\n							\n								 Open in new tab							\n					 \n				\n			\n		Download [104.60 KB]  \n			\n				\n					\n						\n							\n							Loading...\n						\n					\n					\n						\n							\n							Taking too long?\n						\n						\n							\n								 Reload document							\n							|\n							\n								 Open in new tab							\n					 \n				\n			\n		Download [283.44 KB]
URL:https://constructionpublicinfo.ua.edu/bid/pre-bid-maxwell-hall-repairs-152-22-2813/
LOCATION:Procurement Services Annex – 405 Cahaba Circle\, Tuscaloosa\, AL 35404\, 405 Cahaba Circle\, Alabama\, AL\, 35404\, United States
CATEGORIES:Pre-Bid Conference
ORGANIZER;CN="Brittany Kyles":MAILTO:bkyles@ua.edu
END:VEVENT
END:VCALENDAR