BEGIN:VCALENDAR
VERSION:2.0
PRODID:-//Construction Public Information - ECPv6.5.2//NONSGML v1.0//EN
CALSCALE:GREGORIAN
METHOD:PUBLISH
X-WR-CALNAME:Construction Public Information
X-ORIGINAL-URL:https://constructionpublicinfo.ua.edu
X-WR-CALDESC:Events for Construction Public Information
REFRESH-INTERVAL;VALUE=DURATION:PT1H
X-Robots-Tag:noindex
X-PUBLISHED-TTL:PT1H
BEGIN:VTIMEZONE
TZID:America/Chicago
BEGIN:DAYLIGHT
TZOFFSETFROM:-0600
TZOFFSETTO:-0500
TZNAME:CDT
DTSTART:20220313T080000
END:DAYLIGHT
BEGIN:STANDARD
TZOFFSETFROM:-0500
TZOFFSETTO:-0600
TZNAME:CST
DTSTART:20221106T070000
END:STANDARD
END:VTIMEZONE
BEGIN:VEVENT
DTSTART;TZID=America/Chicago:20220602T140000
DTEND;TZID=America/Chicago:20220602T153000
DTSTAMP:20260420T064316
CREATED:20220502T144651Z
LAST-MODIFIED:20220502T144651Z
UID:8382-1654178400-1654183800@constructionpublicinfo.ua.edu
SUMMARY:Bid Opening:  USC Infrastructure Improvements #1020-22-2931
DESCRIPTION:Loading...\n						\n					\n					\n						\n							\n							Taking too long?\n						\n						\n							\n								 Reload document							\n							|\n							\n								 Open in new tab							\n					 \n				\n			\n		Download [70.89 KB]  \n			\n				\n					\n						\n							\n							Loading...\n						\n					\n					\n						\n							\n							Taking too long?\n						\n						\n							\n								 Reload document							\n							|\n							\n								 Open in new tab							\n					 \n				\n			\n		Download [126.62 KB]  \n			\n				\n					\n						\n							\n							Loading...\n						\n					\n					\n						\n							\n							Taking too long?\n						\n						\n							\n								 Reload document							\n							|\n							\n								 Open in new tab							\n					 \n				\n			\n		Download [302.97 KB]
URL:https://constructionpublicinfo.ua.edu/bid/bid-opening-usc-infrastructure-improvements-1020-22-2931/
LOCATION:Procurement Services Annex – 405 Cahaba Circle\, Tuscaloosa\, AL 35404\, 405 Cahaba Circle\, Alabama\, AL\, 35404\, United States
CATEGORIES:Bid Openings
ORGANIZER;CN="Shawn Templeton":MAILTO:smtempleton@ua.edu
END:VEVENT
BEGIN:VEVENT
DTSTART;VALUE=DATE:20220603
DTEND;VALUE=DATE:20220604
DTSTAMP:20260420T064316
CREATED:20220525T155113Z
LAST-MODIFIED:20220525T163348Z
UID:8453-1654214400-1654300799@constructionpublicinfo.ua.edu
SUMMARY:RFQ: Geological Survey of Alabama Core Warehouse Building – 1047-22-2978 – Due 6/3/2022 by 5:00pm
DESCRIPTION:Loading...\n						\n					\n					\n						\n							\n							Taking too long?\n						\n						\n							\n								 Reload document							\n							|\n							\n								 Open in new tab							\n					 \n				\n			\n		Download [199.83 KB]  \n			\n				\n					\n						\n							\n							Loading...\n						\n					\n					\n						\n							\n							Taking too long?\n						\n						\n							\n								 Reload document							\n							|\n							\n								 Open in new tab							\n					 \n				\n			\n		Download [212.33 KB]  \n			\n				\n					\n						\n							\n							Loading...\n						\n					\n					\n						\n							\n							Taking too long?\n						\n						\n							\n								 Reload document							\n							|\n							\n								 Open in new tab							\n					 \n				\n			\n		Download [263.63 KB]
URL:https://constructionpublicinfo.ua.edu/bid/rfq-geological-survey-of-alabama-1047-22-2978-due-6-3-2022-by-500pm/
LOCATION:AL
CATEGORIES:RFQs
END:VEVENT
BEGIN:VEVENT
DTSTART;VALUE=DATE:20220607
DTEND;VALUE=DATE:20220608
DTSTAMP:20260420T064317
CREATED:20220516T173856Z
LAST-MODIFIED:20220516T173932Z
UID:8418-1654560000-1654646399@constructionpublicinfo.ua.edu
SUMMARY:Pre-Qualifications:  Flint River Drive Parking Lot Improvements #TRN-22-2935
DESCRIPTION:Loading...\n						\n					\n					\n						\n							\n							Taking too long?\n						\n						\n							\n								 Reload document							\n							|\n							\n								 Open in new tab							\n					 \n				\n			\n		Download [97.77 KB]  \n			\n				\n					\n						\n							\n							Loading...\n						\n					\n					\n						\n							\n							Taking too long?\n						\n						\n							\n								 Reload document							\n							|\n							\n								 Open in new tab							\n					 \n				\n			\n		Download [135.66 KB]  \n			\n				\n					\n						\n							\n							Loading...\n						\n					\n					\n						\n							\n							Taking too long?\n						\n						\n							\n								 Reload document							\n							|\n							\n								 Open in new tab							\n					 \n				\n			\n		Download [324.83 KB]
URL:https://constructionpublicinfo.ua.edu/bid/pre-qualifications-flint-river-drive-parking-lot-improvements-trn-22-2935/
LOCATION:AL
CATEGORIES:Prequalifications
ORGANIZER;CN="Shawn Templeton":MAILTO:smtempleton@ua.edu
END:VEVENT
BEGIN:VEVENT
DTSTART;VALUE=DATE:20220607
DTEND;VALUE=DATE:20220608
DTSTAMP:20260420T064317
CREATED:20220516T174640Z
LAST-MODIFIED:20220516T174640Z
UID:8427-1654560000-1654646399@constructionpublicinfo.ua.edu
SUMMARY:Pre-Qualifications:  Ruby Tyler South Wing Renovation #1020-22-2896
DESCRIPTION:Loading...\n						\n					\n					\n						\n							\n							Taking too long?\n						\n						\n							\n								 Reload document							\n							|\n							\n								 Open in new tab							\n					 \n				\n			\n		Download [99.43 KB]  \n			\n				\n					\n						\n							\n							Loading...\n						\n					\n					\n						\n							\n							Taking too long?\n						\n						\n							\n								 Reload document							\n							|\n							\n								 Open in new tab							\n					 \n				\n			\n		Download [127.39 KB]  \n			\n				\n					\n						\n							\n							Loading...\n						\n					\n					\n						\n							\n							Taking too long?\n						\n						\n							\n								 Reload document							\n							|\n							\n								 Open in new tab							\n					 \n				\n			\n		Download [316.34 KB]
URL:https://constructionpublicinfo.ua.edu/bid/pre-qualifications-ruby-tyler-south-wing-renovation-1020-22-2896/
LOCATION:AL
CATEGORIES:Prequalifications
ORGANIZER;CN="Shawn Templeton":MAILTO:smtempleton@ua.edu
END:VEVENT
BEGIN:VEVENT
DTSTART;TZID=America/Chicago:20220607T090000
DTEND;TZID=America/Chicago:20220607T100000
DTSTAMP:20260420T064317
CREATED:20220523T144326Z
LAST-MODIFIED:20220523T144326Z
UID:8440-1654592400-1654596000@constructionpublicinfo.ua.edu
SUMMARY:Pre-Bid:  Oliver-Barnard Hall Renovation - Elevator Package #027-22-2809
DESCRIPTION:Loading...\n						\n					\n					\n						\n							\n							Taking too long?\n						\n						\n							\n								 Reload document							\n							|\n							\n								 Open in new tab							\n					 \n				\n			\n		Download [100.18 KB]  \n			\n				\n					\n						\n							\n							Loading...\n						\n					\n					\n						\n							\n							Taking too long?\n						\n						\n							\n								 Reload document							\n							|\n							\n								 Open in new tab							\n					 \n				\n			\n		Download [129.09 KB]  \n			\n				\n					\n						\n							\n							Loading...\n						\n					\n					\n						\n							\n							Taking too long?\n						\n						\n							\n								 Reload document							\n							|\n							\n								 Open in new tab							\n					 \n				\n			\n		Download [318.34 KB]
URL:https://constructionpublicinfo.ua.edu/bid/pre-bid-oliver-barnard-hall-renovation-elevator-package-027-22-2809/
LOCATION:Procurement Services Annex – 405 Cahaba Circle\, Tuscaloosa\, AL 35404\, 405 Cahaba Circle\, Alabama\, AL\, 35404\, United States
CATEGORIES:Pre-Bid Conference
END:VEVENT
BEGIN:VEVENT
DTSTART;TZID=America/Chicago:20220607T130000
DTEND;TZID=America/Chicago:20220607T140000
DTSTAMP:20260420T064317
CREATED:20220425T163856Z
LAST-MODIFIED:20220531T192257Z
UID:8360-1654606800-1654610400@constructionpublicinfo.ua.edu
SUMMARY:Bid Opening:  Capstone Village Miscellaneous Apartment Renovations #N/A
DESCRIPTION:Loading...\n						\n					\n					\n						\n							\n							Taking too long?\n						\n						\n							\n								 Reload document							\n							|\n							\n								 Open in new tab							\n					 \n				\n			\n		Download [71.19 KB]  \n			\n				\n					\n						\n							\n							Loading...\n						\n					\n					\n						\n							\n							Taking too long?\n						\n						\n							\n								 Reload document							\n							|\n							\n								 Open in new tab							\n					 \n				\n			\n		Download [126.64 KB]  \n			\n				\n					\n						\n							\n							Loading...\n						\n					\n					\n						\n							\n							Taking too long?\n						\n						\n							\n								 Reload document							\n							|\n							\n								 Open in new tab							\n					 \n				\n			\n		Download [298.73 KB]
URL:https://constructionpublicinfo.ua.edu/bid/bid-opening-capstone-village-miscellaneous-apartment-renovations-n-a/
LOCATION:Procurement Services Annex – 405 Cahaba Circle\, Tuscaloosa\, AL 35404\, 405 Cahaba Circle\, Alabama\, AL\, 35404\, United States
CATEGORIES:Bid Openings
ORGANIZER;CN="Heather Mitchell":MAILTO:hplochridge@ua.edu
END:VEVENT
BEGIN:VEVENT
DTSTART;TZID=America/Chicago:20220607T150000
DTEND;TZID=America/Chicago:20220607T160000
DTSTAMP:20260420T064317
CREATED:20220516T171844Z
LAST-MODIFIED:20220516T171844Z
UID:8402-1654614000-1654617600@constructionpublicinfo.ua.edu
SUMMARY:Bid Opening:  Maxwell Hall Repairs #152-22-2813
DESCRIPTION:Loading...\n						\n					\n					\n						\n							\n							Taking too long?\n						\n						\n							\n								 Reload document							\n							|\n							\n								 Open in new tab							\n					 \n				\n			\n		Download [70.77 KB]  \n			\n				\n					\n						\n							\n							Loading...\n						\n					\n					\n						\n							\n							Taking too long?\n						\n						\n							\n								 Reload document							\n							|\n							\n								 Open in new tab							\n					 \n				\n			\n		Download [104.60 KB]  \n			\n				\n					\n						\n							\n							Loading...\n						\n					\n					\n						\n							\n							Taking too long?\n						\n						\n							\n								 Reload document							\n							|\n							\n								 Open in new tab							\n					 \n				\n			\n		Download [283.44 KB]
URL:https://constructionpublicinfo.ua.edu/bid/bid-opening-maxwell-hall-repairs-152-22-2813/
LOCATION:Procurement Services Annex – 405 Cahaba Circle\, Tuscaloosa\, AL 35404\, 405 Cahaba Circle\, Alabama\, AL\, 35404\, United States
CATEGORIES:Bid Openings
ORGANIZER;CN="Brittany Kyles":MAILTO:bkyles@ua.edu
END:VEVENT
BEGIN:VEVENT
DTSTART;TZID=America/Chicago:20220609T140000
DTEND;TZID=America/Chicago:20220609T150000
DTSTAMP:20260420T064317
CREATED:20220502T145403Z
LAST-MODIFIED:20220601T183238Z
UID:8391-1654783200-1654786800@constructionpublicinfo.ua.edu
SUMMARY:CANCELED Bid Opening:  McLure Library Plaza #LAN-22-2844
DESCRIPTION:Loading...\n						\n					\n					\n						\n							\n							Taking too long?\n						\n						\n							\n								 Reload document							\n							|\n							\n								 Open in new tab							\n					 \n				\n			\n		Download [74.83 KB]  \n			\n				\n					\n						\n							\n							Loading...\n						\n					\n					\n						\n							\n							Taking too long?\n						\n						\n							\n								 Reload document							\n							|\n							\n								 Open in new tab							\n					 \n				\n			\n		Download [118.05 KB]  \n			\n				\n					\n						\n							\n							Loading...\n						\n					\n					\n						\n							\n							Taking too long?\n						\n						\n							\n								 Reload document							\n							|\n							\n								 Open in new tab							\n					 \n				\n			\n		Download [232.56 KB]
URL:https://constructionpublicinfo.ua.edu/bid/bid-opening-mclure-library-plaza-lan-22-2844/
LOCATION:Procurement Services Annex – 405 Cahaba Circle\, Tuscaloosa\, AL 35404\, 405 Cahaba Circle\, Alabama\, AL\, 35404\, United States
CATEGORIES:Bid Openings
END:VEVENT
BEGIN:VEVENT
DTSTART;VALUE=DATE:20220614
DTEND;VALUE=DATE:20220615
DTSTAMP:20260420T064317
CREATED:20220531T125629Z
LAST-MODIFIED:20220531T125629Z
UID:8470-1655164800-1655251199@constructionpublicinfo.ua.edu
SUMMARY:Pre-Qualifications:  Gorgas Library Core Support\, Phase II Reno & Add. #013-21-2678
DESCRIPTION:Loading...\n						\n					\n					\n						\n							\n							Taking too long?\n						\n						\n							\n								 Reload document							\n							|\n							\n								 Open in new tab							\n					 \n				\n			\n		Download [100.86 KB]  \n			\n				\n					\n						\n							\n							Loading...\n						\n					\n					\n						\n							\n							Taking too long?\n						\n						\n							\n								 Reload document							\n							|\n							\n								 Open in new tab							\n					 \n				\n			\n		Download [128.52 KB]  \n			\n				\n					\n						\n							\n							Loading...\n						\n					\n					\n						\n							\n							Taking too long?\n						\n						\n							\n								 Reload document							\n							|\n							\n								 Open in new tab							\n					 \n				\n			\n		Download [319.03 KB]
URL:https://constructionpublicinfo.ua.edu/bid/pre-qualifications-gorgas-library-core-support-phase-ii-reno-add-013-21-2678/
LOCATION:AL
CATEGORIES:Prequalifications
END:VEVENT
BEGIN:VEVENT
DTSTART;TZID=America/Chicago:20220616T100000
DTEND;TZID=America/Chicago:20220616T110000
DTSTAMP:20260420T064317
CREATED:20220516T174505Z
LAST-MODIFIED:20220516T174505Z
UID:8425-1655373600-1655377200@constructionpublicinfo.ua.edu
SUMMARY:Pre-Bid:  Ruby Tyler South Wing Renovation #1020-22-2896
DESCRIPTION:Loading...\n						\n					\n					\n						\n							\n							Taking too long?\n						\n						\n							\n								 Reload document							\n							|\n							\n								 Open in new tab							\n					 \n				\n			\n		Download [99.43 KB]  \n			\n				\n					\n						\n							\n							Loading...\n						\n					\n					\n						\n							\n							Taking too long?\n						\n						\n							\n								 Reload document							\n							|\n							\n								 Open in new tab							\n					 \n				\n			\n		Download [127.39 KB]  \n			\n				\n					\n						\n							\n							Loading...\n						\n					\n					\n						\n							\n							Taking too long?\n						\n						\n							\n								 Reload document							\n							|\n							\n								 Open in new tab							\n					 \n				\n			\n		Download [316.34 KB]
URL:https://constructionpublicinfo.ua.edu/bid/pre-bid-ruby-tyler-south-wing-renovation-1020-22-2896/
LOCATION:Procurement Services Annex – 405 Cahaba Circle\, Tuscaloosa\, AL 35404\, 405 Cahaba Circle\, Alabama\, AL\, 35404\, United States
CATEGORIES:Pre-Bid Conference
ORGANIZER;CN="Shawn Templeton":MAILTO:smtempleton@ua.edu
END:VEVENT
BEGIN:VEVENT
DTSTART;VALUE=DATE:20220621
DTEND;VALUE=DATE:20220622
DTSTAMP:20260420T064317
CREATED:20220614T160130Z
LAST-MODIFIED:20220614T160130Z
UID:8504-1655769600-1655855999@constructionpublicinfo.ua.edu
SUMMARY:Pre-Qualifications:  Overhead to Underground Utility Conversion @ School of Nursing #UTL-22-2972
DESCRIPTION:Loading...\n						\n					\n					\n						\n							\n							Taking too long?\n						\n						\n							\n								 Reload document							\n							|\n							\n								 Open in new tab							\n					 \n				\n			\n		Download [121.35 KB]  \n			\n				\n					\n						\n							\n							Loading...\n						\n					\n					\n						\n							\n							Taking too long?\n						\n						\n							\n								 Reload document							\n							|\n							\n								 Open in new tab							\n					 \n				\n			\n		Download [131.39 KB]  \n			\n				\n					\n						\n							\n							Loading...\n						\n					\n					\n						\n							\n							Taking too long?\n						\n						\n							\n								 Reload document							\n							|\n							\n								 Open in new tab							\n					 \n				\n			\n		Download [320.14 KB]
URL:https://constructionpublicinfo.ua.edu/bid/pre-qualifications-overhead-to-underground-utility-conversion-school-of-nursing-utl-22-2972/
LOCATION:AL
CATEGORIES:Prequalifications
ORGANIZER;CN="Shawn Templeton":MAILTO:smtempleton@ua.edu
END:VEVENT
BEGIN:VEVENT
DTSTART;TZID=America/Chicago:20220621T090000
DTEND;TZID=America/Chicago:20220621T100000
DTSTAMP:20260420T064317
CREATED:20220531T125445Z
LAST-MODIFIED:20220531T125445Z
UID:8468-1655802000-1655805600@constructionpublicinfo.ua.edu
SUMMARY:Pre-Bid:  Gorgas Library Core Support\, Phase II Reno & Add. #013-21-2678
DESCRIPTION:Loading...\n						\n					\n					\n						\n							\n							Taking too long?\n						\n						\n							\n								 Reload document							\n							|\n							\n								 Open in new tab							\n					 \n				\n			\n		Download [100.86 KB]  \n			\n				\n					\n						\n							\n							Loading...\n						\n					\n					\n						\n							\n							Taking too long?\n						\n						\n							\n								 Reload document							\n							|\n							\n								 Open in new tab							\n					 \n				\n			\n		Download [128.52 KB]  \n			\n				\n					\n						\n							\n							Loading...\n						\n					\n					\n						\n							\n							Taking too long?\n						\n						\n							\n								 Reload document							\n							|\n							\n								 Open in new tab							\n					 \n				\n			\n		Download [319.03 KB]
URL:https://constructionpublicinfo.ua.edu/bid/pre-bid-gorgas-library-core-support-phase-ii-reno-add-013-21-2678/
LOCATION:Procurement Services Annex – 405 Cahaba Circle\, Tuscaloosa\, AL 35404\, 405 Cahaba Circle\, Alabama\, AL\, 35404\, United States
CATEGORIES:Pre-Bid Conference
END:VEVENT
BEGIN:VEVENT
DTSTART;TZID=America/Chicago:20220621T140000
DTEND;TZID=America/Chicago:20220621T150000
DTSTAMP:20260420T064317
CREATED:20220523T144156Z
LAST-MODIFIED:20220523T144156Z
UID:8435-1655820000-1655823600@constructionpublicinfo.ua.edu
SUMMARY:Bid Opening:  Oliver-Barnard Hall Renovation - Elevator Package #027-22-2809
DESCRIPTION:Loading...\n						\n					\n					\n						\n							\n							Taking too long?\n						\n						\n							\n								 Reload document							\n							|\n							\n								 Open in new tab							\n					 \n				\n			\n		Download [100.18 KB]  \n			\n				\n					\n						\n							\n							Loading...\n						\n					\n					\n						\n							\n							Taking too long?\n						\n						\n							\n								 Reload document							\n							|\n							\n								 Open in new tab							\n					 \n				\n			\n		Download [129.09 KB]  \n			\n				\n					\n						\n							\n							Loading...\n						\n					\n					\n						\n							\n							Taking too long?\n						\n						\n							\n								 Reload document							\n							|\n							\n								 Open in new tab							\n					 \n				\n			\n		Download [318.34 KB]
URL:https://constructionpublicinfo.ua.edu/bid/bid-opening-oliver-barnard-hall-renovation-elevator-package-027-22-2809/
LOCATION:Procurement Services Annex – 405 Cahaba Circle\, Tuscaloosa\, AL 35404\, 405 Cahaba Circle\, Alabama\, AL\, 35404\, United States
CATEGORIES:Bid Openings
END:VEVENT
BEGIN:VEVENT
DTSTART;TZID=America/Chicago:20220623T100000
DTEND;TZID=America/Chicago:20220623T110000
DTSTAMP:20260420T064317
CREATED:20220516T173724Z
LAST-MODIFIED:20220516T173724Z
UID:8416-1655978400-1655982000@constructionpublicinfo.ua.edu
SUMMARY:Pre-Bid:  Flint River Drive Parking Lot Improvements #TRN-22-2935
DESCRIPTION:Loading...\n						\n					\n					\n						\n							\n							Taking too long?\n						\n						\n							\n								 Reload document							\n							|\n							\n								 Open in new tab							\n					 \n				\n			\n		Download [97.77 KB]  \n			\n				\n					\n						\n							\n							Loading...\n						\n					\n					\n						\n							\n							Taking too long?\n						\n						\n							\n								 Reload document							\n							|\n							\n								 Open in new tab							\n					 \n				\n			\n		Download [135.66 KB]  \n			\n				\n					\n						\n							\n							Loading...\n						\n					\n					\n						\n							\n							Taking too long?\n						\n						\n							\n								 Reload document							\n							|\n							\n								 Open in new tab							\n					 \n				\n			\n		Download [324.83 KB]
URL:https://constructionpublicinfo.ua.edu/bid/pre-bid-flint-river-drive-parking-lot-improvements-trn-22-2935/
LOCATION:Procurement Services Annex – 405 Cahaba Circle\, Tuscaloosa\, AL 35404\, 405 Cahaba Circle\, Alabama\, AL\, 35404\, United States
CATEGORIES:Pre-Bid Conference
ORGANIZER;CN="Shawn Templeton":MAILTO:smtempleton@ua.edu
END:VEVENT
BEGIN:VEVENT
DTSTART;TZID=America/Chicago:20220623T110000
DTEND;TZID=America/Chicago:20220623T120000
DTSTAMP:20260420T064317
CREATED:20220614T131928Z
LAST-MODIFIED:20220614T131928Z
UID:8486-1655982000-1655985600@constructionpublicinfo.ua.edu
SUMMARY:Pre-Bid:  Magnolia Deck Top Level Repairs #D780-22-2983
DESCRIPTION:Loading...\n						\n					\n					\n						\n							\n							Taking too long?\n						\n						\n							\n								 Reload document							\n							|\n							\n								 Open in new tab							\n					 \n				\n			\n		Download [71.98 KB]  \n			\n				\n					\n						\n							\n							Loading...\n						\n					\n					\n						\n							\n							Taking too long?\n						\n						\n							\n								 Reload document							\n							|\n							\n								 Open in new tab							\n					 \n				\n			\n		Download [105.11 KB]  \n			\n				\n					\n						\n							\n							Loading...\n						\n					\n					\n						\n							\n							Taking too long?\n						\n						\n							\n								 Reload document							\n							|\n							\n								 Open in new tab							\n					 \n				\n			\n		Download [232.14 KB]
URL:https://constructionpublicinfo.ua.edu/bid/pre-bid-magnolia-deck-top-level-repairs-d780-22-2983/
LOCATION:Procurement Services Annex – 405 Cahaba Circle\, Tuscaloosa\, AL 35404\, 405 Cahaba Circle\, Alabama\, AL\, 35404\, United States
CATEGORIES:Pre-Bid Conference
END:VEVENT
BEGIN:VEVENT
DTSTART;TZID=America/Chicago:20220623T140000
DTEND;TZID=America/Chicago:20220623T150000
DTSTAMP:20260420T064317
CREATED:20220516T174256Z
LAST-MODIFIED:20220516T174256Z
UID:8420-1655992800-1655996400@constructionpublicinfo.ua.edu
SUMMARY:Bid Opening:  Ruby Tyler South Wing Renovation #1020-22-2896
DESCRIPTION:Loading...\n						\n					\n					\n						\n							\n							Taking too long?\n						\n						\n							\n								 Reload document							\n							|\n							\n								 Open in new tab							\n					 \n				\n			\n		Download [99.43 KB]  \n			\n				\n					\n						\n							\n							Loading...\n						\n					\n					\n						\n							\n							Taking too long?\n						\n						\n							\n								 Reload document							\n							|\n							\n								 Open in new tab							\n					 \n				\n			\n		Download [127.39 KB]  \n			\n				\n					\n						\n							\n							Loading...\n						\n					\n					\n						\n							\n							Taking too long?\n						\n						\n							\n								 Reload document							\n							|\n							\n								 Open in new tab							\n					 \n				\n			\n		Download [316.34 KB]
URL:https://constructionpublicinfo.ua.edu/bid/bid-opening-ruby-tyler-south-wing-renovation-1020-22-2896/
LOCATION:Procurement Services Annex – 405 Cahaba Circle\, Tuscaloosa\, AL 35404\, 405 Cahaba Circle\, Alabama\, AL\, 35404\, United States
CATEGORIES:Bid Openings
ORGANIZER;CN="Shawn Templeton":MAILTO:smtempleton@ua.edu
END:VEVENT
BEGIN:VEVENT
DTSTART;VALUE=DATE:20220627
DTEND;VALUE=DATE:20220628
DTSTAMP:20260420T064317
CREATED:20220614T174934Z
LAST-MODIFIED:20220614T175737Z
UID:8507-1656288000-1656374399@constructionpublicinfo.ua.edu
SUMMARY:RFQ: University Boulevard Drive Through Retail – PLN-22-2903 – Due 6/27/2022 by 5:00pm
DESCRIPTION:Loading...\n						\n					\n					\n						\n							\n							Taking too long?\n						\n						\n							\n								 Reload document							\n							|\n							\n								 Open in new tab							\n					 \n				\n			\n		Download [130.99 KB]  \n			\n				\n					\n						\n							\n							Loading...\n						\n					\n					\n						\n							\n							Taking too long?\n						\n						\n							\n								 Reload document							\n							|\n							\n								 Open in new tab							\n					 \n				\n			\n		Download [212.33 KB]  \n			\n				\n					\n						\n							\n							Loading...\n						\n					\n					\n						\n							\n							Taking too long?\n						\n						\n							\n								 Reload document							\n							|\n							\n								 Open in new tab							\n					 \n				\n			\n		Download [263.63 KB]
URL:https://constructionpublicinfo.ua.edu/bid/rfq-university-boulevard-drive-through-retail-pln-22-2903-due-6-27-2022-by-500pm/
LOCATION:AL
CATEGORIES:RFQs
END:VEVENT
BEGIN:VEVENT
DTSTART;VALUE=DATE:20220628
DTEND;VALUE=DATE:20220629
DTSTAMP:20260420T064317
CREATED:20220614T132944Z
LAST-MODIFIED:20220614T132944Z
UID:8495-1656374400-1656460799@constructionpublicinfo.ua.edu
SUMMARY:Pre-Qualifications:  Student Services Addition Boiler Enhancement Package #021-22-2990
DESCRIPTION:Loading...\n						\n					\n					\n						\n							\n							Taking too long?\n						\n						\n							\n								 Reload document							\n							|\n							\n								 Open in new tab							\n					 \n				\n			\n		Download [124.15 KB]  \n			\n				\n					\n						\n							\n							Loading...\n						\n					\n					\n						\n							\n							Taking too long?\n						\n						\n							\n								 Reload document							\n							|\n							\n								 Open in new tab							\n					 \n				\n			\n		Download [112.08 KB]  \n			\n				\n					\n						\n							\n							Loading...\n						\n					\n					\n						\n							\n							Taking too long?\n						\n						\n							\n								 Reload document							\n							|\n							\n								 Open in new tab							\n					 \n				\n			\n		Download [123.59 KB]
URL:https://constructionpublicinfo.ua.edu/bid/pre-qualifications-student-services-addition-boiler-enhancement-package-021-22-2990/
LOCATION:AL
CATEGORIES:Prequalifications
ORGANIZER;CN="Brittany Kyles":MAILTO:bkyles@ua.edu
END:VEVENT
BEGIN:VEVENT
DTSTART;TZID=America/Chicago:20220628T100000
DTEND;TZID=America/Chicago:20220628T110000
DTSTAMP:20260420T064317
CREATED:20220614T155938Z
LAST-MODIFIED:20220614T155938Z
UID:8502-1656410400-1656414000@constructionpublicinfo.ua.edu
SUMMARY:Pre-Bid:  Overhead to Underground Utility Conversion @ School of Nursing #UTL-22-2972
DESCRIPTION:Loading...\n						\n					\n					\n						\n							\n							Taking too long?\n						\n						\n							\n								 Reload document							\n							|\n							\n								 Open in new tab							\n					 \n				\n			\n		Download [121.35 KB]  \n			\n				\n					\n						\n							\n							Loading...\n						\n					\n					\n						\n							\n							Taking too long?\n						\n						\n							\n								 Reload document							\n							|\n							\n								 Open in new tab							\n					 \n				\n			\n		Download [131.39 KB]  \n			\n				\n					\n						\n							\n							Loading...\n						\n					\n					\n						\n							\n							Taking too long?\n						\n						\n							\n								 Reload document							\n							|\n							\n								 Open in new tab							\n					 \n				\n			\n		Download [320.14 KB]
URL:https://constructionpublicinfo.ua.edu/bid/pre-bid-overhead-to-underground-utility-conversion-school-of-nursing-utl-22-2972/
LOCATION:Procurement Services Annex – 405 Cahaba Circle\, Tuscaloosa\, AL 35404\, 405 Cahaba Circle\, Alabama\, AL\, 35404\, United States
CATEGORIES:Pre-Bid Conference
ORGANIZER;CN="Shawn Templeton":MAILTO:smtempleton@ua.edu
END:VEVENT
BEGIN:VEVENT
DTSTART;TZID=America/Chicago:20220630T140000
DTEND;TZID=America/Chicago:20220630T150000
DTSTAMP:20260420T064317
CREATED:20220614T130731Z
LAST-MODIFIED:20220614T130731Z
UID:8481-1656597600-1656601200@constructionpublicinfo.ua.edu
SUMMARY:Bid Opening:  Magnolia Deck Top Level Repairs #D780-22-2983
DESCRIPTION:Loading...\n						\n					\n					\n						\n							\n							Taking too long?\n						\n						\n							\n								 Reload document							\n							|\n							\n								 Open in new tab							\n					 \n				\n			\n		Download [71.98 KB]  \n			\n				\n					\n						\n							\n							Loading...\n						\n					\n					\n						\n							\n							Taking too long?\n						\n						\n							\n								 Reload document							\n							|\n							\n								 Open in new tab							\n					 \n				\n			\n		Download [105.11 KB]  \n			\n				\n					\n						\n							\n							Loading...\n						\n					\n					\n						\n							\n							Taking too long?\n						\n						\n							\n								 Reload document							\n							|\n							\n								 Open in new tab							\n					 \n				\n			\n		Download [232.14 KB]
URL:https://constructionpublicinfo.ua.edu/bid/bid-opening-magnolia-deck-top-level-repairs-d780-22-2983/
LOCATION:Procurement Services Annex – 405 Cahaba Circle\, Tuscaloosa\, AL 35404\, 405 Cahaba Circle\, Alabama\, AL\, 35404\, United States
CATEGORIES:Bid Openings
END:VEVENT
END:VCALENDAR